BEGIN:VCALENDAR
VERSION:2.0
PRODID:-//Default Site Template - ECPv6.0.2//NONSGML v1.0//EN
CALSCALE:GREGORIAN
METHOD:PUBLISH
X-WR-CALNAME:Default Site Template
X-ORIGINAL-URL:https://dev.medinaentertainment.com
X-WR-CALDESC:Events for Default Site Template
REFRESH-INTERVAL;VALUE=DURATION:PT1H
X-Robots-Tag:noindex
X-PUBLISHED-TTL:PT1H
BEGIN:VTIMEZONE
TZID:UTC
BEGIN:STANDARD
TZOFFSETFROM:+0000
TZOFFSETTO:+0000
TZNAME:UTC
DTSTART:20220101T000000
END:STANDARD
TZID:America/Chicago
BEGIN:DAYLIGHT
TZOFFSETFROM:-0600
TZOFFSETTO:-0500
TZNAME:CDT
DTSTART:20220313T080000
END:DAYLIGHT
BEGIN:STANDARD
TZOFFSETFROM:-0500
TZOFFSETTO:-0600
TZNAME:CST
DTSTART:20221106T070000
END:STANDARD
END:VTIMEZONE
BEGIN:VEVENT
DTSTART;TZID=UTC:20220614T080000
DTEND;TZID=UTC:20220614T170000
DTSTAMP:20260423T221733
CREATED:20220103T101200Z
LAST-MODIFIED:20221026T190233Z
UID:10008913-1655193600-1655226000@dev.medinaentertainment.com
SUMMARY:Medina Hosts "Come Dance with Us" Dance Classes
DESCRIPTION:Medina Hosts “Come Dance with Us” Dance Classes\n\n\n\n\n\n\n\n\n\n\n\n\nJoin the Email Rewards ClubGet exclusive specials\, discounts\, coupons\, and early promotions on tickets by joining our email rewards club! No minimum spend\, no generating points\, no extra work – just sign up for our emails\, and we’ll send you the savings. \n Join Our Email Rewards Club
URL:https://dev.medinaentertainment.com/event/medina-hosts-come-dance-with-us-dance-classes/2022-06-14/
ATTACH;FMTTYPE=image/jpeg:https://dev.medinaentertainment.com/wp-content/uploads/2022/01/SAT-Tuesday-dance-class-schedule-20220924-2.jpg
END:VEVENT
BEGIN:VEVENT
DTSTART;TZID=America/Chicago:20220614T190000
DTEND;TZID=America/Chicago:20220614T220000
DTSTAMP:20260423T221733
CREATED:20220506T130418Z
LAST-MODIFIED:20220506T130418Z
UID:10008232-1655233200-1655244000@dev.medinaentertainment.com
SUMMARY:Medina Hosts - PURSE BINGO!
DESCRIPTION:
URL:https://dev.medinaentertainment.com/event/medina-hosts-bingo-2022-06-14/
LOCATION:Homepage
END:VEVENT
END:VCALENDAR