BEGIN:VCALENDAR
VERSION:2.0
PRODID:-//Default Site Template - ECPv6.0.2//NONSGML v1.0//EN
CALSCALE:GREGORIAN
METHOD:PUBLISH
X-WR-CALNAME:Default Site Template
X-ORIGINAL-URL:https://dev.medinaentertainment.com
X-WR-CALDESC:Events for Default Site Template
REFRESH-INTERVAL;VALUE=DURATION:PT1H
X-Robots-Tag:noindex
X-PUBLISHED-TTL:PT1H
BEGIN:VTIMEZONE
TZID:UTC
BEGIN:STANDARD
TZOFFSETFROM:+0000
TZOFFSETTO:+0000
TZNAME:UTC
DTSTART:20220101T000000
END:STANDARD
TZID:America/Chicago
BEGIN:DAYLIGHT
TZOFFSETFROM:-0600
TZOFFSETTO:-0500
TZNAME:CDT
DTSTART:20220313T080000
END:DAYLIGHT
BEGIN:STANDARD
TZOFFSETFROM:-0500
TZOFFSETTO:-0600
TZNAME:CST
DTSTART:20221106T070000
END:STANDARD
END:VTIMEZONE
BEGIN:VEVENT
DTSTART;TZID=UTC:20220726T080000
DTEND;TZID=UTC:20220726T170000
DTSTAMP:20260424T021314
CREATED:20220103T101200Z
LAST-MODIFIED:20221026T190233Z
UID:10008919-1658822400-1658854800@dev.medinaentertainment.com
SUMMARY:Medina Hosts "Come Dance with Us" Dance Classes
DESCRIPTION:Medina Hosts “Come Dance with Us” Dance Classes\n\n\n\n\n\n\n\n\n\n\n\n\nJoin the Email Rewards ClubGet exclusive specials\, discounts\, coupons\, and early promotions on tickets by joining our email rewards club! No minimum spend\, no generating points\, no extra work – just sign up for our emails\, and we’ll send you the savings. \n Join Our Email Rewards Club
URL:https://dev.medinaentertainment.com/event/medina-hosts-come-dance-with-us-dance-classes/2022-07-26/
ATTACH;FMTTYPE=image/jpeg:https://dev.medinaentertainment.com/wp-content/uploads/2022/01/SAT-Tuesday-dance-class-schedule-20220924-2.jpg
END:VEVENT
BEGIN:VEVENT
DTSTART;TZID=America/Chicago:20220726T190000
DTEND;TZID=America/Chicago:20220726T220000
DTSTAMP:20260424T021314
CREATED:20220720T202949Z
LAST-MODIFIED:20220720T202949Z
UID:10008259-1658862000-1658872800@dev.medinaentertainment.com
SUMMARY:Medina Hosts: Purse/Man Cave BINGO!
DESCRIPTION:
URL:https://dev.medinaentertainment.com/event/medina-hosts-purse-man-cave-bingo/
LOCATION:Homepage
END:VEVENT
BEGIN:VEVENT
DTSTART;TZID=America/Chicago:20220726T193000
DTEND;TZID=America/Chicago:20220726T210000
DTSTAMP:20260424T021314
CREATED:20220103T101223Z
LAST-MODIFIED:20220103T101223Z
UID:10007736-1658863800-1658869200@dev.medinaentertainment.com
SUMMARY:CANCELLED: Medina Hosts S.A.T. Dance Classes
DESCRIPTION:S.A.T. Dance Classes \n  \nS.A.T. members must show their membership card when attending S.A.T. or S.I.G. (Special Interest Group) functions. Non-members and guests may attend S.I.G. dance class without being a S.A.T. member. \n  \nS.A.T. (Singles All Together Dance Classes) lesson at the Medina Ballroom 500 hey 55\, Medina\, MN in the Event Rooms or Ballroom. Look for Red Jeep in front of door upstairs if in ballroom. \nDance Classes for Singles. Married Couples Welcome. Learn to partner dance. Come and have fun and meet new friends. \n  \nCost is $10 per week. Plenty of free parking. \n  \nJanuary: West Coast Swing \nFebruary and March: East Coast Swing \nApril through June: Waltz \nJuly and August: Foxtrot \nSeptember and October: ChaCha \nNovember and December: Tango \n  \nFor information\, call the S.I.G. Leader: Carol Carlson 952-334-9793 \nDance Instructor: Larry Ablin 612-599-7856 \nOnline: comedancewithus.com
URL:https://dev.medinaentertainment.com/event/medina-hosts-s-a-t-dance-classes-2022-07-26/
LOCATION:Homepage
END:VEVENT
END:VCALENDAR