BEGIN:VCALENDAR
VERSION:2.0
PRODID:-//Default Site Template - ECPv6.0.2//NONSGML v1.0//EN
CALSCALE:GREGORIAN
METHOD:PUBLISH
X-ORIGINAL-URL:https://dev.medinaentertainment.com
X-WR-CALDESC:Events for Default Site Template
REFRESH-INTERVAL;VALUE=DURATION:PT1H
X-Robots-Tag:noindex
X-PUBLISHED-TTL:PT1H
BEGIN:VTIMEZONE
TZID:America/Chicago
BEGIN:DAYLIGHT
TZOFFSETFROM:-0600
TZOFFSETTO:-0500
TZNAME:CDT
DTSTART:20220313T080000
END:DAYLIGHT
BEGIN:STANDARD
TZOFFSETFROM:-0500
TZOFFSETTO:-0600
TZNAME:CST
DTSTART:20221106T070000
END:STANDARD
END:VTIMEZONE
BEGIN:VEVENT
DTSTART;TZID=America/Chicago:20221001T190000
DTEND;TZID=America/Chicago:20221001T230000
DTSTAMP:20260423T210058
CREATED:20220909T121718Z
LAST-MODIFIED:20220909T121718Z
UID:10008484-1664650800-1664665200@dev.medinaentertainment.com
SUMMARY:Rockin' Hollywoods
DESCRIPTION:
URL:https://dev.medinaentertainment.com/event/rockin-hollywoods-21/
LOCATION:Homepage
END:VEVENT
END:VCALENDAR