BEGIN:VCALENDAR
VERSION:2.0
PRODID:-//Default Site Template - ECPv6.0.2//NONSGML v1.0//EN
CALSCALE:GREGORIAN
METHOD:PUBLISH
X-ORIGINAL-URL:https://dev.medinaentertainment.com
X-WR-CALDESC:Events for Default Site Template
REFRESH-INTERVAL;VALUE=DURATION:PT1H
X-Robots-Tag:noindex
X-PUBLISHED-TTL:PT1H
BEGIN:VTIMEZONE
TZID:UTC
BEGIN:STANDARD
TZOFFSETFROM:+0000
TZOFFSETTO:+0000
TZNAME:UTC
DTSTART:20220101T000000
END:STANDARD
TZID:America/Chicago
BEGIN:DAYLIGHT
TZOFFSETFROM:-0600
TZOFFSETTO:-0500
TZNAME:CDT
DTSTART:20220313T080000
END:DAYLIGHT
BEGIN:STANDARD
TZOFFSETFROM:-0500
TZOFFSETTO:-0600
TZNAME:CST
DTSTART:20221106T070000
END:STANDARD
END:VTIMEZONE
BEGIN:VEVENT
DTSTART;TZID=UTC:20221007T080000
DTEND;TZID=UTC:20221007T170000
DTSTAMP:20260423T143127
CREATED:20211227T133200Z
LAST-MODIFIED:20221026T184211Z
UID:10008868-1665129600-1665162000@dev.medinaentertainment.com
SUMMARY:Medina Hosts Psychic Ruth Lordan
DESCRIPTION:Medina Hosts Psychic Ruth Lordan\n\n\n\n\n\n\n\n\n\n\n\n\nJoin the Email Rewards ClubGet exclusive specials\, discounts\, coupons\, and early promotions on tickets by joining our email rewards club! No minimum spend\, no generating points\, no extra work – just sign up for our emails\, and we’ll send you the savings. \n Join Our Email Rewards Club
URL:https://dev.medinaentertainment.com/event/medina-hosts-psychic-ruth-lordan/2022-10-07/
ATTACH;FMTTYPE=image/png:https://dev.medinaentertainment.com/wp-content/uploads/2021/01/Master-Psychic-Consultant.png
END:VEVENT
BEGIN:VEVENT
DTSTART;TZID=America/Chicago:20221007T193000
DTEND;TZID=America/Chicago:20221007T233000
DTSTAMP:20260423T143127
CREATED:20210519T085212Z
LAST-MODIFIED:20210519T085212Z
UID:10005011-1665171000-1665185400@dev.medinaentertainment.com
SUMMARY:Killer Queen (no guest)
DESCRIPTION:
URL:https://dev.medinaentertainment.com/event/killer-queen-no-guest/
LOCATION:Homepage
END:VEVENT
END:VCALENDAR