BEGIN:VCALENDAR
VERSION:2.0
PRODID:-//Default Site Template - ECPv6.0.2//NONSGML v1.0//EN
CALSCALE:GREGORIAN
METHOD:PUBLISH
X-ORIGINAL-URL:https://dev.medinaentertainment.com
X-WR-CALDESC:Events for Default Site Template
REFRESH-INTERVAL;VALUE=DURATION:PT1H
X-Robots-Tag:noindex
X-PUBLISHED-TTL:PT1H
BEGIN:VTIMEZONE
TZID:America/Chicago
BEGIN:DAYLIGHT
TZOFFSETFROM:-0600
TZOFFSETTO:-0500
TZNAME:CDT
DTSTART:20220313T080000
END:DAYLIGHT
BEGIN:STANDARD
TZOFFSETFROM:-0500
TZOFFSETTO:-0600
TZNAME:CST
DTSTART:20221106T070000
END:STANDARD
END:VTIMEZONE
BEGIN:VEVENT
DTSTART;TZID=America/Chicago:20221105T203000
DTEND;TZID=America/Chicago:20221105T233000
DTSTAMP:20260423T223240
CREATED:20220511T135257Z
LAST-MODIFIED:20221026T152446Z
UID:10008238-1667680200-1667691000@dev.medinaentertainment.com
SUMMARY:Little River Band with guest The 70's Magic Sunshine Band
DESCRIPTION:LITTLE RIVER BAND\n\n\n\nwith guest The 70s Magic Sunshine Band \nSATURDAY\, NOVEMBER 5Doors – 7:30pm // Show – 8:30pmThe event is 21+ \nAdv. General $49\, Silver $58 & Gold $64(Price includes Facility Fee\, Does Not Include Taxes) \nLittle River Band Website \nThe 70’s Magic Sunshine Band Website \n\n\n\nBuy Tickets \n\n\n\n\n\n\nThe Eagles founding member\, the late Glenn Frey\, knew what he was saying when he dubbed Little River Band “the best singing band in the world.” The current lineup of LRB takes that accolade to heart each and every time they perform. Through the ‘70’s and ‘80’s\, LRB enjoyed huge chart success with multi-platinum albums and chart topping hits like: “Reminiscing\,” “Cool Change\,” “Lonesome Loser\,” “The Night Owls\,” “Take It Easy On Me\,” “Help Is on Its Way\,” “Happy Anniversary\,” “We Two\,” “Man On Your Mind\,” “The Other Guy\,” and “It’s A Long Way There.” Worldwide album and CD sales now top 30 million. And in 1982 LRB set a record for having had Top 10 hits for 6 consecutive years – In fact\, they were the very first band to achieve that remarkable plateau! Bringing their vocal and musical energy along with great arrangements to their timeless classic hits\, each show creates new memories for the audience. The band enjoys watching their fans fall in love with the songs all over again as they are swept up by the show’s powerful performance and the volume of hits from  LRB’s history. With over 100 dates scheduled or being scheduled for their 2021-22 tour\, Little River Band is hotter than ever – selling out shows and making music from coast to coast – continuing their legacy of being “the best singing band in the world.” https://reallittleriverband.com \nThe 70’s Magic Sunshine Band is a high-energy live concert experience that plays the biggest top 40 AM radio hits from the 1970s\, tailor-made to fill the dance floor! The 70’s Magic Sunshine Band brings you back to the era of 8-track stereos\, polyester and belle bottoms!  \n\n\n\n\n\n\n\n\n\n\n\n\n\n\n*EACH guest must present a valid ID for admittance. \n*Tickets are NON-REFUNDABLE.  \nFor GOLD and SILVER seating\, you are assigned to a specific table\, but not a specific seat. Seats at that table are on a FIRST COME\, FIRST SERVED basis. No standing will be allowed in the Gold or Silver sections. \nFor GENERAL seating – tables and chairs are located on the outside of dance floor. There are NO assigned seats. Each table and chair are on a FIRST COME\, FIRST SERVED basis. \nThis show is 21 years and older. Tickets are $5 more day of show. Ticket price includes a $5 facility charge\, does not include sales tax and service fees. \nFree parking! \nFor questions\, email us at medina@medinaentertainment.com or call us at the Ticket Office 763-478-6661. All dates\, prices\, times\, and bands are subject to change. \nStay at the Medina Inn! 763-478-9770 \n\n\n\n\n\n\n\n\n\nJoin the Email Rewards ClubGet exclusive specials\, discounts\, coupons\, and early promotions on tickets by joining our email rewards club! No minimum spend\, no generating points\, no extra work – just sign up for our emails\, and we’ll send you the savings. \n Join Our Email Rewards Club
URL:https://dev.medinaentertainment.com/event/little-river-band-with-guest-the-70s-magic-sunshine-band-3/
LOCATION:Homepage
ATTACH;FMTTYPE=image/jpeg:https://dev.medinaentertainment.com/wp-content/uploads/2022/05/221105-LittleRiverBand-433x431-MedinaWeb.jpg
END:VEVENT
END:VCALENDAR