BEGIN:VCALENDAR
VERSION:2.0
PRODID:-//Default Site Template - ECPv6.0.2//NONSGML v1.0//EN
CALSCALE:GREGORIAN
METHOD:PUBLISH
X-ORIGINAL-URL:https://dev.medinaentertainment.com
X-WR-CALDESC:Events for Default Site Template
REFRESH-INTERVAL;VALUE=DURATION:PT1H
X-Robots-Tag:noindex
X-PUBLISHED-TTL:PT1H
BEGIN:VTIMEZONE
TZID:UTC
BEGIN:STANDARD
TZOFFSETFROM:+0000
TZOFFSETTO:+0000
TZNAME:UTC
DTSTART:20220101T000000
END:STANDARD
TZID:America/Chicago
BEGIN:DAYLIGHT
TZOFFSETFROM:-0600
TZOFFSETTO:-0500
TZNAME:CDT
DTSTART:20220313T080000
END:DAYLIGHT
BEGIN:STANDARD
TZOFFSETFROM:-0500
TZOFFSETTO:-0600
TZNAME:CST
DTSTART:20221106T070000
END:STANDARD
END:VTIMEZONE
BEGIN:VEVENT
DTSTART;TZID=UTC:20221111T080000
DTEND;TZID=UTC:20221111T170000
DTSTAMP:20260423T114345
CREATED:20211227T133200Z
LAST-MODIFIED:20221026T184211Z
UID:10008878-1668153600-1668186000@dev.medinaentertainment.com
SUMMARY:Medina Hosts Psychic Ruth Lordan
DESCRIPTION:Medina Hosts Psychic Ruth Lordan\n\n\n\n\n\n\n\n\n\n\n\n\nJoin the Email Rewards ClubGet exclusive specials\, discounts\, coupons\, and early promotions on tickets by joining our email rewards club! No minimum spend\, no generating points\, no extra work – just sign up for our emails\, and we’ll send you the savings. \n Join Our Email Rewards Club
URL:https://dev.medinaentertainment.com/event/medina-hosts-psychic-ruth-lordan/2022-11-11/
ATTACH;FMTTYPE=image/png:https://dev.medinaentertainment.com/wp-content/uploads/2021/01/Master-Psychic-Consultant.png
END:VEVENT
BEGIN:VEVENT
DTSTART;TZID=America/Chicago:20221111T190000
DTEND;TZID=America/Chicago:20221111T233000
DTSTAMP:20260423T114345
CREATED:20220720T120530Z
LAST-MODIFIED:20221026T172427Z
UID:10008257-1668193200-1668209400@dev.medinaentertainment.com
SUMMARY:Songs of the South Shane Martin's Alabama Tribute with guest Shalo Lee
DESCRIPTION:SONGS OF THE SOUTH Shane Martin’s Alabama Tribute\n\n\n\nwith guest Shalo Lee \nFRIDAY\, NOVEMBER 11Doors – 7:00pm // Show – 8:00pmThe event is 21+ \nAdv. General $17\, Silver $22 & Gold $27(Prices Include Facility Fee\, Does Not Include Taxes) \nShane Martin’s Website \n\n\n\nBuy Tickets \n\n\n\n\n\n\n\n\n\n\n\n\n\n*EACH guest must present a valid ID for admittance. \n*Tickets are not refundable.  \nFor GOLD and SILVER seating\, you are assigned to a specific table\, but not a specific seat. Seats at that table are on a FIRST COME\, FIRST SERVED basis. No standing will be allowed in the Gold or Silver sections. \nFor GENERAL seating – tables and chairs are located on the outside of dance floor. There are NO assigned seats. Each table and chair are on a FIRST COME\, FIRST SERVED basis. \nThis show is 21 years and older. Tickets are $5 more day of show. Ticket price includes a $2 facility charge\, does not include sales tax and service fees. \nFree parking! \nFor questions\, email us at medina@medinaentertainment.com or call us at the Ticket Office 763-478-6661. All dates\, prices\, times\, and bands are subject to change. \nStay at the Medina Inn! 763-478-9770 \n\n\n\n\n\n\n\n\n\nJoin the Email Rewards ClubGet exclusive specials\, discounts\, coupons\, and early promotions on tickets by joining our email rewards club! No minimum spend\, no generating points\, no extra work – just sign up for our emails\, and we’ll send you the savings. \n Join Our Email Rewards Club
URL:https://dev.medinaentertainment.com/event/songs-of-the-south-shane-martins-alabama-tribute-with-guest-shalo-lee/2022-11-11/
LOCATION:Homepage
ATTACH;FMTTYPE=image/jpeg:https://dev.medinaentertainment.com/wp-content/uploads/2022/07/221111-ShaneMartin-Alabama-433x431-MedinaWeb.jpg
END:VEVENT
END:VCALENDAR