BEGIN:VCALENDAR
VERSION:2.0
PRODID:-//Default Site Template - ECPv6.0.2//NONSGML v1.0//EN
CALSCALE:GREGORIAN
METHOD:PUBLISH
X-WR-CALNAME:Default Site Template
X-ORIGINAL-URL:https://dev.medinaentertainment.com
X-WR-CALDESC:Events for Default Site Template
REFRESH-INTERVAL;VALUE=DURATION:PT1H
X-Robots-Tag:noindex
X-PUBLISHED-TTL:PT1H
BEGIN:VTIMEZONE
TZID:America/Chicago
BEGIN:DAYLIGHT
TZOFFSETFROM:-0600
TZOFFSETTO:-0500
TZNAME:CDT
DTSTART:20220313T080000
END:DAYLIGHT
BEGIN:STANDARD
TZOFFSETFROM:-0500
TZOFFSETTO:-0600
TZNAME:CST
DTSTART:20221106T070000
END:STANDARD
END:VTIMEZONE
BEGIN:VEVENT
DTSTART;TZID=America/Chicago:20221112T190000
DTEND;TZID=America/Chicago:20221112T233000
DTSTAMP:20260423T113833
CREATED:20220615T204412Z
LAST-MODIFIED:20221026T163012Z
UID:10008253-1668279600-1668295800@dev.medinaentertainment.com
SUMMARY:TRILOGY The Ultimate Tribute to The Doors\, Led Zeppelin and Pink Floyd (no guest)
DESCRIPTION:Trilogy The Ultimate Tribute To The Doors\, Led Zeppelin and Pink Floyd\n\n\n\n(no guest) \nSATURDAY\, NOVEMBER 12Doors – 7:00pm // Show – 8:00pmThe event is 21+ \nAdv. General $25\, Silver $30 & Gold $35(Prices Include Facility Fee\, Does Not Include Taxes) \nTrilogy’s Website \n\n\n\nBuy Tickets \n\n\n\n\n\n\n\n\n\n\n\n\n\n*EACH guest must present a valid ID for admittance. \n*Tickets are NON-REFUNDABLE.  \nFor GOLD and SILVER seating\, you are assigned to a specific table\, but not a specific seat. Seats at that table are on a FIRST COME\, FIRST SERVED basis. No standing will be allowed in the Gold or Silver sections. \nFor GENERAL seating – tables and chairs are located on the outside of dance floor. There are NO assigned seats. Each table and chair are on a FIRST COME\, FIRST SERVED basis. \nThis show is 21 years and older. Tickets are $5 more day of show. Ticket price includes a $2 facility charge\, does not include sales tax and service fees. \nFree parking! \nFor questions\, email us at medina@medinaentertainment.com or call us at the Ticket Office 763-478-6661. All dates\, prices\, times\, and bands are subject to change. \nStay at the Medina Inn! 763-478-9770 \n\n\n\n\n\n\n\n\n\nJoin the Email Rewards ClubGet exclusive specials\, discounts\, coupons\, and early promotions on tickets by joining our email rewards club! No minimum spend\, no generating points\, no extra work – just sign up for our emails\, and we’ll send you the savings. \n Join Our Email Rewards Club
URL:https://dev.medinaentertainment.com/event/trilogy-the-ultimate-tribute-to-the-doors-led-zeppelin-and-pink-floyd-no-guest/
LOCATION:Homepage
ATTACH;FMTTYPE=image/jpeg:https://dev.medinaentertainment.com/wp-content/uploads/2022/06/221112-Trilogy-433x431-MedinaWeb.jpg
END:VEVENT
END:VCALENDAR