BEGIN:VCALENDAR
VERSION:2.0
PRODID:-//Default Site Template - ECPv6.0.2//NONSGML v1.0//EN
CALSCALE:GREGORIAN
METHOD:PUBLISH
X-WR-CALNAME:Default Site Template
X-ORIGINAL-URL:https://dev.medinaentertainment.com
X-WR-CALDESC:Events for Default Site Template
REFRESH-INTERVAL;VALUE=DURATION:PT1H
X-Robots-Tag:noindex
X-PUBLISHED-TTL:PT1H
BEGIN:VTIMEZONE
TZID:America/Chicago
BEGIN:DAYLIGHT
TZOFFSETFROM:-0600
TZOFFSETTO:-0500
TZNAME:CDT
DTSTART:20220313T080000
END:DAYLIGHT
BEGIN:STANDARD
TZOFFSETFROM:-0500
TZOFFSETTO:-0600
TZNAME:CST
DTSTART:20221106T070000
END:STANDARD
END:VTIMEZONE
BEGIN:VEVENT
DTSTART;TZID=America/Chicago:20221123T180000
DTEND;TZID=America/Chicago:20221123T210000
DTSTAMP:20260423T113722
CREATED:20220912T221441Z
LAST-MODIFIED:20221026T164705Z
UID:10008485-1669226400-1669237200@dev.medinaentertainment.com
SUMMARY:The Jorgensen's
DESCRIPTION:THE JORGENSEN’S\n\n\n\nRobert’s Bar \nWEDNESDAY\, NOVEMBER 236pm – 9pm \nFREE! \n\n\n\n\n\n\n\n\n\n\n\n\nJoin the Email Rewards ClubGet exclusive specials\, discounts\, coupons\, and early promotions on tickets by joining our email rewards club! No minimum spend\, no generating points\, no extra work – just sign up for our emails\, and we’ll send you the savings. \n Join Our Email Rewards Club
URL:https://dev.medinaentertainment.com/event/the-jorgensens-2/
LOCATION:Homepage
ATTACH;FMTTYPE=image/png:https://dev.medinaentertainment.com/wp-content/uploads/2021/03/Jorgensens-Website-Slider.png
END:VEVENT
END:VCALENDAR