BEGIN:VCALENDAR
VERSION:2.0
PRODID:-//Default Site Template - ECPv6.0.2//NONSGML v1.0//EN
CALSCALE:GREGORIAN
METHOD:PUBLISH
X-ORIGINAL-URL:https://dev.medinaentertainment.com
X-WR-CALDESC:Events for Default Site Template
REFRESH-INTERVAL;VALUE=DURATION:PT1H
X-Robots-Tag:noindex
X-PUBLISHED-TTL:PT1H
BEGIN:VTIMEZONE
TZID:UTC
BEGIN:STANDARD
TZOFFSETFROM:+0000
TZOFFSETTO:+0000
TZNAME:UTC
DTSTART:20220101T000000
END:STANDARD
TZID:America/Chicago
BEGIN:DAYLIGHT
TZOFFSETFROM:-0600
TZOFFSETTO:-0500
TZNAME:CDT
DTSTART:20220313T080000
END:DAYLIGHT
BEGIN:STANDARD
TZOFFSETFROM:-0500
TZOFFSETTO:-0600
TZNAME:CST
DTSTART:20221106T070000
END:STANDARD
END:VTIMEZONE
BEGIN:VEVENT
DTSTART;TZID=UTC:20220301T080000
DTEND;TZID=UTC:20220301T170000
DTSTAMP:20260424T214711
CREATED:20220103T101200Z
LAST-MODIFIED:20221026T190233Z
UID:10008898-1646121600-1646154000@dev.medinaentertainment.com
SUMMARY:Medina Hosts "Come Dance with Us" Dance Classes
DESCRIPTION:Medina Hosts “Come Dance with Us” Dance Classes\n\n\n\n\n\n\n\n\n\n\n\n\nJoin the Email Rewards ClubGet exclusive specials\, discounts\, coupons\, and early promotions on tickets by joining our email rewards club! No minimum spend\, no generating points\, no extra work – just sign up for our emails\, and we’ll send you the savings. \n Join Our Email Rewards Club
URL:https://dev.medinaentertainment.com/event/medina-hosts-come-dance-with-us-dance-classes/2022-03-01/
ATTACH;FMTTYPE=image/jpeg:https://dev.medinaentertainment.com/wp-content/uploads/2022/01/SAT-Tuesday-dance-class-schedule-20220924-2.jpg
END:VEVENT
BEGIN:VEVENT
DTSTART;TZID=UTC:20220303T080000
DTEND;TZID=UTC:20220303T170000
DTSTAMP:20260424T214711
CREATED:20211227T133200Z
LAST-MODIFIED:20221026T184211Z
UID:10008805-1646294400-1646326800@dev.medinaentertainment.com
SUMMARY:Medina Hosts Psychic Ruth Lordan
DESCRIPTION:Medina Hosts Psychic Ruth Lordan\n\n\n\n\n\n\n\n\n\n\n\n\nJoin the Email Rewards ClubGet exclusive specials\, discounts\, coupons\, and early promotions on tickets by joining our email rewards club! No minimum spend\, no generating points\, no extra work – just sign up for our emails\, and we’ll send you the savings. \n Join Our Email Rewards Club
URL:https://dev.medinaentertainment.com/event/medina-hosts-psychic-ruth-lordan/2022-03-03/
ATTACH;FMTTYPE=image/png:https://dev.medinaentertainment.com/wp-content/uploads/2021/01/Master-Psychic-Consultant.png
END:VEVENT
BEGIN:VEVENT
DTSTART;TZID=UTC:20220304T080000
DTEND;TZID=UTC:20220304T170000
DTSTAMP:20260424T214711
CREATED:20211227T133200Z
LAST-MODIFIED:20221026T184211Z
UID:10008806-1646380800-1646413200@dev.medinaentertainment.com
SUMMARY:Medina Hosts Psychic Ruth Lordan
DESCRIPTION:Medina Hosts Psychic Ruth Lordan\n\n\n\n\n\n\n\n\n\n\n\n\nJoin the Email Rewards ClubGet exclusive specials\, discounts\, coupons\, and early promotions on tickets by joining our email rewards club! No minimum spend\, no generating points\, no extra work – just sign up for our emails\, and we’ll send you the savings. \n Join Our Email Rewards Club
URL:https://dev.medinaentertainment.com/event/medina-hosts-psychic-ruth-lordan/2022-03-04/
ATTACH;FMTTYPE=image/png:https://dev.medinaentertainment.com/wp-content/uploads/2021/01/Master-Psychic-Consultant.png
END:VEVENT
BEGIN:VEVENT
DTSTART;TZID=America/Chicago:20220304T193000
DTEND;TZID=America/Chicago:20220304T233000
DTSTAMP:20260424T214711
CREATED:20211201T153934Z
LAST-MODIFIED:20211201T153934Z
UID:10005593-1646422200-1646436600@dev.medinaentertainment.com
SUMMARY:Winger & George Lynch
DESCRIPTION:
URL:https://dev.medinaentertainment.com/event/winger-george-lynch/
LOCATION:Homepage
END:VEVENT
BEGIN:VEVENT
DTSTART;TZID=America/Chicago:20220305T190000
DTEND;TZID=America/Chicago:20220305T230000
DTSTAMP:20260424T214711
CREATED:20211228T134724Z
LAST-MODIFIED:20211228T134724Z
UID:10006650-1646506800-1646521200@dev.medinaentertainment.com
SUMMARY:Rockin' Hollywoods
DESCRIPTION:
URL:https://dev.medinaentertainment.com/event/rockin-hollywoods-20/
LOCATION:Homepage
END:VEVENT
BEGIN:VEVENT
DTSTART;TZID=UTC:20220308T080000
DTEND;TZID=UTC:20220308T170000
DTSTAMP:20260424T214711
CREATED:20220103T101200Z
LAST-MODIFIED:20221026T190233Z
UID:10008899-1646726400-1646758800@dev.medinaentertainment.com
SUMMARY:Medina Hosts "Come Dance with Us" Dance Classes
DESCRIPTION:Medina Hosts “Come Dance with Us” Dance Classes\n\n\n\n\n\n\n\n\n\n\n\n\nJoin the Email Rewards ClubGet exclusive specials\, discounts\, coupons\, and early promotions on tickets by joining our email rewards club! No minimum spend\, no generating points\, no extra work – just sign up for our emails\, and we’ll send you the savings. \n Join Our Email Rewards Club
URL:https://dev.medinaentertainment.com/event/medina-hosts-come-dance-with-us-dance-classes/2022-03-08/
ATTACH;FMTTYPE=image/jpeg:https://dev.medinaentertainment.com/wp-content/uploads/2022/01/SAT-Tuesday-dance-class-schedule-20220924-2.jpg
END:VEVENT
BEGIN:VEVENT
DTSTART;TZID=UTC:20220310T080000
DTEND;TZID=UTC:20220310T170000
DTSTAMP:20260424T214711
CREATED:20211227T133200Z
LAST-MODIFIED:20221026T184211Z
UID:10008807-1646899200-1646931600@dev.medinaentertainment.com
SUMMARY:Medina Hosts Psychic Ruth Lordan
DESCRIPTION:Medina Hosts Psychic Ruth Lordan\n\n\n\n\n\n\n\n\n\n\n\n\nJoin the Email Rewards ClubGet exclusive specials\, discounts\, coupons\, and early promotions on tickets by joining our email rewards club! No minimum spend\, no generating points\, no extra work – just sign up for our emails\, and we’ll send you the savings. \n Join Our Email Rewards Club
URL:https://dev.medinaentertainment.com/event/medina-hosts-psychic-ruth-lordan/2022-03-10/
ATTACH;FMTTYPE=image/png:https://dev.medinaentertainment.com/wp-content/uploads/2021/01/Master-Psychic-Consultant.png
END:VEVENT
BEGIN:VEVENT
DTSTART;TZID=UTC:20220311T080000
DTEND;TZID=UTC:20220311T170000
DTSTAMP:20260424T214711
CREATED:20211227T133200Z
LAST-MODIFIED:20221026T184211Z
UID:10008808-1646985600-1647018000@dev.medinaentertainment.com
SUMMARY:Medina Hosts Psychic Ruth Lordan
DESCRIPTION:Medina Hosts Psychic Ruth Lordan\n\n\n\n\n\n\n\n\n\n\n\n\nJoin the Email Rewards ClubGet exclusive specials\, discounts\, coupons\, and early promotions on tickets by joining our email rewards club! No minimum spend\, no generating points\, no extra work – just sign up for our emails\, and we’ll send you the savings. \n Join Our Email Rewards Club
URL:https://dev.medinaentertainment.com/event/medina-hosts-psychic-ruth-lordan/2022-03-11/
ATTACH;FMTTYPE=image/png:https://dev.medinaentertainment.com/wp-content/uploads/2021/01/Master-Psychic-Consultant.png
END:VEVENT
BEGIN:VEVENT
DTSTART;TZID=America/Chicago:20220311T193000
DTEND;TZID=America/Chicago:20220311T233000
DTSTAMP:20260424T214711
CREATED:20220105T124405Z
LAST-MODIFIED:20220105T124405Z
UID:10007971-1647027000-1647041400@dev.medinaentertainment.com
SUMMARY:THUNDERSTRUCK: America's AC/DC Tribute with guest Them Pesky Kids
DESCRIPTION:
URL:https://dev.medinaentertainment.com/event/thunderstruck-americas-ac-dc-tribute-with-guest-them-pesky-kids-2/
LOCATION:Homepage
END:VEVENT
BEGIN:VEVENT
DTSTART;TZID=America/Chicago:20220312T193000
DTEND;TZID=America/Chicago:20220312T233000
DTSTAMP:20260424T214711
CREATED:20220126T112225Z
LAST-MODIFIED:20220126T112225Z
UID:10008000-1647113400-1647127800@dev.medinaentertainment.com
SUMMARY:CANCELLED: The Hype! with guest The 70's Magic Sunshine Band
DESCRIPTION:
URL:https://dev.medinaentertainment.com/event/the-hype-with-guest-the-70s-magic-sunshine-band/
LOCATION:Homepage
END:VEVENT
BEGIN:VEVENT
DTSTART;TZID=UTC:20220315T080000
DTEND;TZID=UTC:20220315T170000
DTSTAMP:20260424T214711
CREATED:20220103T101200Z
LAST-MODIFIED:20221026T190233Z
UID:10008900-1647331200-1647363600@dev.medinaentertainment.com
SUMMARY:Medina Hosts "Come Dance with Us" Dance Classes
DESCRIPTION:Medina Hosts “Come Dance with Us” Dance Classes\n\n\n\n\n\n\n\n\n\n\n\n\nJoin the Email Rewards ClubGet exclusive specials\, discounts\, coupons\, and early promotions on tickets by joining our email rewards club! No minimum spend\, no generating points\, no extra work – just sign up for our emails\, and we’ll send you the savings. \n Join Our Email Rewards Club
URL:https://dev.medinaentertainment.com/event/medina-hosts-come-dance-with-us-dance-classes/2022-03-15/
ATTACH;FMTTYPE=image/jpeg:https://dev.medinaentertainment.com/wp-content/uploads/2022/01/SAT-Tuesday-dance-class-schedule-20220924-2.jpg
END:VEVENT
BEGIN:VEVENT
DTSTART;TZID=UTC:20220317T080000
DTEND;TZID=UTC:20220317T170000
DTSTAMP:20260424T214711
CREATED:20211227T133200Z
LAST-MODIFIED:20221026T184211Z
UID:10008809-1647504000-1647536400@dev.medinaentertainment.com
SUMMARY:Medina Hosts Psychic Ruth Lordan
DESCRIPTION:Medina Hosts Psychic Ruth Lordan\n\n\n\n\n\n\n\n\n\n\n\n\nJoin the Email Rewards ClubGet exclusive specials\, discounts\, coupons\, and early promotions on tickets by joining our email rewards club! No minimum spend\, no generating points\, no extra work – just sign up for our emails\, and we’ll send you the savings. \n Join Our Email Rewards Club
URL:https://dev.medinaentertainment.com/event/medina-hosts-psychic-ruth-lordan/2022-03-17/
ATTACH;FMTTYPE=image/png:https://dev.medinaentertainment.com/wp-content/uploads/2021/01/Master-Psychic-Consultant.png
END:VEVENT
BEGIN:VEVENT
DTSTART;TZID=UTC:20220318T080000
DTEND;TZID=UTC:20220318T170000
DTSTAMP:20260424T214711
CREATED:20211227T133200Z
LAST-MODIFIED:20221026T184211Z
UID:10008810-1647590400-1647622800@dev.medinaentertainment.com
SUMMARY:Medina Hosts Psychic Ruth Lordan
DESCRIPTION:Medina Hosts Psychic Ruth Lordan\n\n\n\n\n\n\n\n\n\n\n\n\nJoin the Email Rewards ClubGet exclusive specials\, discounts\, coupons\, and early promotions on tickets by joining our email rewards club! No minimum spend\, no generating points\, no extra work – just sign up for our emails\, and we’ll send you the savings. \n Join Our Email Rewards Club
URL:https://dev.medinaentertainment.com/event/medina-hosts-psychic-ruth-lordan/2022-03-18/
ATTACH;FMTTYPE=image/png:https://dev.medinaentertainment.com/wp-content/uploads/2021/01/Master-Psychic-Consultant.png
END:VEVENT
BEGIN:VEVENT
DTSTART;TZID=America/Chicago:20220319T190000
DTEND;TZID=America/Chicago:20220319T233000
DTSTAMP:20260424T214711
CREATED:20220112T182921Z
LAST-MODIFIED:20220112T182921Z
UID:10007974-1647716400-1647732600@dev.medinaentertainment.com
SUMMARY:Gypsy with guest The Soulmates
DESCRIPTION:
URL:https://dev.medinaentertainment.com/event/gypsy-with-guest-the-soulmates/
LOCATION:Homepage
END:VEVENT
BEGIN:VEVENT
DTSTART;TZID=UTC:20220322T080000
DTEND;TZID=UTC:20220322T170000
DTSTAMP:20260424T214711
CREATED:20220103T101200Z
LAST-MODIFIED:20221026T190233Z
UID:10008901-1647936000-1647968400@dev.medinaentertainment.com
SUMMARY:Medina Hosts "Come Dance with Us" Dance Classes
DESCRIPTION:Medina Hosts “Come Dance with Us” Dance Classes\n\n\n\n\n\n\n\n\n\n\n\n\nJoin the Email Rewards ClubGet exclusive specials\, discounts\, coupons\, and early promotions on tickets by joining our email rewards club! No minimum spend\, no generating points\, no extra work – just sign up for our emails\, and we’ll send you the savings. \n Join Our Email Rewards Club
URL:https://dev.medinaentertainment.com/event/medina-hosts-come-dance-with-us-dance-classes/2022-03-22/
ATTACH;FMTTYPE=image/jpeg:https://dev.medinaentertainment.com/wp-content/uploads/2022/01/SAT-Tuesday-dance-class-schedule-20220924-2.jpg
END:VEVENT
BEGIN:VEVENT
DTSTART;TZID=UTC:20220324T080000
DTEND;TZID=UTC:20220324T170000
DTSTAMP:20260424T214711
CREATED:20211227T133200Z
LAST-MODIFIED:20221026T184211Z
UID:10008811-1648108800-1648141200@dev.medinaentertainment.com
SUMMARY:Medina Hosts Psychic Ruth Lordan
DESCRIPTION:Medina Hosts Psychic Ruth Lordan\n\n\n\n\n\n\n\n\n\n\n\n\nJoin the Email Rewards ClubGet exclusive specials\, discounts\, coupons\, and early promotions on tickets by joining our email rewards club! No minimum spend\, no generating points\, no extra work – just sign up for our emails\, and we’ll send you the savings. \n Join Our Email Rewards Club
URL:https://dev.medinaentertainment.com/event/medina-hosts-psychic-ruth-lordan/2022-03-24/
ATTACH;FMTTYPE=image/png:https://dev.medinaentertainment.com/wp-content/uploads/2021/01/Master-Psychic-Consultant.png
END:VEVENT
BEGIN:VEVENT
DTSTART;TZID=UTC:20220325T080000
DTEND;TZID=UTC:20220325T170000
DTSTAMP:20260424T214711
CREATED:20211227T133200Z
LAST-MODIFIED:20221026T184211Z
UID:10008812-1648195200-1648227600@dev.medinaentertainment.com
SUMMARY:Medina Hosts Psychic Ruth Lordan
DESCRIPTION:Medina Hosts Psychic Ruth Lordan\n\n\n\n\n\n\n\n\n\n\n\n\nJoin the Email Rewards ClubGet exclusive specials\, discounts\, coupons\, and early promotions on tickets by joining our email rewards club! No minimum spend\, no generating points\, no extra work – just sign up for our emails\, and we’ll send you the savings. \n Join Our Email Rewards Club
URL:https://dev.medinaentertainment.com/event/medina-hosts-psychic-ruth-lordan/2022-03-25/
ATTACH;FMTTYPE=image/png:https://dev.medinaentertainment.com/wp-content/uploads/2021/01/Master-Psychic-Consultant.png
END:VEVENT
BEGIN:VEVENT
DTSTART;TZID=America/Chicago:20220325T190000
DTEND;TZID=America/Chicago:20220325T233000
DTSTAMP:20260424T214711
CREATED:20220119T140637Z
LAST-MODIFIED:20220119T140637Z
UID:10007999-1648234800-1648251000@dev.medinaentertainment.com
SUMMARY:GB Leighton with guest Heartless
DESCRIPTION:
URL:https://dev.medinaentertainment.com/event/gb-leighton-with-guest-heartless/
LOCATION:Homepage
END:VEVENT
BEGIN:VEVENT
DTSTART;TZID=America/Chicago:20220326T190000
DTEND;TZID=America/Chicago:20220326T230000
DTSTAMP:20260424T214711
CREATED:20220105T124804Z
LAST-MODIFIED:20220105T124804Z
UID:10007972-1648321200-1648335600@dev.medinaentertainment.com
SUMMARY:TRILOGY The Ultimate Tribute to The Doors\, Led Zeppelin and Pink Floyd
DESCRIPTION:
URL:https://dev.medinaentertainment.com/event/trilogy-the-ultimate-tribute-to-the-doors-led-zeppelin-and-pink-floyd/
LOCATION:Homepage
END:VEVENT
BEGIN:VEVENT
DTSTART;TZID=UTC:20220329T080000
DTEND;TZID=UTC:20220329T170000
DTSTAMP:20260424T214711
CREATED:20220103T101200Z
LAST-MODIFIED:20221026T190233Z
UID:10008902-1648540800-1648573200@dev.medinaentertainment.com
SUMMARY:Medina Hosts "Come Dance with Us" Dance Classes
DESCRIPTION:Medina Hosts “Come Dance with Us” Dance Classes\n\n\n\n\n\n\n\n\n\n\n\n\nJoin the Email Rewards ClubGet exclusive specials\, discounts\, coupons\, and early promotions on tickets by joining our email rewards club! No minimum spend\, no generating points\, no extra work – just sign up for our emails\, and we’ll send you the savings. \n Join Our Email Rewards Club
URL:https://dev.medinaentertainment.com/event/medina-hosts-come-dance-with-us-dance-classes/2022-03-29/
ATTACH;FMTTYPE=image/jpeg:https://dev.medinaentertainment.com/wp-content/uploads/2022/01/SAT-Tuesday-dance-class-schedule-20220924-2.jpg
END:VEVENT
BEGIN:VEVENT
DTSTART;TZID=UTC:20220331T080000
DTEND;TZID=UTC:20220331T170000
DTSTAMP:20260424T214711
CREATED:20211227T133200Z
LAST-MODIFIED:20221026T184211Z
UID:10008813-1648713600-1648746000@dev.medinaentertainment.com
SUMMARY:Medina Hosts Psychic Ruth Lordan
DESCRIPTION:Medina Hosts Psychic Ruth Lordan\n\n\n\n\n\n\n\n\n\n\n\n\nJoin the Email Rewards ClubGet exclusive specials\, discounts\, coupons\, and early promotions on tickets by joining our email rewards club! No minimum spend\, no generating points\, no extra work – just sign up for our emails\, and we’ll send you the savings. \n Join Our Email Rewards Club
URL:https://dev.medinaentertainment.com/event/medina-hosts-psychic-ruth-lordan/2022-03-31/
ATTACH;FMTTYPE=image/png:https://dev.medinaentertainment.com/wp-content/uploads/2021/01/Master-Psychic-Consultant.png
END:VEVENT
END:VCALENDAR