BEGIN:VCALENDAR
VERSION:2.0
PRODID:-//Default Site Template - ECPv6.0.2//NONSGML v1.0//EN
CALSCALE:GREGORIAN
METHOD:PUBLISH
X-ORIGINAL-URL:https://dev.medinaentertainment.com
X-WR-CALDESC:Events for Default Site Template
REFRESH-INTERVAL;VALUE=DURATION:PT1H
X-Robots-Tag:noindex
X-PUBLISHED-TTL:PT1H
BEGIN:VTIMEZONE
TZID:UTC
BEGIN:STANDARD
TZOFFSETFROM:+0000
TZOFFSETTO:+0000
TZNAME:UTC
DTSTART:20220101T000000
END:STANDARD
TZID:America/Chicago
BEGIN:DAYLIGHT
TZOFFSETFROM:-0600
TZOFFSETTO:-0500
TZNAME:CDT
DTSTART:20220313T080000
END:DAYLIGHT
BEGIN:STANDARD
TZOFFSETFROM:-0500
TZOFFSETTO:-0600
TZNAME:CST
DTSTART:20221106T070000
END:STANDARD
END:VTIMEZONE
BEGIN:VEVENT
DTSTART;TZID=UTC:20220616T080000
DTEND;TZID=UTC:20220616T170000
DTSTAMP:20260424T140924
CREATED:20211227T133200Z
LAST-MODIFIED:20221026T184211Z
UID:10008835-1655366400-1655398800@dev.medinaentertainment.com
SUMMARY:Medina Hosts Psychic Ruth Lordan
DESCRIPTION:Medina Hosts Psychic Ruth Lordan\n\n\n\n\n\n\n\n\n\n\n\n\nJoin the Email Rewards ClubGet exclusive specials\, discounts\, coupons\, and early promotions on tickets by joining our email rewards club! No minimum spend\, no generating points\, no extra work – just sign up for our emails\, and we’ll send you the savings. \n Join Our Email Rewards Club
URL:https://dev.medinaentertainment.com/event/medina-hosts-psychic-ruth-lordan/2022-06-16/
ATTACH;FMTTYPE=image/png:https://dev.medinaentertainment.com/wp-content/uploads/2021/01/Master-Psychic-Consultant.png
END:VEVENT
BEGIN:VEVENT
DTSTART;TZID=America/Chicago:20220616T180000
DTEND;TZID=America/Chicago:20220616T210000
DTSTAMP:20260424T140924
CREATED:20220506T125925Z
LAST-MODIFIED:20220506T125925Z
UID:10008229-1655402400-1655413200@dev.medinaentertainment.com
SUMMARY:Patio Music - Rain or Shine!
DESCRIPTION:The Jorgensen’s
URL:https://dev.medinaentertainment.com/event/patio-music-rain-or-shine-3/
LOCATION:Homepage
END:VEVENT
BEGIN:VEVENT
DTSTART;TZID=UTC:20220617T080000
DTEND;TZID=UTC:20220617T170000
DTSTAMP:20260424T140924
CREATED:20211227T133200Z
LAST-MODIFIED:20221026T184211Z
UID:10008836-1655452800-1655485200@dev.medinaentertainment.com
SUMMARY:Medina Hosts Psychic Ruth Lordan
DESCRIPTION:Medina Hosts Psychic Ruth Lordan\n\n\n\n\n\n\n\n\n\n\n\n\nJoin the Email Rewards ClubGet exclusive specials\, discounts\, coupons\, and early promotions on tickets by joining our email rewards club! No minimum spend\, no generating points\, no extra work – just sign up for our emails\, and we’ll send you the savings. \n Join Our Email Rewards Club
URL:https://dev.medinaentertainment.com/event/medina-hosts-psychic-ruth-lordan/2022-06-17/
ATTACH;FMTTYPE=image/png:https://dev.medinaentertainment.com/wp-content/uploads/2021/01/Master-Psychic-Consultant.png
END:VEVENT
BEGIN:VEVENT
DTSTART;TZID=America/Chicago:20220619T060000
DTEND;TZID=America/Chicago:20220619T120000
DTSTAMP:20260424T140925
CREATED:20220405T163838Z
LAST-MODIFIED:20220405T163838Z
UID:10008009-1655618400-1655640000@dev.medinaentertainment.com
SUMMARY:Medina Hosts Hamel Flea Market
DESCRIPTION:Click HERE for more information!
URL:https://dev.medinaentertainment.com/event/medina-hosts-hamel-flea-market/2022-06-19/
LOCATION:Homepage
END:VEVENT
BEGIN:VEVENT
DTSTART;TZID=UTC:20220621T080000
DTEND;TZID=UTC:20220621T170000
DTSTAMP:20260424T140925
CREATED:20220103T101200Z
LAST-MODIFIED:20221026T190233Z
UID:10008914-1655798400-1655830800@dev.medinaentertainment.com
SUMMARY:Medina Hosts "Come Dance with Us" Dance Classes
DESCRIPTION:Medina Hosts “Come Dance with Us” Dance Classes\n\n\n\n\n\n\n\n\n\n\n\n\nJoin the Email Rewards ClubGet exclusive specials\, discounts\, coupons\, and early promotions on tickets by joining our email rewards club! No minimum spend\, no generating points\, no extra work – just sign up for our emails\, and we’ll send you the savings. \n Join Our Email Rewards Club
URL:https://dev.medinaentertainment.com/event/medina-hosts-come-dance-with-us-dance-classes/2022-06-21/
ATTACH;FMTTYPE=image/jpeg:https://dev.medinaentertainment.com/wp-content/uploads/2022/01/SAT-Tuesday-dance-class-schedule-20220924-2.jpg
END:VEVENT
BEGIN:VEVENT
DTSTART;TZID=UTC:20220623T080000
DTEND;TZID=UTC:20220623T170000
DTSTAMP:20260424T140925
CREATED:20211227T133200Z
LAST-MODIFIED:20221026T184211Z
UID:10008837-1655971200-1656003600@dev.medinaentertainment.com
SUMMARY:Medina Hosts Psychic Ruth Lordan
DESCRIPTION:Medina Hosts Psychic Ruth Lordan\n\n\n\n\n\n\n\n\n\n\n\n\nJoin the Email Rewards ClubGet exclusive specials\, discounts\, coupons\, and early promotions on tickets by joining our email rewards club! No minimum spend\, no generating points\, no extra work – just sign up for our emails\, and we’ll send you the savings. \n Join Our Email Rewards Club
URL:https://dev.medinaentertainment.com/event/medina-hosts-psychic-ruth-lordan/2022-06-23/
ATTACH;FMTTYPE=image/png:https://dev.medinaentertainment.com/wp-content/uploads/2021/01/Master-Psychic-Consultant.png
END:VEVENT
BEGIN:VEVENT
DTSTART;TZID=America/Chicago:20220623T180000
DTEND;TZID=America/Chicago:20220623T210000
DTSTAMP:20260424T140925
CREATED:20220506T130052Z
LAST-MODIFIED:20220506T130052Z
UID:10008230-1656007200-1656018000@dev.medinaentertainment.com
SUMMARY:Patio Music - Rain or Shine!
DESCRIPTION:Stir Krazy
URL:https://dev.medinaentertainment.com/event/patio-music-rain-or-shine-4/
LOCATION:Homepage
END:VEVENT
BEGIN:VEVENT
DTSTART;TZID=UTC:20220624T080000
DTEND;TZID=UTC:20220624T170000
DTSTAMP:20260424T140925
CREATED:20211227T133200Z
LAST-MODIFIED:20221026T184211Z
UID:10008838-1656057600-1656090000@dev.medinaentertainment.com
SUMMARY:Medina Hosts Psychic Ruth Lordan
DESCRIPTION:Medina Hosts Psychic Ruth Lordan\n\n\n\n\n\n\n\n\n\n\n\n\nJoin the Email Rewards ClubGet exclusive specials\, discounts\, coupons\, and early promotions on tickets by joining our email rewards club! No minimum spend\, no generating points\, no extra work – just sign up for our emails\, and we’ll send you the savings. \n Join Our Email Rewards Club
URL:https://dev.medinaentertainment.com/event/medina-hosts-psychic-ruth-lordan/2022-06-24/
ATTACH;FMTTYPE=image/png:https://dev.medinaentertainment.com/wp-content/uploads/2021/01/Master-Psychic-Consultant.png
END:VEVENT
BEGIN:VEVENT
DTSTART;TZID=America/Chicago:20220626T060000
DTEND;TZID=America/Chicago:20220626T120000
DTSTAMP:20260424T140925
CREATED:20220405T163838Z
LAST-MODIFIED:20220405T163838Z
UID:10008010-1656223200-1656244800@dev.medinaentertainment.com
SUMMARY:Medina Hosts Hamel Flea Market
DESCRIPTION:Click HERE for more information!
URL:https://dev.medinaentertainment.com/event/medina-hosts-hamel-flea-market/2022-06-26/
LOCATION:Homepage
END:VEVENT
BEGIN:VEVENT
DTSTART;TZID=America/Chicago:20220627T000000
DTEND;TZID=America/Chicago:20220630T235959
DTSTAMP:20260424T140925
CREATED:20220419T150245Z
LAST-MODIFIED:20220419T150245Z
UID:10008222-1656288000-1656633599@dev.medinaentertainment.com
SUMMARY:BUILDING CLOSED
DESCRIPTION:
URL:https://dev.medinaentertainment.com/event/building-closed/
LOCATION:Homepage
END:VEVENT
BEGIN:VEVENT
DTSTART;TZID=UTC:20220628T080000
DTEND;TZID=UTC:20220628T170000
DTSTAMP:20260424T140925
CREATED:20220103T101200Z
LAST-MODIFIED:20221026T190233Z
UID:10008915-1656403200-1656435600@dev.medinaentertainment.com
SUMMARY:Medina Hosts "Come Dance with Us" Dance Classes
DESCRIPTION:Medina Hosts “Come Dance with Us” Dance Classes\n\n\n\n\n\n\n\n\n\n\n\n\nJoin the Email Rewards ClubGet exclusive specials\, discounts\, coupons\, and early promotions on tickets by joining our email rewards club! No minimum spend\, no generating points\, no extra work – just sign up for our emails\, and we’ll send you the savings. \n Join Our Email Rewards Club
URL:https://dev.medinaentertainment.com/event/medina-hosts-come-dance-with-us-dance-classes/2022-06-28/
ATTACH;FMTTYPE=image/jpeg:https://dev.medinaentertainment.com/wp-content/uploads/2022/01/SAT-Tuesday-dance-class-schedule-20220924-2.jpg
END:VEVENT
BEGIN:VEVENT
DTSTART;TZID=UTC:20220630T080000
DTEND;TZID=UTC:20220630T170000
DTSTAMP:20260424T140925
CREATED:20211227T133200Z
LAST-MODIFIED:20221026T184211Z
UID:10008839-1656576000-1656608400@dev.medinaentertainment.com
SUMMARY:Medina Hosts Psychic Ruth Lordan
DESCRIPTION:Medina Hosts Psychic Ruth Lordan\n\n\n\n\n\n\n\n\n\n\n\n\nJoin the Email Rewards ClubGet exclusive specials\, discounts\, coupons\, and early promotions on tickets by joining our email rewards club! No minimum spend\, no generating points\, no extra work – just sign up for our emails\, and we’ll send you the savings. \n Join Our Email Rewards Club
URL:https://dev.medinaentertainment.com/event/medina-hosts-psychic-ruth-lordan/2022-06-30/
ATTACH;FMTTYPE=image/png:https://dev.medinaentertainment.com/wp-content/uploads/2021/01/Master-Psychic-Consultant.png
END:VEVENT
BEGIN:VEVENT
DTSTART;TZID=America/Chicago:20220701T000000
DTEND;TZID=America/Chicago:20220701T235959
DTSTAMP:20260424T140925
CREATED:20220419T150827Z
LAST-MODIFIED:20220419T150827Z
UID:10008223-1656633600-1656719999@dev.medinaentertainment.com
SUMMARY:BUILDING OPEN AT 2PM
DESCRIPTION:
URL:https://dev.medinaentertainment.com/event/building-open-at-2pm/
LOCATION:Homepage
END:VEVENT
BEGIN:VEVENT
DTSTART;TZID=UTC:20220701T080000
DTEND;TZID=UTC:20220701T170000
DTSTAMP:20260424T140925
CREATED:20211227T133200Z
LAST-MODIFIED:20221026T184211Z
UID:10008840-1656662400-1656694800@dev.medinaentertainment.com
SUMMARY:Medina Hosts Psychic Ruth Lordan
DESCRIPTION:Medina Hosts Psychic Ruth Lordan\n\n\n\n\n\n\n\n\n\n\n\n\nJoin the Email Rewards ClubGet exclusive specials\, discounts\, coupons\, and early promotions on tickets by joining our email rewards club! No minimum spend\, no generating points\, no extra work – just sign up for our emails\, and we’ll send you the savings. \n Join Our Email Rewards Club
URL:https://dev.medinaentertainment.com/event/medina-hosts-psychic-ruth-lordan/2022-07-01/
ATTACH;FMTTYPE=image/png:https://dev.medinaentertainment.com/wp-content/uploads/2021/01/Master-Psychic-Consultant.png
END:VEVENT
BEGIN:VEVENT
DTSTART;TZID=America/Chicago:20220703T060000
DTEND;TZID=America/Chicago:20220703T120000
DTSTAMP:20260424T140925
CREATED:20220405T163838Z
LAST-MODIFIED:20220405T163838Z
UID:10008011-1656828000-1656849600@dev.medinaentertainment.com
SUMMARY:Medina Hosts Hamel Flea Market
DESCRIPTION:Click HERE for more information!
URL:https://dev.medinaentertainment.com/event/medina-hosts-hamel-flea-market/2022-07-03/
LOCATION:Homepage
END:VEVENT
BEGIN:VEVENT
DTSTART;TZID=America/Chicago:20220704T000000
DTEND;TZID=America/Chicago:20220704T235959
DTSTAMP:20260424T140925
CREATED:20220506T130939Z
LAST-MODIFIED:20220506T130939Z
UID:10008233-1656892800-1656979199@dev.medinaentertainment.com
SUMMARY:MEC CLOSED - 4th of July
DESCRIPTION:
URL:https://dev.medinaentertainment.com/event/mec-closed-4th-of-july/
LOCATION:Homepage
END:VEVENT
BEGIN:VEVENT
DTSTART;TZID=UTC:20220705T080000
DTEND;TZID=UTC:20220705T170000
DTSTAMP:20260424T140925
CREATED:20220103T101200Z
LAST-MODIFIED:20221026T190233Z
UID:10008916-1657008000-1657040400@dev.medinaentertainment.com
SUMMARY:Medina Hosts "Come Dance with Us" Dance Classes
DESCRIPTION:Medina Hosts “Come Dance with Us” Dance Classes\n\n\n\n\n\n\n\n\n\n\n\n\nJoin the Email Rewards ClubGet exclusive specials\, discounts\, coupons\, and early promotions on tickets by joining our email rewards club! No minimum spend\, no generating points\, no extra work – just sign up for our emails\, and we’ll send you the savings. \n Join Our Email Rewards Club
URL:https://dev.medinaentertainment.com/event/medina-hosts-come-dance-with-us-dance-classes/2022-07-05/
ATTACH;FMTTYPE=image/jpeg:https://dev.medinaentertainment.com/wp-content/uploads/2022/01/SAT-Tuesday-dance-class-schedule-20220924-2.jpg
END:VEVENT
BEGIN:VEVENT
DTSTART;TZID=UTC:20220707T080000
DTEND;TZID=UTC:20220707T170000
DTSTAMP:20260424T140925
CREATED:20211227T133200Z
LAST-MODIFIED:20221026T184211Z
UID:10008841-1657180800-1657213200@dev.medinaentertainment.com
SUMMARY:Medina Hosts Psychic Ruth Lordan
DESCRIPTION:Medina Hosts Psychic Ruth Lordan\n\n\n\n\n\n\n\n\n\n\n\n\nJoin the Email Rewards ClubGet exclusive specials\, discounts\, coupons\, and early promotions on tickets by joining our email rewards club! No minimum spend\, no generating points\, no extra work – just sign up for our emails\, and we’ll send you the savings. \n Join Our Email Rewards Club
URL:https://dev.medinaentertainment.com/event/medina-hosts-psychic-ruth-lordan/2022-07-07/
ATTACH;FMTTYPE=image/png:https://dev.medinaentertainment.com/wp-content/uploads/2021/01/Master-Psychic-Consultant.png
END:VEVENT
BEGIN:VEVENT
DTSTART;TZID=America/Chicago:20220707T180000
DTEND;TZID=America/Chicago:20220707T210000
DTSTAMP:20260424T140925
CREATED:20220506T133435Z
LAST-MODIFIED:20220506T133435Z
UID:10008234-1657216800-1657227600@dev.medinaentertainment.com
SUMMARY:Patio Music - Rain or Shine!
DESCRIPTION:Ozzy Harris
URL:https://dev.medinaentertainment.com/event/patio-music-rain-or-shine-5/
LOCATION:Homepage
END:VEVENT
BEGIN:VEVENT
DTSTART;TZID=UTC:20220708T080000
DTEND;TZID=UTC:20220708T170000
DTSTAMP:20260424T140925
CREATED:20211227T133200Z
LAST-MODIFIED:20221026T184211Z
UID:10008842-1657267200-1657299600@dev.medinaentertainment.com
SUMMARY:Medina Hosts Psychic Ruth Lordan
DESCRIPTION:Medina Hosts Psychic Ruth Lordan\n\n\n\n\n\n\n\n\n\n\n\n\nJoin the Email Rewards ClubGet exclusive specials\, discounts\, coupons\, and early promotions on tickets by joining our email rewards club! No minimum spend\, no generating points\, no extra work – just sign up for our emails\, and we’ll send you the savings. \n Join Our Email Rewards Club
URL:https://dev.medinaentertainment.com/event/medina-hosts-psychic-ruth-lordan/2022-07-08/
ATTACH;FMTTYPE=image/png:https://dev.medinaentertainment.com/wp-content/uploads/2021/01/Master-Psychic-Consultant.png
END:VEVENT
BEGIN:VEVENT
DTSTART;TZID=UTC:20220712T080000
DTEND;TZID=UTC:20220712T170000
DTSTAMP:20260424T140925
CREATED:20220103T101200Z
LAST-MODIFIED:20221026T190233Z
UID:10008917-1657612800-1657645200@dev.medinaentertainment.com
SUMMARY:Medina Hosts "Come Dance with Us" Dance Classes
DESCRIPTION:Medina Hosts “Come Dance with Us” Dance Classes\n\n\n\n\n\n\n\n\n\n\n\n\nJoin the Email Rewards ClubGet exclusive specials\, discounts\, coupons\, and early promotions on tickets by joining our email rewards club! No minimum spend\, no generating points\, no extra work – just sign up for our emails\, and we’ll send you the savings. \n Join Our Email Rewards Club
URL:https://dev.medinaentertainment.com/event/medina-hosts-come-dance-with-us-dance-classes/2022-07-12/
ATTACH;FMTTYPE=image/jpeg:https://dev.medinaentertainment.com/wp-content/uploads/2022/01/SAT-Tuesday-dance-class-schedule-20220924-2.jpg
END:VEVENT
BEGIN:VEVENT
DTSTART;TZID=UTC:20220714T080000
DTEND;TZID=UTC:20220714T170000
DTSTAMP:20260424T140925
CREATED:20211227T133200Z
LAST-MODIFIED:20221026T184211Z
UID:10008843-1657785600-1657818000@dev.medinaentertainment.com
SUMMARY:Medina Hosts Psychic Ruth Lordan
DESCRIPTION:Medina Hosts Psychic Ruth Lordan\n\n\n\n\n\n\n\n\n\n\n\n\nJoin the Email Rewards ClubGet exclusive specials\, discounts\, coupons\, and early promotions on tickets by joining our email rewards club! No minimum spend\, no generating points\, no extra work – just sign up for our emails\, and we’ll send you the savings. \n Join Our Email Rewards Club
URL:https://dev.medinaentertainment.com/event/medina-hosts-psychic-ruth-lordan/2022-07-14/
ATTACH;FMTTYPE=image/png:https://dev.medinaentertainment.com/wp-content/uploads/2021/01/Master-Psychic-Consultant.png
END:VEVENT
BEGIN:VEVENT
DTSTART;TZID=America/Chicago:20220714T180000
DTEND;TZID=America/Chicago:20220714T210000
DTSTAMP:20260424T140925
CREATED:20220506T133603Z
LAST-MODIFIED:20220506T133603Z
UID:10008235-1657821600-1657832400@dev.medinaentertainment.com
SUMMARY:Patio Music - Rain or Shine!
DESCRIPTION:Shalo Lee Duo
URL:https://dev.medinaentertainment.com/event/patio-music-rain-or-shine-6/
LOCATION:Homepage
END:VEVENT
BEGIN:VEVENT
DTSTART;TZID=UTC:20220715T080000
DTEND;TZID=UTC:20220715T170000
DTSTAMP:20260424T140925
CREATED:20211227T133200Z
LAST-MODIFIED:20221026T184211Z
UID:10008844-1657872000-1657904400@dev.medinaentertainment.com
SUMMARY:Medina Hosts Psychic Ruth Lordan
DESCRIPTION:Medina Hosts Psychic Ruth Lordan\n\n\n\n\n\n\n\n\n\n\n\n\nJoin the Email Rewards ClubGet exclusive specials\, discounts\, coupons\, and early promotions on tickets by joining our email rewards club! No minimum spend\, no generating points\, no extra work – just sign up for our emails\, and we’ll send you the savings. \n Join Our Email Rewards Club
URL:https://dev.medinaentertainment.com/event/medina-hosts-psychic-ruth-lordan/2022-07-15/
ATTACH;FMTTYPE=image/png:https://dev.medinaentertainment.com/wp-content/uploads/2021/01/Master-Psychic-Consultant.png
END:VEVENT
BEGIN:VEVENT
DTSTART;TZID=America/Chicago:20220717T060000
DTEND;TZID=America/Chicago:20220717T120000
DTSTAMP:20260424T140925
CREATED:20220405T163838Z
LAST-MODIFIED:20220405T163838Z
UID:10008012-1658037600-1658059200@dev.medinaentertainment.com
SUMMARY:Medina Hosts Hamel Flea Market
DESCRIPTION:Click HERE for more information!
URL:https://dev.medinaentertainment.com/event/medina-hosts-hamel-flea-market/2022-07-17/
LOCATION:Homepage
END:VEVENT
BEGIN:VEVENT
DTSTART;TZID=UTC:20220719T080000
DTEND;TZID=UTC:20220719T170000
DTSTAMP:20260424T140925
CREATED:20220103T101200Z
LAST-MODIFIED:20221026T190233Z
UID:10008918-1658217600-1658250000@dev.medinaentertainment.com
SUMMARY:Medina Hosts "Come Dance with Us" Dance Classes
DESCRIPTION:Medina Hosts “Come Dance with Us” Dance Classes\n\n\n\n\n\n\n\n\n\n\n\n\nJoin the Email Rewards ClubGet exclusive specials\, discounts\, coupons\, and early promotions on tickets by joining our email rewards club! No minimum spend\, no generating points\, no extra work – just sign up for our emails\, and we’ll send you the savings. \n Join Our Email Rewards Club
URL:https://dev.medinaentertainment.com/event/medina-hosts-come-dance-with-us-dance-classes/2022-07-19/
ATTACH;FMTTYPE=image/jpeg:https://dev.medinaentertainment.com/wp-content/uploads/2022/01/SAT-Tuesday-dance-class-schedule-20220924-2.jpg
END:VEVENT
BEGIN:VEVENT
DTSTART;TZID=UTC:20220721T080000
DTEND;TZID=UTC:20220721T170000
DTSTAMP:20260424T140925
CREATED:20211227T133200Z
LAST-MODIFIED:20221026T184211Z
UID:10008845-1658390400-1658422800@dev.medinaentertainment.com
SUMMARY:Medina Hosts Psychic Ruth Lordan
DESCRIPTION:Medina Hosts Psychic Ruth Lordan\n\n\n\n\n\n\n\n\n\n\n\n\nJoin the Email Rewards ClubGet exclusive specials\, discounts\, coupons\, and early promotions on tickets by joining our email rewards club! No minimum spend\, no generating points\, no extra work – just sign up for our emails\, and we’ll send you the savings. \n Join Our Email Rewards Club
URL:https://dev.medinaentertainment.com/event/medina-hosts-psychic-ruth-lordan/2022-07-21/
ATTACH;FMTTYPE=image/png:https://dev.medinaentertainment.com/wp-content/uploads/2021/01/Master-Psychic-Consultant.png
END:VEVENT
BEGIN:VEVENT
DTSTART;TZID=America/Chicago:20220721T100000
DTEND;TZID=America/Chicago:20220721T170000
DTSTAMP:20260424T140925
CREATED:20220408T154507Z
LAST-MODIFIED:20220408T154507Z
UID:10008221-1658397600-1658422800@dev.medinaentertainment.com
SUMMARY:Medina's 46th Annual Golf Tournament
DESCRIPTION:
URL:https://dev.medinaentertainment.com/event/medinas-46th-annual-golf-tournament/
LOCATION:Homepage
END:VEVENT
BEGIN:VEVENT
DTSTART;TZID=America/Chicago:20220721T180000
DTEND;TZID=America/Chicago:20220721T210000
DTSTAMP:20260424T140925
CREATED:20220506T133651Z
LAST-MODIFIED:20220506T133651Z
UID:10008236-1658426400-1658437200@dev.medinaentertainment.com
SUMMARY:Patio Music - Rain or Shine!
DESCRIPTION:The Jorgensens
URL:https://dev.medinaentertainment.com/event/patio-music-rain-or-shine-7/
LOCATION:Homepage
END:VEVENT
BEGIN:VEVENT
DTSTART;TZID=UTC:20220722T080000
DTEND;TZID=UTC:20220722T170000
DTSTAMP:20260424T140925
CREATED:20211227T133200Z
LAST-MODIFIED:20221026T184211Z
UID:10008846-1658476800-1658509200@dev.medinaentertainment.com
SUMMARY:Medina Hosts Psychic Ruth Lordan
DESCRIPTION:Medina Hosts Psychic Ruth Lordan\n\n\n\n\n\n\n\n\n\n\n\n\nJoin the Email Rewards ClubGet exclusive specials\, discounts\, coupons\, and early promotions on tickets by joining our email rewards club! No minimum spend\, no generating points\, no extra work – just sign up for our emails\, and we’ll send you the savings. \n Join Our Email Rewards Club
URL:https://dev.medinaentertainment.com/event/medina-hosts-psychic-ruth-lordan/2022-07-22/
ATTACH;FMTTYPE=image/png:https://dev.medinaentertainment.com/wp-content/uploads/2021/01/Master-Psychic-Consultant.png
END:VEVENT
END:VCALENDAR