BEGIN:VCALENDAR
VERSION:2.0
PRODID:-//Default Site Template - ECPv6.0.2//NONSGML v1.0//EN
CALSCALE:GREGORIAN
METHOD:PUBLISH
X-WR-CALNAME:Default Site Template
X-ORIGINAL-URL:https://dev.medinaentertainment.com
X-WR-CALDESC:Events for Default Site Template
REFRESH-INTERVAL;VALUE=DURATION:PT1H
X-Robots-Tag:noindex
X-PUBLISHED-TTL:PT1H
BEGIN:VTIMEZONE
TZID:America/Chicago
BEGIN:DAYLIGHT
TZOFFSETFROM:-0600
TZOFFSETTO:-0500
TZNAME:CDT
DTSTART:20220313T080000
END:DAYLIGHT
BEGIN:STANDARD
TZOFFSETFROM:-0500
TZOFFSETTO:-0600
TZNAME:CST
DTSTART:20221106T070000
END:STANDARD
BEGIN:DAYLIGHT
TZOFFSETFROM:-0600
TZOFFSETTO:-0500
TZNAME:CDT
DTSTART:20230312T080000
END:DAYLIGHT
BEGIN:STANDARD
TZOFFSETFROM:-0500
TZOFFSETTO:-0600
TZNAME:CST
DTSTART:20231105T070000
END:STANDARD
END:VTIMEZONE
BEGIN:VEVENT
DTSTART;TZID=America/Chicago:20221231T190000
DTEND;TZID=America/Chicago:20221231T230000
DTSTAMP:20260423T031450
CREATED:20220622T140231Z
LAST-MODIFIED:20221026T171529Z
UID:10008254-1672513200-1672527600@dev.medinaentertainment.com
SUMMARY:NYE with The Fabulous Armadillos with guest Gen X Jukebox
DESCRIPTION:NYE with The FABULOUS ARMADILLOS\n\n\n\nwith guest Gen X Jukebox \nSATURDAY\, DECEMBER 31Doors – 7:00pm // Show – 8:00pmThe event is 21+ \nAdv. General $27(Includes Facility Fee\, Does Not Include Sales Tax and Service Fee) \nFabulous Armadillo’s Website \n\n\n\nBuy Tickets \n\n\n\n\n\n\nThe Fabulous Armadillos came out of their shell in 2006 and have since established a large and loyal following in Minnesota and beyond with their spot on recreations of songs from many genres of music from Country to Motown to Heavy Metal to 70’s Soft Rock and play them just like you remember. Close your eyes and you are listening to all those vinyl records again or your AM/FM radio. The idea of the Fabulous Armadillos started with a diverse group of musicians who came together to perform “themed” concerts at the Pioneer Place On Fifth Theater in St. Cloud\, MN. Themes like “One Hit Wonders”\, “Woodstock”\, “Motown”\, “Singer/Songwriters”\, “Stadium Rock” and more. They have now played 100’s of themes at that theater as well as many regional venues in the Midwest and even in Mexico! Each show gaining them new fans and enjoying their brand of fun and entertaining\, yet musically spot on performances. They have brought hundreds of special guests in for their theme shows comprising of local and national talent. COME OUT OF YOUR SHELL and see what everybody has been talking about! \n\n\n\n\n\n\n\n\n\n\n\n\n\n\n*EACH guest must present a valid ID for admittance. \n*Tickets are not refundable.  \nFor GENERAL seating – tables and chairs are located on the outside of dance floor. There are NO assigned seats. Each table and chair are on a FIRST COME\, FIRST SERVED basis. \nThis show is 21 years and older. Tickets are $5 more day of show. Ticket price includes a $2 facility charge\, does not include sales tax and service fees. \nFree parking! \nFor questions\, email us at medina@medinaentertainment.com or call us at the Ticket Office 763-478-6661. All dates\, prices\, times\, and bands are subject to change. \nStay at the Medina Inn! 763-478-9770 \n\n\n\n\n\n\n\n\n\nJoin the Email Rewards ClubGet exclusive specials\, discounts\, coupons\, and early promotions on tickets by joining our email rewards club! No minimum spend\, no generating points\, no extra work – just sign up for our emails\, and we’ll send you the savings. \n Join Our Email Rewards Club
URL:https://dev.medinaentertainment.com/event/nye-with-the-fabulous-armadillos-with-guest-tba/
LOCATION:Homepage
ATTACH;FMTTYPE=image/jpeg:https://dev.medinaentertainment.com/wp-content/uploads/2022/06/221231-NYE-FabulousArmadillos-433x431-MedinaWeb.jpg
END:VEVENT
BEGIN:VEVENT
DTSTART;TZID=America/Chicago:20230211T200000
DTEND;TZID=America/Chicago:20230211T233000
DTSTAMP:20260423T031451
CREATED:20221026T172224Z
LAST-MODIFIED:20221026T172229Z
UID:10008780-1676145600-1676158200@dev.medinaentertainment.com
SUMMARY:BULLETBOYS & FIREHOUSE
DESCRIPTION:BULLETBOYS & FIREHOUSE\n\n\n\nSATURDAY\, FEBRUARY 11Doors – 7:30pm // Show – 8:00pmThe event is 21+ \nAdv. General $35\, Silver $41 & Gold $47(Prices Include Facility Fee\, Does Not Include Taxes) \nBulletboys’ Facebook \nFirehouse’s Website \n\n\n\nBuy Tickets \n\n\n\n\n\n\n\n\n\n\n\n\n\n** THIS SHOW IS 21+ ** NO EXCEPTIONS ** \n*EACH guest must present a valid ID for admittance. \n*Tickets are NON-REFUNDABLE.  \nFor GOLD and SILVER seating\, you are assigned to a specific table\, but not a specific seat. Seats at that table are on a FIRST COME\, FIRST SERVED basis. No standing will be allowed in the Gold or Silver sections. \nFor GENERAL seating – tables and chairs are located on the outside of dance floor. There are NO assigned seats. Each table and chair are on a FIRST COME\, FIRST SERVED basis. \nTickets are $5 more day of show. Ticket price includes a $3 facility charge\, does not include sales tax and service fees. \nFree parking! \nFor questions\, email us at medina@medinaentertainment.com or call us at the Ticket Office 763-478-6661. All dates\, prices\, times\, and bands are subject to change. \nStay at the Medina Inn! 763-478-9770 \n\n\n\n\n\n\n\n\n\nJoin the Email Rewards Clubu003cpu003eGet exclusive specials\, discounts\, coupons\, and early promotions on tickets by joining our email rewards club! No minimum spend\, no generating points\, no extra work – just sign up for our emails\, and we’ll send you the savings.u003c/pu003e \n Join Our Email Rewards Club
URL:https://dev.medinaentertainment.com/event/bulletboys-firehouse/
LOCATION:Homepage
END:VEVENT
END:VCALENDAR