BEGIN:VCALENDAR
VERSION:2.0
PRODID:-//Default Site Template - ECPv6.0.2//NONSGML v1.0//EN
CALSCALE:GREGORIAN
METHOD:PUBLISH
X-ORIGINAL-URL:https://dev.medinaentertainment.com
X-WR-CALDESC:Events for Default Site Template
REFRESH-INTERVAL;VALUE=DURATION:PT1H
X-Robots-Tag:noindex
X-PUBLISHED-TTL:PT1H
BEGIN:VTIMEZONE
TZID:America/Chicago
BEGIN:DAYLIGHT
TZOFFSETFROM:-0600
TZOFFSETTO:-0500
TZNAME:CDT
DTSTART:20210314T080000
END:DAYLIGHT
BEGIN:STANDARD
TZOFFSETFROM:-0500
TZOFFSETTO:-0600
TZNAME:CST
DTSTART:20211107T070000
END:STANDARD
END:VTIMEZONE
BEGIN:VEVENT
DTSTART;TZID=America/Chicago:20211003T060000
DTEND;TZID=America/Chicago:20211003T120000
DTSTAMP:20260421T045058
CREATED:20210921T173757Z
LAST-MODIFIED:20210921T173757Z
UID:10005492-1633240800-1633262400@dev.medinaentertainment.com
SUMMARY:Hamel Lion's Flea Market
DESCRIPTION:
URL:https://dev.medinaentertainment.com/event/hamel-lions-flea-market-38/2021-10-03/
LOCATION:Homepage
END:VEVENT
BEGIN:VEVENT
DTSTART;TZID=America/Chicago:20211001T190000
DTEND;TZID=America/Chicago:20211001T233000
DTSTAMP:20260421T045058
CREATED:20200725T134948Z
LAST-MODIFIED:20200725T134948Z
UID:10003665-1633114800-1633131000@dev.medinaentertainment.com
SUMMARY:Coco Montoya and Ronnie Baker Brooks
DESCRIPTION:
URL:https://dev.medinaentertainment.com/event/coco-montoya-and-ronnie-baker-brooks-2/
LOCATION:Homepage
END:VEVENT
BEGIN:VEVENT
DTSTART;TZID=America/Chicago:20210930T180000
DTEND;TZID=America/Chicago:20210930T210000
DTSTAMP:20260421T045058
CREATED:20210413T175058Z
LAST-MODIFIED:20210413T175058Z
UID:10005010-1633024800-1633035600@dev.medinaentertainment.com
SUMMARY:Red Dot Garage
DESCRIPTION:
URL:https://dev.medinaentertainment.com/event/red-dot-garage-4/
LOCATION:Homepage
END:VEVENT
BEGIN:VEVENT
DTSTART;TZID=America/Chicago:20210928T193000
DTEND;TZID=America/Chicago:20210928T210000
DTSTAMP:20260421T045058
CREATED:20210602T185211Z
LAST-MODIFIED:20210602T185211Z
UID:10005028-1632857400-1632862800@dev.medinaentertainment.com
SUMMARY:CANCELLED SAT Dance Lessons
DESCRIPTION:S.A.T. Dance Classes \n  \nS.A.T. members must show their membership card when attending S.A.T. or S.I.G. (Special Interest Group) functions. Non-members and guests may attend S.I.G. dance class without being a S.A.T. member. \n  \nS.A.T. (Singles All Together Dance Classes) lesson at the Medina Ballroom 500 hey 55\, Medina\, MN in the Event Rooms or Ballroom. Look for Red Jeep in front of door upstairs if in ballroom. \nDance Classes for Singles. Married Couples Welcome. Learn to partner dance. Come and have fun and meet new friends. \n  \nCost is $10 per week. Plenty of free parking. \n  \nFor information\, call the S.I.G. Leader: Carol Carlson 952-334-9793 \nDance Instructor: Larry Ablin 612-599-7856 \nOnline: comedancewithus.com \n  \nSeptember – October 2021: Nightclub 2 Step \nNovember 2021 – January 2022: Westcoast Swing \nFebruary – March 2022: Eastcoast Swing \nApril – June 2022: Waltz \nJuly – August 2022: Foxtrot \nSeptember – October 2022: ChaCha \nNovember – December 2022: Tango \n 
URL:https://dev.medinaentertainment.com/event/sat-dance-lessons-2/2021-09-28/
LOCATION:Homepage
END:VEVENT
BEGIN:VEVENT
DTSTART;TZID=America/Chicago:20210926T060000
DTEND;TZID=America/Chicago:20210926T120000
DTSTAMP:20260421T045058
CREATED:20210322T112138Z
LAST-MODIFIED:20210322T112138Z
UID:10004997-1632636000-1632657600@dev.medinaentertainment.com
SUMMARY:Hamel Lion's Flea Market
DESCRIPTION:
URL:https://dev.medinaentertainment.com/event/hamel-lions-flea-market-37/
LOCATION:Homepage
END:VEVENT
BEGIN:VEVENT
DTSTART;TZID=America/Chicago:20210924T190000
DTEND;TZID=America/Chicago:20210924T233000
DTSTAMP:20260421T045058
CREATED:20200801T142303Z
LAST-MODIFIED:20200801T142303Z
UID:10003667-1632510000-1632526200@dev.medinaentertainment.com
SUMMARY:BEATLES vs STONES (no guest)
DESCRIPTION:
URL:https://dev.medinaentertainment.com/event/beatles-vs-stones-no-guest/
LOCATION:Homepage
END:VEVENT
BEGIN:VEVENT
DTSTART;TZID=America/Chicago:20210923T180000
DTEND;TZID=America/Chicago:20210923T210000
DTSTAMP:20260421T045058
CREATED:20210413T174821Z
LAST-MODIFIED:20210413T174821Z
UID:10005009-1632420000-1632430800@dev.medinaentertainment.com
SUMMARY:Michael Paul Duo
DESCRIPTION:
URL:https://dev.medinaentertainment.com/event/michael-paul-duo-5/
LOCATION:Homepage
END:VEVENT
BEGIN:VEVENT
DTSTART;TZID=America/Chicago:20210921T193000
DTEND;TZID=America/Chicago:20210921T210000
DTSTAMP:20260421T045058
CREATED:20210602T185211Z
LAST-MODIFIED:20210602T185211Z
UID:10005027-1632252600-1632258000@dev.medinaentertainment.com
SUMMARY:CANCELLED SAT Dance Lessons
DESCRIPTION:S.A.T. Dance Classes \n  \nS.A.T. members must show their membership card when attending S.A.T. or S.I.G. (Special Interest Group) functions. Non-members and guests may attend S.I.G. dance class without being a S.A.T. member. \n  \nS.A.T. (Singles All Together Dance Classes) lesson at the Medina Ballroom 500 hey 55\, Medina\, MN in the Event Rooms or Ballroom. Look for Red Jeep in front of door upstairs if in ballroom. \nDance Classes for Singles. Married Couples Welcome. Learn to partner dance. Come and have fun and meet new friends. \n  \nCost is $10 per week. Plenty of free parking. \n  \nFor information\, call the S.I.G. Leader: Carol Carlson 952-334-9793 \nDance Instructor: Larry Ablin 612-599-7856 \nOnline: comedancewithus.com \n  \nSeptember – October 2021: Nightclub 2 Step \nNovember 2021 – January 2022: Westcoast Swing \nFebruary – March 2022: Eastcoast Swing \nApril – June 2022: Waltz \nJuly – August 2022: Foxtrot \nSeptember – October 2022: ChaCha \nNovember – December 2022: Tango \n 
URL:https://dev.medinaentertainment.com/event/sat-dance-lessons-2/2021-09-21/
LOCATION:Homepage
END:VEVENT
BEGIN:VEVENT
DTSTART;TZID=America/Chicago:20210919T060000
DTEND;TZID=America/Chicago:20210919T120000
DTSTAMP:20260421T045058
CREATED:20210322T112113Z
LAST-MODIFIED:20210322T112113Z
UID:10004996-1632031200-1632052800@dev.medinaentertainment.com
SUMMARY:Hamel Lion's Flea Market
DESCRIPTION:
URL:https://dev.medinaentertainment.com/event/hamel-lions-flea-market-36/
LOCATION:Homepage
END:VEVENT
BEGIN:VEVENT
DTSTART;TZID=America/Chicago:20210918T130000
DTEND;TZID=America/Chicago:20210918T160000
DTSTAMP:20260421T045058
CREATED:20210620T114520Z
LAST-MODIFIED:20210620T114520Z
UID:10005481-1631970000-1631980800@dev.medinaentertainment.com
SUMMARY:Funky Brew Medina Beer Festival
DESCRIPTION:
URL:https://dev.medinaentertainment.com/event/funky-brew-medina-beer-festival-3/
LOCATION:Homepage
END:VEVENT
BEGIN:VEVENT
DTSTART;TZID=America/Chicago:20210917T193000
DTEND;TZID=America/Chicago:20210917T233000
DTSTAMP:20260421T045058
CREATED:20200915T202246Z
LAST-MODIFIED:20200915T202246Z
UID:10003685-1631907000-1631921400@dev.medinaentertainment.com
SUMMARY:THE HYPE! with guest Heartless (Tribute to Heart)
DESCRIPTION:
URL:https://dev.medinaentertainment.com/event/the-hype/
LOCATION:Homepage
END:VEVENT
BEGIN:VEVENT
DTSTART;TZID=America/Chicago:20210916T180000
DTEND;TZID=America/Chicago:20210916T210000
DTSTAMP:20260421T045058
CREATED:20210413T173726Z
LAST-MODIFIED:20210413T173726Z
UID:10005008-1631815200-1631826000@dev.medinaentertainment.com
SUMMARY:Shalo Lee Duo
DESCRIPTION:
URL:https://dev.medinaentertainment.com/event/shalo-lee-duo-4/
LOCATION:Homepage
END:VEVENT
BEGIN:VEVENT
DTSTART;TZID=America/Chicago:20210914T193000
DTEND;TZID=America/Chicago:20210914T210000
DTSTAMP:20260421T045058
CREATED:20210602T185211Z
LAST-MODIFIED:20210602T185211Z
UID:10005026-1631647800-1631653200@dev.medinaentertainment.com
SUMMARY:CANCELLED SAT Dance Lessons
DESCRIPTION:S.A.T. Dance Classes \n  \nS.A.T. members must show their membership card when attending S.A.T. or S.I.G. (Special Interest Group) functions. Non-members and guests may attend S.I.G. dance class without being a S.A.T. member. \n  \nS.A.T. (Singles All Together Dance Classes) lesson at the Medina Ballroom 500 hey 55\, Medina\, MN in the Event Rooms or Ballroom. Look for Red Jeep in front of door upstairs if in ballroom. \nDance Classes for Singles. Married Couples Welcome. Learn to partner dance. Come and have fun and meet new friends. \n  \nCost is $10 per week. Plenty of free parking. \n  \nFor information\, call the S.I.G. Leader: Carol Carlson 952-334-9793 \nDance Instructor: Larry Ablin 612-599-7856 \nOnline: comedancewithus.com \n  \nSeptember – October 2021: Nightclub 2 Step \nNovember 2021 – January 2022: Westcoast Swing \nFebruary – March 2022: Eastcoast Swing \nApril – June 2022: Waltz \nJuly – August 2022: Foxtrot \nSeptember – October 2022: ChaCha \nNovember – December 2022: Tango \n 
URL:https://dev.medinaentertainment.com/event/sat-dance-lessons-2/2021-09-14/
LOCATION:Homepage
END:VEVENT
BEGIN:VEVENT
DTSTART;TZID=America/Chicago:20210912T060000
DTEND;TZID=America/Chicago:20210912T120000
DTSTAMP:20260421T045058
CREATED:20210322T112049Z
LAST-MODIFIED:20210322T112049Z
UID:10004995-1631426400-1631448000@dev.medinaentertainment.com
SUMMARY:Hamel Lion's Flea Market
DESCRIPTION:
URL:https://dev.medinaentertainment.com/event/hamel-lions-flea-market-35/
LOCATION:Homepage
END:VEVENT
BEGIN:VEVENT
DTSTART;TZID=America/Chicago:20210910T190000
DTEND;TZID=America/Chicago:20210910T230000
DTSTAMP:20260421T045058
CREATED:20210827T132747Z
LAST-MODIFIED:20210827T132747Z
UID:10005489-1631300400-1631314800@dev.medinaentertainment.com
SUMMARY:Blues A Paloosa
DESCRIPTION:
URL:https://dev.medinaentertainment.com/event/blues-a-paloosa/
LOCATION:Homepage
END:VEVENT
BEGIN:VEVENT
DTSTART;TZID=America/Chicago:20210909T180000
DTEND;TZID=America/Chicago:20210909T210000
DTSTAMP:20260421T045058
CREATED:20210413T173406Z
LAST-MODIFIED:20210413T173406Z
UID:10005007-1631210400-1631221200@dev.medinaentertainment.com
SUMMARY:Shane Martin
DESCRIPTION:
URL:https://dev.medinaentertainment.com/event/shane-martin-4/
LOCATION:Homepage
END:VEVENT
BEGIN:VEVENT
DTSTART;TZID=America/Chicago:20210907T193000
DTEND;TZID=America/Chicago:20210907T210000
DTSTAMP:20260421T045058
CREATED:20210602T185211Z
LAST-MODIFIED:20210602T185211Z
UID:10005025-1631043000-1631048400@dev.medinaentertainment.com
SUMMARY:CANCELLED SAT Dance Lessons
DESCRIPTION:S.A.T. Dance Classes \n  \nS.A.T. members must show their membership card when attending S.A.T. or S.I.G. (Special Interest Group) functions. Non-members and guests may attend S.I.G. dance class without being a S.A.T. member. \n  \nS.A.T. (Singles All Together Dance Classes) lesson at the Medina Ballroom 500 hey 55\, Medina\, MN in the Event Rooms or Ballroom. Look for Red Jeep in front of door upstairs if in ballroom. \nDance Classes for Singles. Married Couples Welcome. Learn to partner dance. Come and have fun and meet new friends. \n  \nCost is $10 per week. Plenty of free parking. \n  \nFor information\, call the S.I.G. Leader: Carol Carlson 952-334-9793 \nDance Instructor: Larry Ablin 612-599-7856 \nOnline: comedancewithus.com \n  \nSeptember – October 2021: Nightclub 2 Step \nNovember 2021 – January 2022: Westcoast Swing \nFebruary – March 2022: Eastcoast Swing \nApril – June 2022: Waltz \nJuly – August 2022: Foxtrot \nSeptember – October 2022: ChaCha \nNovember – December 2022: Tango \n 
URL:https://dev.medinaentertainment.com/event/sat-dance-lessons-2/2021-09-07/
LOCATION:Homepage
END:VEVENT
BEGIN:VEVENT
DTSTART;TZID=America/Chicago:20210906T000000
DTEND;TZID=America/Chicago:20210906T235959
DTSTAMP:20260421T045058
CREATED:20201007T175638Z
LAST-MODIFIED:20201007T175638Z
UID:10003693-1630886400-1630972799@dev.medinaentertainment.com
SUMMARY:CLOSED for Labor Day
DESCRIPTION:
URL:https://dev.medinaentertainment.com/event/closed-for-labor-day-5/
LOCATION:Homepage
END:VEVENT
BEGIN:VEVENT
DTSTART;TZID=America/Chicago:20210905T060000
DTEND;TZID=America/Chicago:20210905T120000
DTSTAMP:20260421T045058
CREATED:20210322T112018Z
LAST-MODIFIED:20210322T112018Z
UID:10004994-1630821600-1630843200@dev.medinaentertainment.com
SUMMARY:Hamel Lion's Flea Market
DESCRIPTION:
URL:https://dev.medinaentertainment.com/event/hamel-lions-flea-market-34/
LOCATION:Homepage
END:VEVENT
BEGIN:VEVENT
DTSTART;TZID=America/Chicago:20210902T180000
DTEND;TZID=America/Chicago:20210902T210000
DTSTAMP:20260421T045058
CREATED:20210413T173201Z
LAST-MODIFIED:20210413T173201Z
UID:10005006-1630605600-1630616400@dev.medinaentertainment.com
SUMMARY:Red Dot Garage
DESCRIPTION:
URL:https://dev.medinaentertainment.com/event/red-dot-garage-3/
LOCATION:Homepage
END:VEVENT
BEGIN:VEVENT
DTSTART;TZID=America/Chicago:20210831T193000
DTEND;TZID=America/Chicago:20210831T210000
DTSTAMP:20260421T045058
CREATED:20210602T185211Z
LAST-MODIFIED:20210602T185211Z
UID:10005024-1630438200-1630443600@dev.medinaentertainment.com
SUMMARY:CANCELLED SAT Dance Lessons
DESCRIPTION:S.A.T. Dance Classes \n  \nS.A.T. members must show their membership card when attending S.A.T. or S.I.G. (Special Interest Group) functions. Non-members and guests may attend S.I.G. dance class without being a S.A.T. member. \n  \nS.A.T. (Singles All Together Dance Classes) lesson at the Medina Ballroom 500 hey 55\, Medina\, MN in the Event Rooms or Ballroom. Look for Red Jeep in front of door upstairs if in ballroom. \nDance Classes for Singles. Married Couples Welcome. Learn to partner dance. Come and have fun and meet new friends. \n  \nCost is $10 per week. Plenty of free parking. \n  \nFor information\, call the S.I.G. Leader: Carol Carlson 952-334-9793 \nDance Instructor: Larry Ablin 612-599-7856 \nOnline: comedancewithus.com \n  \nSeptember – October 2021: Nightclub 2 Step \nNovember 2021 – January 2022: Westcoast Swing \nFebruary – March 2022: Eastcoast Swing \nApril – June 2022: Waltz \nJuly – August 2022: Foxtrot \nSeptember – October 2022: ChaCha \nNovember – December 2022: Tango \n 
URL:https://dev.medinaentertainment.com/event/sat-dance-lessons-2/2021-08-31/
LOCATION:Homepage
END:VEVENT
BEGIN:VEVENT
DTSTART;TZID=America/Chicago:20210829T060000
DTEND;TZID=America/Chicago:20210829T120000
DTSTAMP:20260421T045058
CREATED:20210322T111953Z
LAST-MODIFIED:20210322T111953Z
UID:10004993-1630216800-1630238400@dev.medinaentertainment.com
SUMMARY:Hamel Lion's Flea Market
DESCRIPTION:
URL:https://dev.medinaentertainment.com/event/hamel-lions-flea-market-33/
LOCATION:Homepage
END:VEVENT
BEGIN:VEVENT
DTSTART;TZID=America/Chicago:20210826T180000
DTEND;TZID=America/Chicago:20210826T210000
DTSTAMP:20260421T045058
CREATED:20210413T172935Z
LAST-MODIFIED:20210413T172935Z
UID:10005005-1630000800-1630011600@dev.medinaentertainment.com
SUMMARY:Michael Paul Duo
DESCRIPTION:
URL:https://dev.medinaentertainment.com/event/michael-paul-duo-4/
LOCATION:Homepage
END:VEVENT
BEGIN:VEVENT
DTSTART;TZID=America/Chicago:20210824T193000
DTEND;TZID=America/Chicago:20210824T210000
DTSTAMP:20260421T045058
CREATED:20210602T185211Z
LAST-MODIFIED:20210602T185211Z
UID:10005023-1629833400-1629838800@dev.medinaentertainment.com
SUMMARY:CANCELLED SAT Dance Lessons
DESCRIPTION:S.A.T. Dance Classes \n  \nS.A.T. members must show their membership card when attending S.A.T. or S.I.G. (Special Interest Group) functions. Non-members and guests may attend S.I.G. dance class without being a S.A.T. member. \n  \nS.A.T. (Singles All Together Dance Classes) lesson at the Medina Ballroom 500 hey 55\, Medina\, MN in the Event Rooms or Ballroom. Look for Red Jeep in front of door upstairs if in ballroom. \nDance Classes for Singles. Married Couples Welcome. Learn to partner dance. Come and have fun and meet new friends. \n  \nCost is $10 per week. Plenty of free parking. \n  \nFor information\, call the S.I.G. Leader: Carol Carlson 952-334-9793 \nDance Instructor: Larry Ablin 612-599-7856 \nOnline: comedancewithus.com \n  \nSeptember – October 2021: Nightclub 2 Step \nNovember 2021 – January 2022: Westcoast Swing \nFebruary – March 2022: Eastcoast Swing \nApril – June 2022: Waltz \nJuly – August 2022: Foxtrot \nSeptember – October 2022: ChaCha \nNovember – December 2022: Tango \n 
URL:https://dev.medinaentertainment.com/event/sat-dance-lessons-2/2021-08-24/
LOCATION:Homepage
END:VEVENT
BEGIN:VEVENT
DTSTART;TZID=America/Chicago:20210822T060000
DTEND;TZID=America/Chicago:20210822T120000
DTSTAMP:20260421T045058
CREATED:20210322T111925Z
LAST-MODIFIED:20210322T111925Z
UID:10004992-1629612000-1629633600@dev.medinaentertainment.com
SUMMARY:Hamel Lion's Flea Market
DESCRIPTION:
URL:https://dev.medinaentertainment.com/event/hamel-lions-flea-market-32/
LOCATION:Homepage
END:VEVENT
BEGIN:VEVENT
DTSTART;TZID=America/Chicago:20210822T000000
DTEND;TZID=America/Chicago:20210822T235959
DTSTAMP:20260421T045058
CREATED:20210622T144839Z
LAST-MODIFIED:20210622T144839Z
UID:10005482-1629590400-1629676799@dev.medinaentertainment.com
SUMMARY:MEC Closed - Employee Appreciation
DESCRIPTION:
URL:https://dev.medinaentertainment.com/event/mec-closed-employee-appreciation/
LOCATION:Homepage
END:VEVENT
BEGIN:VEVENT
DTSTART;TZID=America/Chicago:20210819T180000
DTEND;TZID=America/Chicago:20210819T210000
DTSTAMP:20260421T045058
CREATED:20210413T172628Z
LAST-MODIFIED:20210413T172628Z
UID:10005004-1629396000-1629406800@dev.medinaentertainment.com
SUMMARY:Shalo Lee Duo
DESCRIPTION:
URL:https://dev.medinaentertainment.com/event/shalo-lee-duo-3/
LOCATION:Homepage
END:VEVENT
BEGIN:VEVENT
DTSTART;TZID=America/Chicago:20210817T193000
DTEND;TZID=America/Chicago:20210817T210000
DTSTAMP:20260421T045058
CREATED:20210602T185211Z
LAST-MODIFIED:20210602T185211Z
UID:10005022-1629228600-1629234000@dev.medinaentertainment.com
SUMMARY:CANCELLED SAT Dance Lessons
DESCRIPTION:S.A.T. Dance Classes \n  \nS.A.T. members must show their membership card when attending S.A.T. or S.I.G. (Special Interest Group) functions. Non-members and guests may attend S.I.G. dance class without being a S.A.T. member. \n  \nS.A.T. (Singles All Together Dance Classes) lesson at the Medina Ballroom 500 hey 55\, Medina\, MN in the Event Rooms or Ballroom. Look for Red Jeep in front of door upstairs if in ballroom. \nDance Classes for Singles. Married Couples Welcome. Learn to partner dance. Come and have fun and meet new friends. \n  \nCost is $10 per week. Plenty of free parking. \n  \nFor information\, call the S.I.G. Leader: Carol Carlson 952-334-9793 \nDance Instructor: Larry Ablin 612-599-7856 \nOnline: comedancewithus.com \n  \nSeptember – October 2021: Nightclub 2 Step \nNovember 2021 – January 2022: Westcoast Swing \nFebruary – March 2022: Eastcoast Swing \nApril – June 2022: Waltz \nJuly – August 2022: Foxtrot \nSeptember – October 2022: ChaCha \nNovember – December 2022: Tango \n 
URL:https://dev.medinaentertainment.com/event/sat-dance-lessons-2/2021-08-17/
LOCATION:Homepage
END:VEVENT
BEGIN:VEVENT
DTSTART;TZID=America/Chicago:20210815T060000
DTEND;TZID=America/Chicago:20210815T120000
DTSTAMP:20260421T045058
CREATED:20210322T111858Z
LAST-MODIFIED:20210322T111858Z
UID:10004991-1629007200-1629028800@dev.medinaentertainment.com
SUMMARY:Hamel Lion's Flea Market
DESCRIPTION:
URL:https://dev.medinaentertainment.com/event/hamel-lions-flea-market-31/
LOCATION:Homepage
END:VEVENT
BEGIN:VEVENT
DTSTART;TZID=America/Chicago:20210812T180000
DTEND;TZID=America/Chicago:20210812T210000
DTSTAMP:20260421T045058
CREATED:20210412T231158Z
LAST-MODIFIED:20210412T231158Z
UID:10005003-1628791200-1628802000@dev.medinaentertainment.com
SUMMARY:Shane Martin
DESCRIPTION:
URL:https://dev.medinaentertainment.com/event/shane-martin-3/
LOCATION:Homepage
END:VEVENT
END:VCALENDAR