BEGIN:VCALENDAR
VERSION:2.0
PRODID:-//Default Site Template - ECPv6.0.2//NONSGML v1.0//EN
CALSCALE:GREGORIAN
METHOD:PUBLISH
X-WR-CALNAME:Default Site Template
X-ORIGINAL-URL:https://dev.medinaentertainment.com
X-WR-CALDESC:Events for Default Site Template
REFRESH-INTERVAL;VALUE=DURATION:PT1H
X-Robots-Tag:noindex
X-PUBLISHED-TTL:PT1H
BEGIN:VTIMEZONE
TZID:America/Chicago
BEGIN:DAYLIGHT
TZOFFSETFROM:-0600
TZOFFSETTO:-0500
TZNAME:CDT
DTSTART:20200308T080000
END:DAYLIGHT
BEGIN:STANDARD
TZOFFSETFROM:-0500
TZOFFSETTO:-0600
TZNAME:CST
DTSTART:20201101T070000
END:STANDARD
END:VTIMEZONE
BEGIN:VEVENT
DTSTART;TZID=America/Chicago:20200602T000000
DTEND;TZID=America/Chicago:20200602T235959
DTSTAMP:20260423T084614
CREATED:20191221T154503Z
LAST-MODIFIED:20191221T154503Z
UID:10003419-1591056000-1591142399@dev.medinaentertainment.com
SUMMARY:CANCELLED: S.A.T. Dance Lessons
DESCRIPTION:December thru January 2020 not Dec 24 or 31\nTango\n\n\nFebruary thru March 2020\nNightclub 2 step\n\n\nApril thru May 2020\nWestcoast swing\n\n\nJune thru July 2020\nEastcoast swing\n\n\nAugust thru September 2020\nWaltz\n\n\nOctober thru November 2020\nFoxtrot\n\n\nDecember 2020 thru February 2021\nCountry 2 step\n\n\n\nCost $7 for Members and $10 for Non Members. \nFor More Information Call Carol 952-334-9793 or Larry 612-599-7856. \nSingles and Married Couples are Welcome.
URL:https://dev.medinaentertainment.com/event/s-a-t-dance-lessons-5-2020-06-02/
LOCATION:Homepage
END:VEVENT
BEGIN:VEVENT
DTSTART;TZID=America/Chicago:20200531T000000
DTEND;TZID=America/Chicago:20200531T235959
DTSTAMP:20260423T084614
CREATED:20200310T112505Z
LAST-MODIFIED:20200310T112505Z
UID:10003625-1590883200-1590969599@dev.medinaentertainment.com
SUMMARY:CANCELLED: Hamel Lions Flea Market
DESCRIPTION:
URL:https://dev.medinaentertainment.com/event/hamel-lions-flea-market-13-2020-05-31/
LOCATION:Homepage
END:VEVENT
BEGIN:VEVENT
DTSTART;TZID=America/Chicago:20200528T183000
DTEND;TZID=America/Chicago:20200528T203000
DTSTAMP:20260423T084614
CREATED:20200227T105434Z
LAST-MODIFIED:20200227T105434Z
UID:10003561-1590690600-1590697800@dev.medinaentertainment.com
SUMMARY:Psychic Ruth Lordan
DESCRIPTION:
URL:https://dev.medinaentertainment.com/event/psychic-ruth-lordan-22/2020-05-28/
LOCATION:Homepage
END:VEVENT
BEGIN:VEVENT
DTSTART;TZID=America/Chicago:20200528T000000
DTEND;TZID=America/Chicago:20200528T235959
DTSTAMP:20260423T084614
CREATED:20200227T105434Z
LAST-MODIFIED:20200227T105434Z
UID:10003597-1590624000-1590710399@dev.medinaentertainment.com
SUMMARY:CANCELLED: Psychic Ruth Lordan
DESCRIPTION:
URL:https://dev.medinaentertainment.com/event/psychic-ruth-lordan-22-2020-05-28/
LOCATION:Homepage
END:VEVENT
BEGIN:VEVENT
DTSTART;TZID=America/Chicago:20200527T000000
DTEND;TZID=America/Chicago:20200527T235959
DTSTAMP:20260423T084614
CREATED:20200227T105226Z
LAST-MODIFIED:20200227T105226Z
UID:10003526-1590537600-1590623999@dev.medinaentertainment.com
SUMMARY:CANCELLED: Psychic Ruth Lordan
DESCRIPTION:
URL:https://dev.medinaentertainment.com/event/psychic-ruth-lordan-21-2020-05-27/
LOCATION:Homepage
END:VEVENT
BEGIN:VEVENT
DTSTART;TZID=America/Chicago:20200526T193000
DTEND;TZID=America/Chicago:20200526T210000
DTSTAMP:20260423T084614
CREATED:20191221T154503Z
LAST-MODIFIED:20191221T154503Z
UID:10003376-1590521400-1590526800@dev.medinaentertainment.com
SUMMARY:CANCELLED: S.A.T. Dance Lessons
DESCRIPTION:December thru January 2020 not Dec 24 or 31\nTango\n\n\nFebruary thru March 2020\nNightclub 2 step\n\n\nApril thru May 2020\nWestcoast swing\n\n\nJune thru July 2020\nEastcoast swing\n\n\nAugust thru September 2020\nWaltz\n\n\nOctober thru November 2020\nFoxtrot\n\n\nDecember 2020 thru February 2021\nCountry 2 step\n\n\n\nCost $7 for Members and $10 for Non Members. \nFor More Information Call Carol 952-334-9793 or Larry 612-599-7856. \nSingles and Married Couples are Welcome.
URL:https://dev.medinaentertainment.com/event/s-a-t-dance-lessons-5/2020-05-26/
LOCATION:Homepage
END:VEVENT
BEGIN:VEVENT
DTSTART;TZID=America/Chicago:20200526T000000
DTEND;TZID=America/Chicago:20200526T235959
DTSTAMP:20260423T084614
CREATED:20191221T154503Z
LAST-MODIFIED:20191221T154503Z
UID:10003418-1590451200-1590537599@dev.medinaentertainment.com
SUMMARY:CANCELLED: S.A.T. Dance Lessons
DESCRIPTION:December thru January 2020 not Dec 24 or 31\nTango\n\n\nFebruary thru March 2020\nNightclub 2 step\n\n\nApril thru May 2020\nWestcoast swing\n\n\nJune thru July 2020\nEastcoast swing\n\n\nAugust thru September 2020\nWaltz\n\n\nOctober thru November 2020\nFoxtrot\n\n\nDecember 2020 thru February 2021\nCountry 2 step\n\n\n\nCost $7 for Members and $10 for Non Members. \nFor More Information Call Carol 952-334-9793 or Larry 612-599-7856. \nSingles and Married Couples are Welcome.
URL:https://dev.medinaentertainment.com/event/s-a-t-dance-lessons-5-2020-05-26/
LOCATION:Homepage
END:VEVENT
BEGIN:VEVENT
DTSTART;TZID=America/Chicago:20200525T000000
DTEND;TZID=America/Chicago:20200525T235959
DTSTAMP:20260423T084614
CREATED:20200207T142739Z
LAST-MODIFIED:20200207T142739Z
UID:10003507-1590364800-1590451199@dev.medinaentertainment.com
SUMMARY:CLOSED for Memorial Day
DESCRIPTION:
URL:https://dev.medinaentertainment.com/event/closed-for-memorial-day-4/
LOCATION:Homepage
END:VEVENT
BEGIN:VEVENT
DTSTART;TZID=America/Chicago:20200524T000000
DTEND;TZID=America/Chicago:20200524T235959
DTSTAMP:20260423T084614
CREATED:20200310T112505Z
LAST-MODIFIED:20200310T112505Z
UID:10003624-1590278400-1590364799@dev.medinaentertainment.com
SUMMARY:CANCELLED: Hamel Lions Flea Market
DESCRIPTION:
URL:https://dev.medinaentertainment.com/event/hamel-lions-flea-market-13-2020-05-24/
LOCATION:Homepage
END:VEVENT
BEGIN:VEVENT
DTSTART;TZID=America/Chicago:20200521T183000
DTEND;TZID=America/Chicago:20200521T203000
DTSTAMP:20260423T084614
CREATED:20200227T105434Z
LAST-MODIFIED:20200227T105434Z
UID:10003560-1590085800-1590093000@dev.medinaentertainment.com
SUMMARY:Psychic Ruth Lordan
DESCRIPTION:
URL:https://dev.medinaentertainment.com/event/psychic-ruth-lordan-22/2020-05-21/
LOCATION:Homepage
END:VEVENT
BEGIN:VEVENT
DTSTART;TZID=America/Chicago:20200521T000000
DTEND;TZID=America/Chicago:20200521T235959
DTSTAMP:20260423T084614
CREATED:20200227T105434Z
LAST-MODIFIED:20200227T105434Z
UID:10003596-1590019200-1590105599@dev.medinaentertainment.com
SUMMARY:CANCELLED: Psychic Ruth Lordan
DESCRIPTION:
URL:https://dev.medinaentertainment.com/event/psychic-ruth-lordan-22-2020-05-21/
LOCATION:Homepage
END:VEVENT
BEGIN:VEVENT
DTSTART;TZID=America/Chicago:20200520T000000
DTEND;TZID=America/Chicago:20200520T235959
DTSTAMP:20260423T084614
CREATED:20200227T105226Z
LAST-MODIFIED:20200227T105226Z
UID:10003525-1589932800-1590019199@dev.medinaentertainment.com
SUMMARY:CANCELLED: Psychic Ruth Lordan
DESCRIPTION:
URL:https://dev.medinaentertainment.com/event/psychic-ruth-lordan-21-2020-05-20/
LOCATION:Homepage
END:VEVENT
BEGIN:VEVENT
DTSTART;TZID=America/Chicago:20200519T193000
DTEND;TZID=America/Chicago:20200519T210000
DTSTAMP:20260423T084614
CREATED:20191221T154503Z
LAST-MODIFIED:20191221T154503Z
UID:10003375-1589916600-1589922000@dev.medinaentertainment.com
SUMMARY:CANCELLED: S.A.T. Dance Lessons
DESCRIPTION:December thru January 2020 not Dec 24 or 31\nTango\n\n\nFebruary thru March 2020\nNightclub 2 step\n\n\nApril thru May 2020\nWestcoast swing\n\n\nJune thru July 2020\nEastcoast swing\n\n\nAugust thru September 2020\nWaltz\n\n\nOctober thru November 2020\nFoxtrot\n\n\nDecember 2020 thru February 2021\nCountry 2 step\n\n\n\nCost $7 for Members and $10 for Non Members. \nFor More Information Call Carol 952-334-9793 or Larry 612-599-7856. \nSingles and Married Couples are Welcome.
URL:https://dev.medinaentertainment.com/event/s-a-t-dance-lessons-5/2020-05-19/
LOCATION:Homepage
END:VEVENT
BEGIN:VEVENT
DTSTART;TZID=America/Chicago:20200519T000000
DTEND;TZID=America/Chicago:20200519T235959
DTSTAMP:20260423T084614
CREATED:20191221T154503Z
LAST-MODIFIED:20191221T154503Z
UID:10003417-1589846400-1589932799@dev.medinaentertainment.com
SUMMARY:CANCELLED: S.A.T. Dance Lessons
DESCRIPTION:December thru January 2020 not Dec 24 or 31\nTango\n\n\nFebruary thru March 2020\nNightclub 2 step\n\n\nApril thru May 2020\nWestcoast swing\n\n\nJune thru July 2020\nEastcoast swing\n\n\nAugust thru September 2020\nWaltz\n\n\nOctober thru November 2020\nFoxtrot\n\n\nDecember 2020 thru February 2021\nCountry 2 step\n\n\n\nCost $7 for Members and $10 for Non Members. \nFor More Information Call Carol 952-334-9793 or Larry 612-599-7856. \nSingles and Married Couples are Welcome.
URL:https://dev.medinaentertainment.com/event/s-a-t-dance-lessons-5-2020-05-19/
LOCATION:Homepage
END:VEVENT
BEGIN:VEVENT
DTSTART;TZID=America/Chicago:20200517T000000
DTEND;TZID=America/Chicago:20200517T235959
DTSTAMP:20260423T084614
CREATED:20200310T112505Z
LAST-MODIFIED:20200310T112505Z
UID:10003623-1589673600-1589759999@dev.medinaentertainment.com
SUMMARY:CANCELLED: Hamel Lions Flea Market
DESCRIPTION:
URL:https://dev.medinaentertainment.com/event/hamel-lions-flea-market-13/
LOCATION:Homepage
END:VEVENT
BEGIN:VEVENT
DTSTART;TZID=America/Chicago:20200514T183000
DTEND;TZID=America/Chicago:20200514T203000
DTSTAMP:20260423T084614
CREATED:20200227T105434Z
LAST-MODIFIED:20200227T105434Z
UID:10003559-1589481000-1589488200@dev.medinaentertainment.com
SUMMARY:Psychic Ruth Lordan
DESCRIPTION:
URL:https://dev.medinaentertainment.com/event/psychic-ruth-lordan-22/2020-05-14/
LOCATION:Homepage
END:VEVENT
BEGIN:VEVENT
DTSTART;TZID=America/Chicago:20200514T000000
DTEND;TZID=America/Chicago:20200514T235959
DTSTAMP:20260423T084614
CREATED:20200227T105434Z
LAST-MODIFIED:20200227T105434Z
UID:10003595-1589414400-1589500799@dev.medinaentertainment.com
SUMMARY:CANCELLED: Psychic Ruth Lordan
DESCRIPTION:
URL:https://dev.medinaentertainment.com/event/psychic-ruth-lordan-22-2020-05-14/
LOCATION:Homepage
END:VEVENT
BEGIN:VEVENT
DTSTART;TZID=America/Chicago:20200513T000000
DTEND;TZID=America/Chicago:20200513T235959
DTSTAMP:20260423T084614
CREATED:20200227T105226Z
LAST-MODIFIED:20200227T105226Z
UID:10003524-1589328000-1589414399@dev.medinaentertainment.com
SUMMARY:CANCELLED: Psychic Ruth Lordan
DESCRIPTION:
URL:https://dev.medinaentertainment.com/event/psychic-ruth-lordan-21-2020-05-13/
LOCATION:Homepage
END:VEVENT
BEGIN:VEVENT
DTSTART;TZID=America/Chicago:20200512T193000
DTEND;TZID=America/Chicago:20200512T210000
DTSTAMP:20260423T084614
CREATED:20191221T154503Z
LAST-MODIFIED:20191221T154503Z
UID:10003374-1589311800-1589317200@dev.medinaentertainment.com
SUMMARY:CANCELLED: S.A.T. Dance Lessons
DESCRIPTION:December thru January 2020 not Dec 24 or 31\nTango\n\n\nFebruary thru March 2020\nNightclub 2 step\n\n\nApril thru May 2020\nWestcoast swing\n\n\nJune thru July 2020\nEastcoast swing\n\n\nAugust thru September 2020\nWaltz\n\n\nOctober thru November 2020\nFoxtrot\n\n\nDecember 2020 thru February 2021\nCountry 2 step\n\n\n\nCost $7 for Members and $10 for Non Members. \nFor More Information Call Carol 952-334-9793 or Larry 612-599-7856. \nSingles and Married Couples are Welcome.
URL:https://dev.medinaentertainment.com/event/s-a-t-dance-lessons-5/2020-05-12/
LOCATION:Homepage
END:VEVENT
BEGIN:VEVENT
DTSTART;TZID=America/Chicago:20200512T000000
DTEND;TZID=America/Chicago:20200512T235959
DTSTAMP:20260423T084614
CREATED:20191221T154503Z
LAST-MODIFIED:20191221T154503Z
UID:10003416-1589241600-1589327999@dev.medinaentertainment.com
SUMMARY:CANCELLED: S.A.T. Dance Lessons
DESCRIPTION:December thru January 2020 not Dec 24 or 31\nTango\n\n\nFebruary thru March 2020\nNightclub 2 step\n\n\nApril thru May 2020\nWestcoast swing\n\n\nJune thru July 2020\nEastcoast swing\n\n\nAugust thru September 2020\nWaltz\n\n\nOctober thru November 2020\nFoxtrot\n\n\nDecember 2020 thru February 2021\nCountry 2 step\n\n\n\nCost $7 for Members and $10 for Non Members. \nFor More Information Call Carol 952-334-9793 or Larry 612-599-7856. \nSingles and Married Couples are Welcome.
URL:https://dev.medinaentertainment.com/event/s-a-t-dance-lessons-5-2020-05-12/
LOCATION:Homepage
END:VEVENT
BEGIN:VEVENT
DTSTART;TZID=America/Chicago:20200510T000000
DTEND;TZID=America/Chicago:20200510T235959
DTSTAMP:20260423T084614
CREATED:20200310T112830Z
LAST-MODIFIED:20200310T112830Z
UID:10003637-1589068800-1589155199@dev.medinaentertainment.com
SUMMARY:CANCELLED: Hamel Lions Flea Market
DESCRIPTION:
URL:https://dev.medinaentertainment.com/event/cancelled-hamel-lions-flea-market-5/
LOCATION:Homepage
END:VEVENT
BEGIN:VEVENT
DTSTART;TZID=America/Chicago:20200507T183000
DTEND;TZID=America/Chicago:20200507T203000
DTSTAMP:20260423T084614
CREATED:20200227T105434Z
LAST-MODIFIED:20200227T105434Z
UID:10003558-1588876200-1588883400@dev.medinaentertainment.com
SUMMARY:Psychic Ruth Lordan
DESCRIPTION:
URL:https://dev.medinaentertainment.com/event/psychic-ruth-lordan-22/2020-05-07/
LOCATION:Homepage
END:VEVENT
BEGIN:VEVENT
DTSTART;TZID=America/Chicago:20200507T000000
DTEND;TZID=America/Chicago:20200507T235959
DTSTAMP:20260423T084614
CREATED:20200227T105434Z
LAST-MODIFIED:20200227T105434Z
UID:10003594-1588809600-1588895999@dev.medinaentertainment.com
SUMMARY:CANCELLED: Psychic Ruth Lordan
DESCRIPTION:
URL:https://dev.medinaentertainment.com/event/psychic-ruth-lordan-22-2020-05-07/
LOCATION:Homepage
END:VEVENT
BEGIN:VEVENT
DTSTART;TZID=America/Chicago:20200506T000000
DTEND;TZID=America/Chicago:20200506T235959
DTSTAMP:20260423T084614
CREATED:20200227T105226Z
LAST-MODIFIED:20200227T105226Z
UID:10003523-1588723200-1588809599@dev.medinaentertainment.com
SUMMARY:CANCELLED: Psychic Ruth Lordan
DESCRIPTION:
URL:https://dev.medinaentertainment.com/event/psychic-ruth-lordan-21-2020-05-06/
LOCATION:Homepage
END:VEVENT
BEGIN:VEVENT
DTSTART;TZID=America/Chicago:20200505T193000
DTEND;TZID=America/Chicago:20200505T210000
DTSTAMP:20260423T084614
CREATED:20191221T154503Z
LAST-MODIFIED:20191221T154503Z
UID:10003373-1588707000-1588712400@dev.medinaentertainment.com
SUMMARY:CANCELLED: S.A.T. Dance Lessons
DESCRIPTION:December thru January 2020 not Dec 24 or 31\nTango\n\n\nFebruary thru March 2020\nNightclub 2 step\n\n\nApril thru May 2020\nWestcoast swing\n\n\nJune thru July 2020\nEastcoast swing\n\n\nAugust thru September 2020\nWaltz\n\n\nOctober thru November 2020\nFoxtrot\n\n\nDecember 2020 thru February 2021\nCountry 2 step\n\n\n\nCost $7 for Members and $10 for Non Members. \nFor More Information Call Carol 952-334-9793 or Larry 612-599-7856. \nSingles and Married Couples are Welcome.
URL:https://dev.medinaentertainment.com/event/s-a-t-dance-lessons-5/2020-05-05/
LOCATION:Homepage
END:VEVENT
BEGIN:VEVENT
DTSTART;TZID=America/Chicago:20200505T000000
DTEND;TZID=America/Chicago:20200505T235959
DTSTAMP:20260423T084614
CREATED:20191221T154503Z
LAST-MODIFIED:20191221T154503Z
UID:10003415-1588636800-1588723199@dev.medinaentertainment.com
SUMMARY:CANCELLED: S.A.T. Dance Lessons
DESCRIPTION:December thru January 2020 not Dec 24 or 31\nTango\n\n\nFebruary thru March 2020\nNightclub 2 step\n\n\nApril thru May 2020\nWestcoast swing\n\n\nJune thru July 2020\nEastcoast swing\n\n\nAugust thru September 2020\nWaltz\n\n\nOctober thru November 2020\nFoxtrot\n\n\nDecember 2020 thru February 2021\nCountry 2 step\n\n\n\nCost $7 for Members and $10 for Non Members. \nFor More Information Call Carol 952-334-9793 or Larry 612-599-7856. \nSingles and Married Couples are Welcome.
URL:https://dev.medinaentertainment.com/event/s-a-t-dance-lessons-5-2020-05-05/
LOCATION:Homepage
END:VEVENT
BEGIN:VEVENT
DTSTART;TZID=America/Chicago:20200503T000000
DTEND;TZID=America/Chicago:20200503T235959
DTSTAMP:20260423T084614
CREATED:20200310T112328Z
LAST-MODIFIED:20200310T112328Z
UID:10003622-1588464000-1588550399@dev.medinaentertainment.com
SUMMARY:CANCELLED: Hamel Lions Flea Market
DESCRIPTION:
URL:https://dev.medinaentertainment.com/event/hamel-lions-flea-market-12/
LOCATION:Homepage
END:VEVENT
BEGIN:VEVENT
DTSTART;TZID=America/Chicago:20200501T000000
DTEND;TZID=America/Chicago:20200501T235959
DTSTAMP:20260423T084614
CREATED:20200403T123121Z
LAST-MODIFIED:20200403T123121Z
UID:10003647-1588291200-1588377599@dev.medinaentertainment.com
SUMMARY:FABULOUS ARMADILLOS "TAKIN' IT TO THE LIMIT" has been RESCHEDULED for FRIDAY. AUGUST 7\, 2020
DESCRIPTION:
URL:https://dev.medinaentertainment.com/event/fabulous-armadillos-takin-it-to-the-limit-has-been-rescheduled-for-friday-august-7-2020/
LOCATION:Homepage
END:VEVENT
BEGIN:VEVENT
DTSTART;TZID=America/Chicago:20200430T183000
DTEND;TZID=America/Chicago:20200430T203000
DTSTAMP:20260423T084614
CREATED:20200227T105434Z
LAST-MODIFIED:20200227T105434Z
UID:10003557-1588271400-1588278600@dev.medinaentertainment.com
SUMMARY:Psychic Ruth Lordan
DESCRIPTION:
URL:https://dev.medinaentertainment.com/event/psychic-ruth-lordan-22/2020-04-30/
LOCATION:Homepage
END:VEVENT
BEGIN:VEVENT
DTSTART;TZID=America/Chicago:20200430T000000
DTEND;TZID=America/Chicago:20200430T235959
DTSTAMP:20260423T084614
CREATED:20200227T105434Z
LAST-MODIFIED:20200227T105434Z
UID:10003593-1588204800-1588291199@dev.medinaentertainment.com
SUMMARY:CANCELLED: Psychic Ruth Lordan
DESCRIPTION:
URL:https://dev.medinaentertainment.com/event/psychic-ruth-lordan-22-2020-04-30/
LOCATION:Homepage
END:VEVENT
END:VCALENDAR