BEGIN:VCALENDAR
VERSION:2.0
PRODID:-//Default Site Template - ECPv6.0.2//NONSGML v1.0//EN
CALSCALE:GREGORIAN
METHOD:PUBLISH
X-ORIGINAL-URL:https://dev.medinaentertainment.com
X-WR-CALDESC:Events for Default Site Template
REFRESH-INTERVAL;VALUE=DURATION:PT1H
X-Robots-Tag:noindex
X-PUBLISHED-TTL:PT1H
BEGIN:VTIMEZONE
TZID:America/Chicago
BEGIN:DAYLIGHT
TZOFFSETFROM:-0600
TZOFFSETTO:-0500
TZNAME:CDT
DTSTART:20200308T080000
END:DAYLIGHT
BEGIN:STANDARD
TZOFFSETFROM:-0500
TZOFFSETTO:-0600
TZNAME:CST
DTSTART:20201101T070000
END:STANDARD
END:VTIMEZONE
BEGIN:VEVENT
DTSTART;TZID=America/Chicago:20201201T193000
DTEND;TZID=America/Chicago:20201201T210000
DTSTAMP:20260420T192218
CREATED:20191221T154503Z
LAST-MODIFIED:20191221T154503Z
UID:10003403-1606851000-1606856400@dev.medinaentertainment.com
SUMMARY:CANCELLED: S.A.T. Dance Lessons
DESCRIPTION:December thru January 2020 not Dec 24 or 31\nTango\n\n\nFebruary thru March 2020\nNightclub 2 step\n\n\nApril thru May 2020\nWestcoast swing\n\n\nJune thru July 2020\nEastcoast swing\n\n\nAugust thru September 2020\nWaltz\n\n\nOctober thru November 2020\nFoxtrot\n\n\nDecember 2020 thru February 2021\nCountry 2 step\n\n\n\nCost $7 for Members and $10 for Non Members. \nFor More Information Call Carol 952-334-9793 or Larry 612-599-7856. \nSingles and Married Couples are Welcome.
URL:https://dev.medinaentertainment.com/event/s-a-t-dance-lessons-5/2020-12-01/
LOCATION:Homepage
END:VEVENT
BEGIN:VEVENT
DTSTART;TZID=America/Chicago:20201124T193000
DTEND;TZID=America/Chicago:20201124T210000
DTSTAMP:20260420T192218
CREATED:20191221T154503Z
LAST-MODIFIED:20191221T154503Z
UID:10003402-1606246200-1606251600@dev.medinaentertainment.com
SUMMARY:CANCELLED: S.A.T. Dance Lessons
DESCRIPTION:December thru January 2020 not Dec 24 or 31\nTango\n\n\nFebruary thru March 2020\nNightclub 2 step\n\n\nApril thru May 2020\nWestcoast swing\n\n\nJune thru July 2020\nEastcoast swing\n\n\nAugust thru September 2020\nWaltz\n\n\nOctober thru November 2020\nFoxtrot\n\n\nDecember 2020 thru February 2021\nCountry 2 step\n\n\n\nCost $7 for Members and $10 for Non Members. \nFor More Information Call Carol 952-334-9793 or Larry 612-599-7856. \nSingles and Married Couples are Welcome.
URL:https://dev.medinaentertainment.com/event/s-a-t-dance-lessons-5/2020-11-24/
LOCATION:Homepage
END:VEVENT
BEGIN:VEVENT
DTSTART;TZID=America/Chicago:20201121T190000
DTEND;TZID=America/Chicago:20201121T233000
DTSTAMP:20260420T192218
CREATED:20201022T141143Z
LAST-MODIFIED:20201022T141143Z
UID:10003700-1605985200-1606001400@dev.medinaentertainment.com
SUMMARY:POSTPONED - UNCLE CHUNK with guest Atomic Play Boys
DESCRIPTION:
URL:https://dev.medinaentertainment.com/event/uncle-chunk/
LOCATION:Homepage
END:VEVENT
BEGIN:VEVENT
DTSTART;TZID=America/Chicago:20201120T190000
DTEND;TZID=America/Chicago:20201120T233000
DTSTAMP:20260420T192218
CREATED:20201009T142506Z
LAST-MODIFIED:20201009T142506Z
UID:10003698-1605898800-1605915000@dev.medinaentertainment.com
SUMMARY:POSTPONED - THE SHALO LEE BAND with Anderson Daniels
DESCRIPTION:
URL:https://dev.medinaentertainment.com/event/the-shalo-lee-band-with-anderson-daniels/
LOCATION:Homepage
END:VEVENT
BEGIN:VEVENT
DTSTART;TZID=America/Chicago:20201119T183000
DTEND;TZID=America/Chicago:20201119T203000
DTSTAMP:20260420T192218
CREATED:20200227T105434Z
LAST-MODIFIED:20200227T105434Z
UID:10003586-1605810600-1605817800@dev.medinaentertainment.com
SUMMARY:Psychic Ruth Lordan
DESCRIPTION:
URL:https://dev.medinaentertainment.com/event/psychic-ruth-lordan-22/2020-11-19/
LOCATION:Homepage
END:VEVENT
BEGIN:VEVENT
DTSTART;TZID=America/Chicago:20201119T180000
DTEND;TZID=America/Chicago:20201119T210000
DTSTAMP:20260420T192218
CREATED:20201116T145658Z
LAST-MODIFIED:20201116T145658Z
UID:10003703-1605808800-1605819600@dev.medinaentertainment.com
SUMMARY:Music in Robert's Bar - Shane Martin
DESCRIPTION:
URL:https://dev.medinaentertainment.com/event/music-in-roberts-bar-shane-martin/
LOCATION:Homepage
END:VEVENT
BEGIN:VEVENT
DTSTART;TZID=America/Chicago:20201117T193000
DTEND;TZID=America/Chicago:20201117T210000
DTSTAMP:20260420T192218
CREATED:20191221T154503Z
LAST-MODIFIED:20191221T154503Z
UID:10003401-1605641400-1605646800@dev.medinaentertainment.com
SUMMARY:CANCELLED: S.A.T. Dance Lessons
DESCRIPTION:December thru January 2020 not Dec 24 or 31\nTango\n\n\nFebruary thru March 2020\nNightclub 2 step\n\n\nApril thru May 2020\nWestcoast swing\n\n\nJune thru July 2020\nEastcoast swing\n\n\nAugust thru September 2020\nWaltz\n\n\nOctober thru November 2020\nFoxtrot\n\n\nDecember 2020 thru February 2021\nCountry 2 step\n\n\n\nCost $7 for Members and $10 for Non Members. \nFor More Information Call Carol 952-334-9793 or Larry 612-599-7856. \nSingles and Married Couples are Welcome.
URL:https://dev.medinaentertainment.com/event/s-a-t-dance-lessons-5/2020-11-17/
LOCATION:Homepage
END:VEVENT
BEGIN:VEVENT
DTSTART;TZID=America/Chicago:20201113T193000
DTEND;TZID=America/Chicago:20201113T233000
DTSTAMP:20260420T192218
CREATED:20200208T132222Z
LAST-MODIFIED:20200208T132222Z
UID:10003511-1605295800-1605310200@dev.medinaentertainment.com
SUMMARY:THE HYPE! with guest Heartless has been RESCHEDULED for FRI. FEBRUARY 12\, 2021
DESCRIPTION:
URL:https://dev.medinaentertainment.com/event/the-hype-with-guest-heartless-tribute-to-heart/
LOCATION:Homepage
END:VEVENT
BEGIN:VEVENT
DTSTART;TZID=America/Chicago:20201112T183000
DTEND;TZID=America/Chicago:20201112T203000
DTSTAMP:20260420T192218
CREATED:20200227T105434Z
LAST-MODIFIED:20200227T105434Z
UID:10003585-1605205800-1605213000@dev.medinaentertainment.com
SUMMARY:Psychic Ruth Lordan
DESCRIPTION:
URL:https://dev.medinaentertainment.com/event/psychic-ruth-lordan-22/2020-11-12/
LOCATION:Homepage
END:VEVENT
BEGIN:VEVENT
DTSTART;TZID=America/Chicago:20201110T193000
DTEND;TZID=America/Chicago:20201110T210000
DTSTAMP:20260420T192218
CREATED:20191221T154503Z
LAST-MODIFIED:20191221T154503Z
UID:10003400-1605036600-1605042000@dev.medinaentertainment.com
SUMMARY:CANCELLED: S.A.T. Dance Lessons
DESCRIPTION:December thru January 2020 not Dec 24 or 31\nTango\n\n\nFebruary thru March 2020\nNightclub 2 step\n\n\nApril thru May 2020\nWestcoast swing\n\n\nJune thru July 2020\nEastcoast swing\n\n\nAugust thru September 2020\nWaltz\n\n\nOctober thru November 2020\nFoxtrot\n\n\nDecember 2020 thru February 2021\nCountry 2 step\n\n\n\nCost $7 for Members and $10 for Non Members. \nFor More Information Call Carol 952-334-9793 or Larry 612-599-7856. \nSingles and Married Couples are Welcome.
URL:https://dev.medinaentertainment.com/event/s-a-t-dance-lessons-5/2020-11-10/
LOCATION:Homepage
END:VEVENT
BEGIN:VEVENT
DTSTART;TZID=America/Chicago:20201106T190000
DTEND;TZID=America/Chicago:20201106T233000
DTSTAMP:20260420T192218
CREATED:20201002T124540Z
LAST-MODIFIED:20201002T124540Z
UID:10003688-1604689200-1604705400@dev.medinaentertainment.com
SUMMARY:SHANE MARTIN Tribute to Alabama with guest The Plott Hounds
DESCRIPTION:
URL:https://dev.medinaentertainment.com/event/songs-of-the-south/
LOCATION:Homepage
END:VEVENT
BEGIN:VEVENT
DTSTART;TZID=America/Chicago:20201105T183000
DTEND;TZID=America/Chicago:20201105T203000
DTSTAMP:20260420T192218
CREATED:20200227T105434Z
LAST-MODIFIED:20200227T105434Z
UID:10003584-1604601000-1604608200@dev.medinaentertainment.com
SUMMARY:Psychic Ruth Lordan
DESCRIPTION:
URL:https://dev.medinaentertainment.com/event/psychic-ruth-lordan-22/2020-11-05/
LOCATION:Homepage
END:VEVENT
BEGIN:VEVENT
DTSTART;TZID=America/Chicago:20201105T180000
DTEND;TZID=America/Chicago:20201105T210000
DTSTAMP:20260420T192218
CREATED:20201008T180256Z
LAST-MODIFIED:20201008T180256Z
UID:10003697-1604599200-1604610000@dev.medinaentertainment.com
SUMMARY:Music in Robert's Bar with The Michael Paul Duo
DESCRIPTION:
URL:https://dev.medinaentertainment.com/event/music-in-roberts-bar-with-the-michael-paul-duo/
LOCATION:Homepage
END:VEVENT
BEGIN:VEVENT
DTSTART;TZID=America/Chicago:20201103T193000
DTEND;TZID=America/Chicago:20201103T210000
DTSTAMP:20260420T192218
CREATED:20191221T154503Z
LAST-MODIFIED:20191221T154503Z
UID:10003441-1604431800-1604437200@dev.medinaentertainment.com
SUMMARY:CANCELLED: S.A.T. Dance Lessons
DESCRIPTION:December thru January 2020 not Dec 24 or 31\nTango\n\n\nFebruary thru March 2020\nNightclub 2 step\n\n\nApril thru May 2020\nWestcoast swing\n\n\nJune thru July 2020\nEastcoast swing\n\n\nAugust thru September 2020\nWaltz\n\n\nOctober thru November 2020\nFoxtrot\n\n\nDecember 2020 thru February 2021\nCountry 2 step\n\n\n\nCost $7 for Members and $10 for Non Members. \nFor More Information Call Carol 952-334-9793 or Larry 612-599-7856. \nSingles and Married Couples are Welcome.
URL:https://dev.medinaentertainment.com/event/s-a-t-dance-lessons-5-2020-11-03/
LOCATION:Homepage
END:VEVENT
BEGIN:VEVENT
DTSTART;TZID=America/Chicago:20201103T193000
DTEND;TZID=America/Chicago:20201103T210000
DTSTAMP:20260420T192218
CREATED:20191221T154503Z
LAST-MODIFIED:20191221T154503Z
UID:10003399-1604431800-1604437200@dev.medinaentertainment.com
SUMMARY:CANCELLED: S.A.T. Dance Lessons
DESCRIPTION:December thru January 2020 not Dec 24 or 31\nTango\n\n\nFebruary thru March 2020\nNightclub 2 step\n\n\nApril thru May 2020\nWestcoast swing\n\n\nJune thru July 2020\nEastcoast swing\n\n\nAugust thru September 2020\nWaltz\n\n\nOctober thru November 2020\nFoxtrot\n\n\nDecember 2020 thru February 2021\nCountry 2 step\n\n\n\nCost $7 for Members and $10 for Non Members. \nFor More Information Call Carol 952-334-9793 or Larry 612-599-7856. \nSingles and Married Couples are Welcome.
URL:https://dev.medinaentertainment.com/event/s-a-t-dance-lessons-5/2020-11-03/
LOCATION:Homepage
END:VEVENT
BEGIN:VEVENT
DTSTART;TZID=America/Chicago:20201031T190000
DTEND;TZID=America/Chicago:20201031T233000
DTSTAMP:20260420T192218
CREATED:20200130T153446Z
LAST-MODIFIED:20200130T153446Z
UID:10003502-1604170800-1604187000@dev.medinaentertainment.com
SUMMARY:TRILOGY TRIBUTE TOUR to The Doors\, Pink Floyd and AC/DC
DESCRIPTION:
URL:https://dev.medinaentertainment.com/event/trilogy/
LOCATION:Homepage
END:VEVENT
BEGIN:VEVENT
DTSTART;TZID=America/Chicago:20201030T190000
DTEND;TZID=America/Chicago:20201030T233000
DTSTAMP:20260420T192218
CREATED:20200923T123853Z
LAST-MODIFIED:20200923T123853Z
UID:10003687-1604084400-1604100600@dev.medinaentertainment.com
SUMMARY:BELFAST COWBOYS (No guest)
DESCRIPTION:
URL:https://dev.medinaentertainment.com/event/belfast-cowboys-guest-band-tbd/
LOCATION:Homepage
END:VEVENT
BEGIN:VEVENT
DTSTART;TZID=America/Chicago:20201029T183000
DTEND;TZID=America/Chicago:20201029T203000
DTSTAMP:20260420T192218
CREATED:20200227T105434Z
LAST-MODIFIED:20200227T105434Z
UID:10003583-1603996200-1604003400@dev.medinaentertainment.com
SUMMARY:Psychic Ruth Lordan
DESCRIPTION:
URL:https://dev.medinaentertainment.com/event/psychic-ruth-lordan-22/2020-10-29/
LOCATION:Homepage
END:VEVENT
BEGIN:VEVENT
DTSTART;TZID=America/Chicago:20201029T180000
DTEND;TZID=America/Chicago:20201029T210000
DTSTAMP:20260420T192218
CREATED:20200902T182553Z
LAST-MODIFIED:20200902T182553Z
UID:10003679-1603994400-1604005200@dev.medinaentertainment.com
SUMMARY:Music in Robert's Bar with THE PLOTT HOUNDS
DESCRIPTION:
URL:https://dev.medinaentertainment.com/event/music-on-the-patio-with-jason-paulson-duo-3/
LOCATION:Homepage
END:VEVENT
BEGIN:VEVENT
DTSTART;TZID=America/Chicago:20201028T183000
DTEND;TZID=America/Chicago:20201028T203000
DTSTAMP:20260420T192218
CREATED:20200227T105226Z
LAST-MODIFIED:20200227T105226Z
UID:10003548-1603909800-1603917000@dev.medinaentertainment.com
SUMMARY:Psychic Ruth Lordan
DESCRIPTION:
URL:https://dev.medinaentertainment.com/event/psychic-ruth-lordan-21-2020-10-28-2/
LOCATION:Homepage
END:VEVENT
BEGIN:VEVENT
DTSTART;TZID=America/Chicago:20201027T193000
DTEND;TZID=America/Chicago:20201027T210000
DTSTAMP:20260420T192218
CREATED:20191221T154503Z
LAST-MODIFIED:20191221T154503Z
UID:10003398-1603827000-1603832400@dev.medinaentertainment.com
SUMMARY:CANCELLED: S.A.T. Dance Lessons
DESCRIPTION:December thru January 2020 not Dec 24 or 31\nTango\n\n\nFebruary thru March 2020\nNightclub 2 step\n\n\nApril thru May 2020\nWestcoast swing\n\n\nJune thru July 2020\nEastcoast swing\n\n\nAugust thru September 2020\nWaltz\n\n\nOctober thru November 2020\nFoxtrot\n\n\nDecember 2020 thru February 2021\nCountry 2 step\n\n\n\nCost $7 for Members and $10 for Non Members. \nFor More Information Call Carol 952-334-9793 or Larry 612-599-7856. \nSingles and Married Couples are Welcome.
URL:https://dev.medinaentertainment.com/event/s-a-t-dance-lessons-5/2020-10-27/
LOCATION:Homepage
END:VEVENT
BEGIN:VEVENT
DTSTART;TZID=America/Chicago:20201027T000000
DTEND;TZID=America/Chicago:20201027T235959
DTSTAMP:20260420T192218
CREATED:20191221T154503Z
LAST-MODIFIED:20191221T154503Z
UID:10003440-1603756800-1603843199@dev.medinaentertainment.com
SUMMARY:CANCELLED: S.A.T. Dance Lessons
DESCRIPTION:December thru January 2020 not Dec 24 or 31\nTango\n\n\nFebruary thru March 2020\nNightclub 2 step\n\n\nApril thru May 2020\nWestcoast swing\n\n\nJune thru July 2020\nEastcoast swing\n\n\nAugust thru September 2020\nWaltz\n\n\nOctober thru November 2020\nFoxtrot\n\n\nDecember 2020 thru February 2021\nCountry 2 step\n\n\n\nCost $7 for Members and $10 for Non Members. \nFor More Information Call Carol 952-334-9793 or Larry 612-599-7856. \nSingles and Married Couples are Welcome.
URL:https://dev.medinaentertainment.com/event/s-a-t-dance-lessons-5-2020-10-27/
LOCATION:Homepage
END:VEVENT
BEGIN:VEVENT
DTSTART;TZID=America/Chicago:20201025T060000
DTEND;TZID=America/Chicago:20201025T120000
DTSTAMP:20260420T192218
CREATED:20200901T165320Z
LAST-MODIFIED:20200901T165320Z
UID:10003675-1603605600-1603627200@dev.medinaentertainment.com
SUMMARY:Hamel Lions Flea Market
DESCRIPTION:
URL:https://dev.medinaentertainment.com/event/hamel-lions-flea-market-19/
LOCATION:Homepage
END:VEVENT
BEGIN:VEVENT
DTSTART;TZID=America/Chicago:20201023T193000
DTEND;TZID=America/Chicago:20201023T230000
DTSTAMP:20260420T192218
CREATED:20190914T125622Z
LAST-MODIFIED:20190914T125622Z
UID:10003330-1603481400-1603494000@dev.medinaentertainment.com
SUMMARY:CONCERT RESCHEDULING FOR 2021: OAK RIDGE BOYS (No Guest Band)
DESCRIPTION:
URL:https://dev.medinaentertainment.com/event/oak-ridge-boys-no-guest-band/
LOCATION:Homepage
END:VEVENT
BEGIN:VEVENT
DTSTART;TZID=America/Chicago:20201023T190000
DTEND;TZID=America/Chicago:20201023T233000
DTSTAMP:20260420T192218
CREATED:20200912T190802Z
LAST-MODIFIED:20200912T190802Z
UID:10003682-1603479600-1603495800@dev.medinaentertainment.com
SUMMARY:TRANSIT AUTHORITY Premier Tribute to Chicago
DESCRIPTION:
URL:https://dev.medinaentertainment.com/event/transit-authority-premier-tribute-to-chicago/
LOCATION:Homepage
END:VEVENT
BEGIN:VEVENT
DTSTART;TZID=America/Chicago:20201022T183000
DTEND;TZID=America/Chicago:20201022T203000
DTSTAMP:20260420T192218
CREATED:20200227T105434Z
LAST-MODIFIED:20200227T105434Z
UID:10003582-1603391400-1603398600@dev.medinaentertainment.com
SUMMARY:Psychic Ruth Lordan
DESCRIPTION:
URL:https://dev.medinaentertainment.com/event/psychic-ruth-lordan-22/2020-10-22/
LOCATION:Homepage
END:VEVENT
BEGIN:VEVENT
DTSTART;TZID=America/Chicago:20201022T180000
DTEND;TZID=America/Chicago:20201022T210000
DTSTAMP:20260420T192218
CREATED:20200902T181735Z
LAST-MODIFIED:20200902T181735Z
UID:10003678-1603389600-1603400400@dev.medinaentertainment.com
SUMMARY:Music in Robert's Bar with SHANE MARTIN
DESCRIPTION:
URL:https://dev.medinaentertainment.com/event/music-on-the-patio-with-shane-martin-4/
LOCATION:Homepage
END:VEVENT
BEGIN:VEVENT
DTSTART;TZID=America/Chicago:20201021T183000
DTEND;TZID=America/Chicago:20201021T203000
DTSTAMP:20260420T192218
CREATED:20200227T105226Z
LAST-MODIFIED:20200227T105226Z
UID:10003547-1603305000-1603312200@dev.medinaentertainment.com
SUMMARY:Psychic Ruth Lordan
DESCRIPTION:
URL:https://dev.medinaentertainment.com/event/psychic-ruth-lordan-21-2020-10-21-2/
LOCATION:Homepage
END:VEVENT
BEGIN:VEVENT
DTSTART;TZID=America/Chicago:20201020T193000
DTEND;TZID=America/Chicago:20201020T210000
DTSTAMP:20260420T192218
CREATED:20191221T154503Z
LAST-MODIFIED:20191221T154503Z
UID:10003397-1603222200-1603227600@dev.medinaentertainment.com
SUMMARY:CANCELLED: S.A.T. Dance Lessons
DESCRIPTION:December thru January 2020 not Dec 24 or 31\nTango\n\n\nFebruary thru March 2020\nNightclub 2 step\n\n\nApril thru May 2020\nWestcoast swing\n\n\nJune thru July 2020\nEastcoast swing\n\n\nAugust thru September 2020\nWaltz\n\n\nOctober thru November 2020\nFoxtrot\n\n\nDecember 2020 thru February 2021\nCountry 2 step\n\n\n\nCost $7 for Members and $10 for Non Members. \nFor More Information Call Carol 952-334-9793 or Larry 612-599-7856. \nSingles and Married Couples are Welcome.
URL:https://dev.medinaentertainment.com/event/s-a-t-dance-lessons-5/2020-10-20/
LOCATION:Homepage
END:VEVENT
BEGIN:VEVENT
DTSTART;TZID=America/Chicago:20201020T000000
DTEND;TZID=America/Chicago:20201020T235959
DTSTAMP:20260420T192218
CREATED:20191221T154503Z
LAST-MODIFIED:20191221T154503Z
UID:10003439-1603152000-1603238399@dev.medinaentertainment.com
SUMMARY:CANCELLED: S.A.T. Dance Lessons
DESCRIPTION:December thru January 2020 not Dec 24 or 31\nTango\n\n\nFebruary thru March 2020\nNightclub 2 step\n\n\nApril thru May 2020\nWestcoast swing\n\n\nJune thru July 2020\nEastcoast swing\n\n\nAugust thru September 2020\nWaltz\n\n\nOctober thru November 2020\nFoxtrot\n\n\nDecember 2020 thru February 2021\nCountry 2 step\n\n\n\nCost $7 for Members and $10 for Non Members. \nFor More Information Call Carol 952-334-9793 or Larry 612-599-7856. \nSingles and Married Couples are Welcome.
URL:https://dev.medinaentertainment.com/event/s-a-t-dance-lessons-5-2020-10-20/
LOCATION:Homepage
END:VEVENT
END:VCALENDAR