BEGIN:VCALENDAR
VERSION:2.0
PRODID:-//Default Site Template - ECPv6.0.2//NONSGML v1.0//EN
CALSCALE:GREGORIAN
METHOD:PUBLISH
X-WR-CALNAME:Default Site Template
X-ORIGINAL-URL:https://dev.medinaentertainment.com
X-WR-CALDESC:Events for Default Site Template
REFRESH-INTERVAL;VALUE=DURATION:PT1H
X-Robots-Tag:noindex
X-PUBLISHED-TTL:PT1H
BEGIN:VTIMEZONE
TZID:America/Chicago
BEGIN:DAYLIGHT
TZOFFSETFROM:-0600
TZOFFSETTO:-0500
TZNAME:CDT
DTSTART:20200308T080000
END:DAYLIGHT
BEGIN:STANDARD
TZOFFSETFROM:-0500
TZOFFSETTO:-0600
TZNAME:CST
DTSTART:20201101T070000
END:STANDARD
END:VTIMEZONE
BEGIN:VEVENT
DTSTART;TZID=America/Chicago:20201023T190000
DTEND;TZID=America/Chicago:20201023T233000
DTSTAMP:20260420T224211
CREATED:20200912T190802Z
LAST-MODIFIED:20200912T190802Z
UID:10003682-1603479600-1603495800@dev.medinaentertainment.com
SUMMARY:TRANSIT AUTHORITY Premier Tribute to Chicago
DESCRIPTION:
URL:https://dev.medinaentertainment.com/event/transit-authority-premier-tribute-to-chicago/
LOCATION:Homepage
END:VEVENT
BEGIN:VEVENT
DTSTART;TZID=America/Chicago:20201022T183000
DTEND;TZID=America/Chicago:20201022T203000
DTSTAMP:20260420T224211
CREATED:20200227T105434Z
LAST-MODIFIED:20200227T105434Z
UID:10003582-1603391400-1603398600@dev.medinaentertainment.com
SUMMARY:Psychic Ruth Lordan
DESCRIPTION:
URL:https://dev.medinaentertainment.com/event/psychic-ruth-lordan-22/2020-10-22/
LOCATION:Homepage
END:VEVENT
BEGIN:VEVENT
DTSTART;TZID=America/Chicago:20201022T180000
DTEND;TZID=America/Chicago:20201022T210000
DTSTAMP:20260420T224211
CREATED:20200902T181735Z
LAST-MODIFIED:20200902T181735Z
UID:10003678-1603389600-1603400400@dev.medinaentertainment.com
SUMMARY:Music in Robert's Bar with SHANE MARTIN
DESCRIPTION:
URL:https://dev.medinaentertainment.com/event/music-on-the-patio-with-shane-martin-4/
LOCATION:Homepage
END:VEVENT
BEGIN:VEVENT
DTSTART;TZID=America/Chicago:20201021T183000
DTEND;TZID=America/Chicago:20201021T203000
DTSTAMP:20260420T224211
CREATED:20200227T105226Z
LAST-MODIFIED:20200227T105226Z
UID:10003547-1603305000-1603312200@dev.medinaentertainment.com
SUMMARY:Psychic Ruth Lordan
DESCRIPTION:
URL:https://dev.medinaentertainment.com/event/psychic-ruth-lordan-21-2020-10-21-2/
LOCATION:Homepage
END:VEVENT
BEGIN:VEVENT
DTSTART;TZID=America/Chicago:20201020T193000
DTEND;TZID=America/Chicago:20201020T210000
DTSTAMP:20260420T224211
CREATED:20191221T154503Z
LAST-MODIFIED:20191221T154503Z
UID:10003397-1603222200-1603227600@dev.medinaentertainment.com
SUMMARY:CANCELLED: S.A.T. Dance Lessons
DESCRIPTION:December thru January 2020 not Dec 24 or 31\nTango\n\n\nFebruary thru March 2020\nNightclub 2 step\n\n\nApril thru May 2020\nWestcoast swing\n\n\nJune thru July 2020\nEastcoast swing\n\n\nAugust thru September 2020\nWaltz\n\n\nOctober thru November 2020\nFoxtrot\n\n\nDecember 2020 thru February 2021\nCountry 2 step\n\n\n\nCost $7 for Members and $10 for Non Members. \nFor More Information Call Carol 952-334-9793 or Larry 612-599-7856. \nSingles and Married Couples are Welcome.
URL:https://dev.medinaentertainment.com/event/s-a-t-dance-lessons-5/2020-10-20/
LOCATION:Homepage
END:VEVENT
BEGIN:VEVENT
DTSTART;TZID=America/Chicago:20201020T000000
DTEND;TZID=America/Chicago:20201020T235959
DTSTAMP:20260420T224211
CREATED:20191221T154503Z
LAST-MODIFIED:20191221T154503Z
UID:10003439-1603152000-1603238399@dev.medinaentertainment.com
SUMMARY:CANCELLED: S.A.T. Dance Lessons
DESCRIPTION:December thru January 2020 not Dec 24 or 31\nTango\n\n\nFebruary thru March 2020\nNightclub 2 step\n\n\nApril thru May 2020\nWestcoast swing\n\n\nJune thru July 2020\nEastcoast swing\n\n\nAugust thru September 2020\nWaltz\n\n\nOctober thru November 2020\nFoxtrot\n\n\nDecember 2020 thru February 2021\nCountry 2 step\n\n\n\nCost $7 for Members and $10 for Non Members. \nFor More Information Call Carol 952-334-9793 or Larry 612-599-7856. \nSingles and Married Couples are Welcome.
URL:https://dev.medinaentertainment.com/event/s-a-t-dance-lessons-5-2020-10-20/
LOCATION:Homepage
END:VEVENT
BEGIN:VEVENT
DTSTART;TZID=America/Chicago:20201018T060000
DTEND;TZID=America/Chicago:20201018T120000
DTSTAMP:20260420T224211
CREATED:20200901T165238Z
LAST-MODIFIED:20200901T165238Z
UID:10003674-1603000800-1603022400@dev.medinaentertainment.com
SUMMARY:Hamel Lions Flea Market
DESCRIPTION:
URL:https://dev.medinaentertainment.com/event/hamel-lions-flea-market-18/
LOCATION:Homepage
END:VEVENT
BEGIN:VEVENT
DTSTART;TZID=America/Chicago:20201017T190000
DTEND;TZID=America/Chicago:20201017T233000
DTSTAMP:20260420T224211
CREATED:20200822T205534Z
LAST-MODIFIED:20200822T205534Z
UID:10003668-1602961200-1602977400@dev.medinaentertainment.com
SUMMARY:FREE FALLIN' A Tribute to Tom Petty with Guest Rubber Soul The Tribute Acoustic Trio
DESCRIPTION:
URL:https://dev.medinaentertainment.com/event/free-fallin-a-tribute-to-tom-petty-with-guest-rubber-soul-the-tribute-acoustic-trio/
LOCATION:Homepage
END:VEVENT
BEGIN:VEVENT
DTSTART;TZID=America/Chicago:20201016T193000
DTEND;TZID=America/Chicago:20201016T233000
DTSTAMP:20260420T224211
CREATED:20200110T143443Z
LAST-MODIFIED:20200110T143443Z
UID:10003498-1602876600-1602891000@dev.medinaentertainment.com
SUMMARY:THUNDERSTRUCK AMERICA'S AC/DC TRIBUTE has been RESCHEDULED for FRI. APRIL 16\, 2021
DESCRIPTION:
URL:https://dev.medinaentertainment.com/event/thunderstruck-americas-ac-dc-tribute-with-guest-them-pesky-kids/
LOCATION:Homepage
END:VEVENT
BEGIN:VEVENT
DTSTART;TZID=America/Chicago:20201016T190000
DTEND;TZID=America/Chicago:20201016T233000
DTSTAMP:20260420T224211
CREATED:20200909T103046Z
LAST-MODIFIED:20200909T103046Z
UID:10003680-1602874800-1602891000@dev.medinaentertainment.com
SUMMARY:THEM PESKY KIDS with Guest Legacy of the Loud
DESCRIPTION:
URL:https://dev.medinaentertainment.com/event/them-pesky-kids-with-guest-legacy-of-the-loud/
LOCATION:Homepage
END:VEVENT
BEGIN:VEVENT
DTSTART;TZID=America/Chicago:20201015T183000
DTEND;TZID=America/Chicago:20201015T203000
DTSTAMP:20260420T224211
CREATED:20200227T105434Z
LAST-MODIFIED:20200227T105434Z
UID:10003581-1602786600-1602793800@dev.medinaentertainment.com
SUMMARY:Psychic Ruth Lordan
DESCRIPTION:
URL:https://dev.medinaentertainment.com/event/psychic-ruth-lordan-22/2020-10-15/
LOCATION:Homepage
END:VEVENT
BEGIN:VEVENT
DTSTART;TZID=America/Chicago:20201015T180000
DTEND;TZID=America/Chicago:20201015T210000
DTSTAMP:20260420T224211
CREATED:20200902T181039Z
LAST-MODIFIED:20200902T181039Z
UID:10003677-1602784800-1602795600@dev.medinaentertainment.com
SUMMARY:Music in Robert's Bar with THE JORGENSENS
DESCRIPTION:
URL:https://dev.medinaentertainment.com/event/music-on-the-patio-with-the-jorgensens-4/
LOCATION:Homepage
END:VEVENT
BEGIN:VEVENT
DTSTART;TZID=America/Chicago:20201014T183000
DTEND;TZID=America/Chicago:20201014T203000
DTSTAMP:20260420T224211
CREATED:20200227T105226Z
LAST-MODIFIED:20200227T105226Z
UID:10003546-1602700200-1602707400@dev.medinaentertainment.com
SUMMARY:Psychic Ruth Lordan
DESCRIPTION:
URL:https://dev.medinaentertainment.com/event/psychic-ruth-lordan-21-2020-10-14/
LOCATION:Homepage
END:VEVENT
BEGIN:VEVENT
DTSTART;TZID=America/Chicago:20201013T193000
DTEND;TZID=America/Chicago:20201013T210000
DTSTAMP:20260420T224211
CREATED:20191221T154503Z
LAST-MODIFIED:20191221T154503Z
UID:10003396-1602617400-1602622800@dev.medinaentertainment.com
SUMMARY:CANCELLED: S.A.T. Dance Lessons
DESCRIPTION:December thru January 2020 not Dec 24 or 31\nTango\n\n\nFebruary thru March 2020\nNightclub 2 step\n\n\nApril thru May 2020\nWestcoast swing\n\n\nJune thru July 2020\nEastcoast swing\n\n\nAugust thru September 2020\nWaltz\n\n\nOctober thru November 2020\nFoxtrot\n\n\nDecember 2020 thru February 2021\nCountry 2 step\n\n\n\nCost $7 for Members and $10 for Non Members. \nFor More Information Call Carol 952-334-9793 or Larry 612-599-7856. \nSingles and Married Couples are Welcome.
URL:https://dev.medinaentertainment.com/event/s-a-t-dance-lessons-5/2020-10-13/
LOCATION:Homepage
END:VEVENT
BEGIN:VEVENT
DTSTART;TZID=America/Chicago:20201013T000000
DTEND;TZID=America/Chicago:20201013T235959
DTSTAMP:20260420T224211
CREATED:20191221T154503Z
LAST-MODIFIED:20191221T154503Z
UID:10003438-1602547200-1602633599@dev.medinaentertainment.com
SUMMARY:CANCELLED: S.A.T. Dance Lessons
DESCRIPTION:December thru January 2020 not Dec 24 or 31\nTango\n\n\nFebruary thru March 2020\nNightclub 2 step\n\n\nApril thru May 2020\nWestcoast swing\n\n\nJune thru July 2020\nEastcoast swing\n\n\nAugust thru September 2020\nWaltz\n\n\nOctober thru November 2020\nFoxtrot\n\n\nDecember 2020 thru February 2021\nCountry 2 step\n\n\n\nCost $7 for Members and $10 for Non Members. \nFor More Information Call Carol 952-334-9793 or Larry 612-599-7856. \nSingles and Married Couples are Welcome.
URL:https://dev.medinaentertainment.com/event/s-a-t-dance-lessons-5-2020-10-13/
LOCATION:Homepage
END:VEVENT
BEGIN:VEVENT
DTSTART;TZID=America/Chicago:20201011T060000
DTEND;TZID=America/Chicago:20201011T120000
DTSTAMP:20260420T224211
CREATED:20200901T165146Z
LAST-MODIFIED:20200901T165146Z
UID:10003673-1602396000-1602417600@dev.medinaentertainment.com
SUMMARY:Hamel Lions Flea Market
DESCRIPTION:
URL:https://dev.medinaentertainment.com/event/hamel-lions-flea-market-17/
LOCATION:Homepage
END:VEVENT
BEGIN:VEVENT
DTSTART;TZID=America/Chicago:20201009T000000
DTEND;TZID=America/Chicago:20201009T235959
DTSTAMP:20260420T224211
CREATED:20201004T200750Z
LAST-MODIFIED:20201004T200750Z
UID:10003689-1602201600-1602287999@dev.medinaentertainment.com
SUMMARY:TOMMY CASTRO and MARCIA BALL have been RESCHEDULED for FRIDAY\, OCTOBER 8\, 2021
DESCRIPTION:
URL:https://dev.medinaentertainment.com/event/tommy-castro-and-marcia-ball-have-been-rescheduled-for-friday-october-8-2021/
LOCATION:Homepage
END:VEVENT
BEGIN:VEVENT
DTSTART;TZID=America/Chicago:20201009T000000
DTEND;TZID=America/Chicago:20201009T235959
DTSTAMP:20260420T224211
CREATED:20200912T111642Z
LAST-MODIFIED:20200912T111642Z
UID:10003681-1602201600-1602287999@dev.medinaentertainment.com
SUMMARY:CANCELLED: RUMBLE SEAT Premier John Mellencamp Experience with Guest Madd Company Premier Bad Company Tribute
DESCRIPTION:
URL:https://dev.medinaentertainment.com/event/rumble-seat-premier-john-mellencamp-experience-with-guest-madd-company-premier-bad-company-tribute/
LOCATION:Homepage
END:VEVENT
BEGIN:VEVENT
DTSTART;TZID=America/Chicago:20201008T183000
DTEND;TZID=America/Chicago:20201008T203000
DTSTAMP:20260420T224211
CREATED:20200227T105434Z
LAST-MODIFIED:20200227T105434Z
UID:10003580-1602181800-1602189000@dev.medinaentertainment.com
SUMMARY:Psychic Ruth Lordan
DESCRIPTION:
URL:https://dev.medinaentertainment.com/event/psychic-ruth-lordan-22/2020-10-08/
LOCATION:Homepage
END:VEVENT
BEGIN:VEVENT
DTSTART;TZID=America/Chicago:20201008T180000
DTEND;TZID=America/Chicago:20201008T210000
DTSTAMP:20260420T224211
CREATED:20200902T180631Z
LAST-MODIFIED:20200902T180631Z
UID:10003676-1602180000-1602190800@dev.medinaentertainment.com
SUMMARY:Music in Robert's Bar with SHALO LEE DUO
DESCRIPTION:
URL:https://dev.medinaentertainment.com/event/music-on-the-patio-with-shalo-lee-duo-3/
LOCATION:Homepage
END:VEVENT
BEGIN:VEVENT
DTSTART;TZID=America/Chicago:20201007T183000
DTEND;TZID=America/Chicago:20201007T203000
DTSTAMP:20260420T224211
CREATED:20200227T105226Z
LAST-MODIFIED:20200227T105226Z
UID:10003545-1602095400-1602102600@dev.medinaentertainment.com
SUMMARY:Psychic Ruth Lordan
DESCRIPTION:
URL:https://dev.medinaentertainment.com/event/psychic-ruth-lordan-21-2020-10-07/
LOCATION:Homepage
END:VEVENT
BEGIN:VEVENT
DTSTART;TZID=America/Chicago:20201006T193000
DTEND;TZID=America/Chicago:20201006T210000
DTSTAMP:20260420T224211
CREATED:20191221T154503Z
LAST-MODIFIED:20191221T154503Z
UID:10003395-1602012600-1602018000@dev.medinaentertainment.com
SUMMARY:CANCELLED: S.A.T. Dance Lessons
DESCRIPTION:December thru January 2020 not Dec 24 or 31\nTango\n\n\nFebruary thru March 2020\nNightclub 2 step\n\n\nApril thru May 2020\nWestcoast swing\n\n\nJune thru July 2020\nEastcoast swing\n\n\nAugust thru September 2020\nWaltz\n\n\nOctober thru November 2020\nFoxtrot\n\n\nDecember 2020 thru February 2021\nCountry 2 step\n\n\n\nCost $7 for Members and $10 for Non Members. \nFor More Information Call Carol 952-334-9793 or Larry 612-599-7856. \nSingles and Married Couples are Welcome.
URL:https://dev.medinaentertainment.com/event/s-a-t-dance-lessons-5/2020-10-06/
LOCATION:Homepage
END:VEVENT
BEGIN:VEVENT
DTSTART;TZID=America/Chicago:20201006T000000
DTEND;TZID=America/Chicago:20201006T235959
DTSTAMP:20260420T224211
CREATED:20191221T154503Z
LAST-MODIFIED:20191221T154503Z
UID:10003437-1601942400-1602028799@dev.medinaentertainment.com
SUMMARY:CANCELLED: S.A.T. Dance Lessons
DESCRIPTION:December thru January 2020 not Dec 24 or 31\nTango\n\n\nFebruary thru March 2020\nNightclub 2 step\n\n\nApril thru May 2020\nWestcoast swing\n\n\nJune thru July 2020\nEastcoast swing\n\n\nAugust thru September 2020\nWaltz\n\n\nOctober thru November 2020\nFoxtrot\n\n\nDecember 2020 thru February 2021\nCountry 2 step\n\n\n\nCost $7 for Members and $10 for Non Members. \nFor More Information Call Carol 952-334-9793 or Larry 612-599-7856. \nSingles and Married Couples are Welcome.
URL:https://dev.medinaentertainment.com/event/s-a-t-dance-lessons-5-2020-10-06/
LOCATION:Homepage
END:VEVENT
BEGIN:VEVENT
DTSTART;TZID=America/Chicago:20201004T060000
DTEND;TZID=America/Chicago:20201004T120000
DTSTAMP:20260420T224211
CREATED:20200901T164933Z
LAST-MODIFIED:20200901T164933Z
UID:10003672-1601791200-1601812800@dev.medinaentertainment.com
SUMMARY:Hamel Lions Flea Market
DESCRIPTION:
URL:https://dev.medinaentertainment.com/event/hamel-lions-flea-market-16/
LOCATION:Homepage
END:VEVENT
BEGIN:VEVENT
DTSTART;TZID=America/Chicago:20201003T190000
DTEND;TZID=America/Chicago:20201003T233000
DTSTAMP:20260420T224211
CREATED:20200822T211421Z
LAST-MODIFIED:20200822T211421Z
UID:10003670-1601751600-1601767800@dev.medinaentertainment.com
SUMMARY:NEIL! MARTIN ZELLAR'S TRIBUTE TO NEIL DIAMOND with The Jorgensens Acoustic Duo
DESCRIPTION:
URL:https://dev.medinaentertainment.com/event/neil-martin-zellars-tribute-to-neil-diamond-with-the-jorgensens-acoustic-duo/
LOCATION:Homepage
END:VEVENT
BEGIN:VEVENT
DTSTART;TZID=America/Chicago:20201002T190000
DTEND;TZID=America/Chicago:20201002T233000
DTSTAMP:20260420T224211
CREATED:20200822T210426Z
LAST-MODIFIED:20200822T210426Z
UID:10003669-1601665200-1601681400@dev.medinaentertainment.com
SUMMARY:NEIL! MARTIN ZELLAR'S TRIBUTE TO NEIL DIAMOND with Guest Shane Martin Acoustic
DESCRIPTION:
URL:https://dev.medinaentertainment.com/event/neil-martin-zellars-tribute-to-neil-diamond-with-guest-shane-martin-acoustic/
LOCATION:Homepage
END:VEVENT
BEGIN:VEVENT
DTSTART;TZID=America/Chicago:20201001T183000
DTEND;TZID=America/Chicago:20201001T203000
DTSTAMP:20260420T224211
CREATED:20200227T105434Z
LAST-MODIFIED:20200227T105434Z
UID:10003607-1601577000-1601584200@dev.medinaentertainment.com
SUMMARY:Psychic Ruth Lordan
DESCRIPTION:
URL:https://dev.medinaentertainment.com/event/psychic-ruth-lordan-22-2020-10-01/
LOCATION:Homepage
END:VEVENT
BEGIN:VEVENT
DTSTART;TZID=America/Chicago:20201001T183000
DTEND;TZID=America/Chicago:20201001T203000
DTSTAMP:20260420T224211
CREATED:20200227T105434Z
LAST-MODIFIED:20200227T105434Z
UID:10003579-1601577000-1601584200@dev.medinaentertainment.com
SUMMARY:Psychic Ruth Lordan
DESCRIPTION:
URL:https://dev.medinaentertainment.com/event/psychic-ruth-lordan-22/2020-10-01/
LOCATION:Homepage
END:VEVENT
BEGIN:VEVENT
DTSTART;TZID=America/Chicago:20201001T180000
DTEND;TZID=America/Chicago:20201001T210000
DTSTAMP:20260420T224211
CREATED:20200827T152936Z
LAST-MODIFIED:20200827T152936Z
UID:10003671-1601575200-1601586000@dev.medinaentertainment.com
SUMMARY:Music in Robert's Bar with MICHAEL PAUL DUO
DESCRIPTION:
URL:https://dev.medinaentertainment.com/event/music-on-the-patio-with-michael-paul-duo-2/
LOCATION:Homepage
END:VEVENT
BEGIN:VEVENT
DTSTART;TZID=America/Chicago:20200930T000000
DTEND;TZID=America/Chicago:20200930T235959
DTSTAMP:20260420T224211
CREATED:20200227T105226Z
LAST-MODIFIED:20200227T105226Z
UID:10003544-1601424000-1601510399@dev.medinaentertainment.com
SUMMARY:CANCELLED: Psychic Ruth Lordan
DESCRIPTION:
URL:https://dev.medinaentertainment.com/event/psychic-ruth-lordan-21-2020-09-30/
LOCATION:Homepage
END:VEVENT
END:VCALENDAR