BEGIN:VCALENDAR
VERSION:2.0
PRODID:-//Default Site Template - ECPv6.0.2//NONSGML v1.0//EN
CALSCALE:GREGORIAN
METHOD:PUBLISH
X-ORIGINAL-URL:https://dev.medinaentertainment.com
X-WR-CALDESC:Events for Default Site Template
REFRESH-INTERVAL;VALUE=DURATION:PT1H
X-Robots-Tag:noindex
X-PUBLISHED-TTL:PT1H
BEGIN:VTIMEZONE
TZID:America/Chicago
BEGIN:DAYLIGHT
TZOFFSETFROM:-0600
TZOFFSETTO:-0500
TZNAME:CDT
DTSTART:20200308T080000
END:DAYLIGHT
BEGIN:STANDARD
TZOFFSETFROM:-0500
TZOFFSETTO:-0600
TZNAME:CST
DTSTART:20201101T070000
END:STANDARD
END:VTIMEZONE
BEGIN:VEVENT
DTSTART;TZID=America/Chicago:20200922T193000
DTEND;TZID=America/Chicago:20200922T210000
DTSTAMP:20260421T035712
CREATED:20191221T154503Z
LAST-MODIFIED:20191221T154503Z
UID:10003393-1600803000-1600808400@dev.medinaentertainment.com
SUMMARY:CANCELLED: S.A.T. Dance Lessons
DESCRIPTION:December thru January 2020 not Dec 24 or 31\nTango\n\n\nFebruary thru March 2020\nNightclub 2 step\n\n\nApril thru May 2020\nWestcoast swing\n\n\nJune thru July 2020\nEastcoast swing\n\n\nAugust thru September 2020\nWaltz\n\n\nOctober thru November 2020\nFoxtrot\n\n\nDecember 2020 thru February 2021\nCountry 2 step\n\n\n\nCost $7 for Members and $10 for Non Members. \nFor More Information Call Carol 952-334-9793 or Larry 612-599-7856. \nSingles and Married Couples are Welcome.
URL:https://dev.medinaentertainment.com/event/s-a-t-dance-lessons-5/2020-09-22/
LOCATION:Homepage
END:VEVENT
BEGIN:VEVENT
DTSTART;TZID=America/Chicago:20200922T000000
DTEND;TZID=America/Chicago:20200922T235959
DTSTAMP:20260421T035712
CREATED:20191221T154503Z
LAST-MODIFIED:20191221T154503Z
UID:10003435-1600732800-1600819199@dev.medinaentertainment.com
SUMMARY:CANCELLED: S.A.T. Dance Lessons
DESCRIPTION:December thru January 2020 not Dec 24 or 31\nTango\n\n\nFebruary thru March 2020\nNightclub 2 step\n\n\nApril thru May 2020\nWestcoast swing\n\n\nJune thru July 2020\nEastcoast swing\n\n\nAugust thru September 2020\nWaltz\n\n\nOctober thru November 2020\nFoxtrot\n\n\nDecember 2020 thru February 2021\nCountry 2 step\n\n\n\nCost $7 for Members and $10 for Non Members. \nFor More Information Call Carol 952-334-9793 or Larry 612-599-7856. \nSingles and Married Couples are Welcome.
URL:https://dev.medinaentertainment.com/event/s-a-t-dance-lessons-5-2020-09-22/
LOCATION:Homepage
END:VEVENT
BEGIN:VEVENT
DTSTART;TZID=America/Chicago:20200920T060000
DTEND;TZID=America/Chicago:20200920T120000
DTSTAMP:20260421T035712
CREATED:20200310T112747Z
LAST-MODIFIED:20200310T112747Z
UID:10003635-1600581600-1600603200@dev.medinaentertainment.com
SUMMARY:Hamel Lions Flea Market
DESCRIPTION:
URL:https://dev.medinaentertainment.com/event/hamel-lions-flea-market-15/2020-09-20/
LOCATION:Homepage
END:VEVENT
BEGIN:VEVENT
DTSTART;TZID=America/Chicago:20200918T193000
DTEND;TZID=America/Chicago:20200918T233000
DTSTAMP:20260421T035712
CREATED:20200222T214141Z
LAST-MODIFIED:20200222T214141Z
UID:10003515-1600457400-1600471800@dev.medinaentertainment.com
SUMMARY:RESCHEDULING FOR 2021: THE TUBES featuring Fee Waybill and SMITHEREENS with guest vocalist Marshall Crenshaw
DESCRIPTION:
URL:https://dev.medinaentertainment.com/event/the-tubes-and-smithereens/
LOCATION:Homepage
END:VEVENT
BEGIN:VEVENT
DTSTART;TZID=America/Chicago:20200917T183000
DTEND;TZID=America/Chicago:20200917T203000
DTSTAMP:20260421T035712
CREATED:20200227T105434Z
LAST-MODIFIED:20200227T105434Z
UID:10003577-1600367400-1600374600@dev.medinaentertainment.com
SUMMARY:Psychic Ruth Lordan
DESCRIPTION:
URL:https://dev.medinaentertainment.com/event/psychic-ruth-lordan-22/2020-09-17/
LOCATION:Homepage
END:VEVENT
BEGIN:VEVENT
DTSTART;TZID=America/Chicago:20200917T180000
DTEND;TZID=America/Chicago:20200917T210000
DTSTAMP:20260421T035712
CREATED:20200703T133146Z
LAST-MODIFIED:20200703T133146Z
UID:10003663-1600365600-1600376400@dev.medinaentertainment.com
SUMMARY:Music in Robert's Bar with SHALO LEE DUO
DESCRIPTION:
URL:https://dev.medinaentertainment.com/event/music-on-the-patio-with-shalo-lee-duo-2/
LOCATION:Homepage
END:VEVENT
BEGIN:VEVENT
DTSTART;TZID=America/Chicago:20200916T000000
DTEND;TZID=America/Chicago:20200916T235959
DTSTAMP:20260421T035712
CREATED:20200227T105226Z
LAST-MODIFIED:20200227T105226Z
UID:10003542-1600214400-1600300799@dev.medinaentertainment.com
SUMMARY:CANCELLED: Psychic Ruth Lordan
DESCRIPTION:
URL:https://dev.medinaentertainment.com/event/psychic-ruth-lordan-21-2020-09-16/
LOCATION:Homepage
END:VEVENT
BEGIN:VEVENT
DTSTART;TZID=America/Chicago:20200915T193000
DTEND;TZID=America/Chicago:20200915T210000
DTSTAMP:20260421T035712
CREATED:20191221T154503Z
LAST-MODIFIED:20191221T154503Z
UID:10003392-1600198200-1600203600@dev.medinaentertainment.com
SUMMARY:CANCELLED: S.A.T. Dance Lessons
DESCRIPTION:December thru January 2020 not Dec 24 or 31\nTango\n\n\nFebruary thru March 2020\nNightclub 2 step\n\n\nApril thru May 2020\nWestcoast swing\n\n\nJune thru July 2020\nEastcoast swing\n\n\nAugust thru September 2020\nWaltz\n\n\nOctober thru November 2020\nFoxtrot\n\n\nDecember 2020 thru February 2021\nCountry 2 step\n\n\n\nCost $7 for Members and $10 for Non Members. \nFor More Information Call Carol 952-334-9793 or Larry 612-599-7856. \nSingles and Married Couples are Welcome.
URL:https://dev.medinaentertainment.com/event/s-a-t-dance-lessons-5/2020-09-15/
LOCATION:Homepage
END:VEVENT
BEGIN:VEVENT
DTSTART;TZID=America/Chicago:20200915T000000
DTEND;TZID=America/Chicago:20200915T235959
DTSTAMP:20260421T035712
CREATED:20191221T154503Z
LAST-MODIFIED:20191221T154503Z
UID:10003434-1600128000-1600214399@dev.medinaentertainment.com
SUMMARY:CANCELLED: S.A.T. Dance Lessons
DESCRIPTION:December thru January 2020 not Dec 24 or 31\nTango\n\n\nFebruary thru March 2020\nNightclub 2 step\n\n\nApril thru May 2020\nWestcoast swing\n\n\nJune thru July 2020\nEastcoast swing\n\n\nAugust thru September 2020\nWaltz\n\n\nOctober thru November 2020\nFoxtrot\n\n\nDecember 2020 thru February 2021\nCountry 2 step\n\n\n\nCost $7 for Members and $10 for Non Members. \nFor More Information Call Carol 952-334-9793 or Larry 612-599-7856. \nSingles and Married Couples are Welcome.
URL:https://dev.medinaentertainment.com/event/s-a-t-dance-lessons-5-2020-09-15/
LOCATION:Homepage
END:VEVENT
BEGIN:VEVENT
DTSTART;TZID=America/Chicago:20200913T060000
DTEND;TZID=America/Chicago:20200913T120000
DTSTAMP:20260421T035712
CREATED:20200310T112747Z
LAST-MODIFIED:20200310T112747Z
UID:10003634-1599976800-1599998400@dev.medinaentertainment.com
SUMMARY:Hamel Lions Flea Market
DESCRIPTION:
URL:https://dev.medinaentertainment.com/event/hamel-lions-flea-market-15/2020-09-13/
LOCATION:Homepage
END:VEVENT
BEGIN:VEVENT
DTSTART;TZID=America/Chicago:20200911T000000
DTEND;TZID=America/Chicago:20200911T235959
DTSTAMP:20260421T035712
CREATED:20200214T154744Z
LAST-MODIFIED:20200214T154744Z
UID:10003513-1599782400-1599868799@dev.medinaentertainment.com
SUMMARY:RESCHEDULED AGAIN: BEATLES vs STONES (No Guest)
DESCRIPTION:
URL:https://dev.medinaentertainment.com/event/beatles-vs-stones/
LOCATION:Homepage
END:VEVENT
BEGIN:VEVENT
DTSTART;TZID=America/Chicago:20200910T183000
DTEND;TZID=America/Chicago:20200910T203000
DTSTAMP:20260421T035712
CREATED:20200227T105434Z
LAST-MODIFIED:20200227T105434Z
UID:10003576-1599762600-1599769800@dev.medinaentertainment.com
SUMMARY:Psychic Ruth Lordan
DESCRIPTION:
URL:https://dev.medinaentertainment.com/event/psychic-ruth-lordan-22/2020-09-10/
LOCATION:Homepage
END:VEVENT
BEGIN:VEVENT
DTSTART;TZID=America/Chicago:20200910T180000
DTEND;TZID=America/Chicago:20200910T210000
DTSTAMP:20260421T035712
CREATED:20200703T132845Z
LAST-MODIFIED:20200703T132845Z
UID:10003662-1599760800-1599771600@dev.medinaentertainment.com
SUMMARY:Music on the Patio with THE JORGENSENS
DESCRIPTION:
URL:https://dev.medinaentertainment.com/event/music-on-the-patio-with-the-jorgensens-3/
LOCATION:Homepage
END:VEVENT
BEGIN:VEVENT
DTSTART;TZID=America/Chicago:20200909T000000
DTEND;TZID=America/Chicago:20200909T235959
DTSTAMP:20260421T035712
CREATED:20200227T105226Z
LAST-MODIFIED:20200227T105226Z
UID:10003541-1599609600-1599695999@dev.medinaentertainment.com
SUMMARY:CANCELLED: Psychic Ruth Lordan
DESCRIPTION:
URL:https://dev.medinaentertainment.com/event/psychic-ruth-lordan-21-2020-09-09/
LOCATION:Homepage
END:VEVENT
BEGIN:VEVENT
DTSTART;TZID=America/Chicago:20200908T193000
DTEND;TZID=America/Chicago:20200908T210000
DTSTAMP:20260421T035712
CREATED:20191221T154503Z
LAST-MODIFIED:20191221T154503Z
UID:10003391-1599593400-1599598800@dev.medinaentertainment.com
SUMMARY:CANCELLED: S.A.T. Dance Lessons
DESCRIPTION:December thru January 2020 not Dec 24 or 31\nTango\n\n\nFebruary thru March 2020\nNightclub 2 step\n\n\nApril thru May 2020\nWestcoast swing\n\n\nJune thru July 2020\nEastcoast swing\n\n\nAugust thru September 2020\nWaltz\n\n\nOctober thru November 2020\nFoxtrot\n\n\nDecember 2020 thru February 2021\nCountry 2 step\n\n\n\nCost $7 for Members and $10 for Non Members. \nFor More Information Call Carol 952-334-9793 or Larry 612-599-7856. \nSingles and Married Couples are Welcome.
URL:https://dev.medinaentertainment.com/event/s-a-t-dance-lessons-5/2020-09-08/
LOCATION:Homepage
END:VEVENT
BEGIN:VEVENT
DTSTART;TZID=America/Chicago:20200908T000000
DTEND;TZID=America/Chicago:20200908T235959
DTSTAMP:20260421T035712
CREATED:20191221T154503Z
LAST-MODIFIED:20191221T154503Z
UID:10003433-1599523200-1599609599@dev.medinaentertainment.com
SUMMARY:CANCELLED: S.A.T. Dance Lessons
DESCRIPTION:December thru January 2020 not Dec 24 or 31\nTango\n\n\nFebruary thru March 2020\nNightclub 2 step\n\n\nApril thru May 2020\nWestcoast swing\n\n\nJune thru July 2020\nEastcoast swing\n\n\nAugust thru September 2020\nWaltz\n\n\nOctober thru November 2020\nFoxtrot\n\n\nDecember 2020 thru February 2021\nCountry 2 step\n\n\n\nCost $7 for Members and $10 for Non Members. \nFor More Information Call Carol 952-334-9793 or Larry 612-599-7856. \nSingles and Married Couples are Welcome.
URL:https://dev.medinaentertainment.com/event/s-a-t-dance-lessons-5-2020-09-08/
LOCATION:Homepage
END:VEVENT
BEGIN:VEVENT
DTSTART;TZID=America/Chicago:20200907T000000
DTEND;TZID=America/Chicago:20200907T235959
DTSTAMP:20260421T035712
CREATED:20200207T142857Z
LAST-MODIFIED:20200207T142857Z
UID:10003508-1599436800-1599523199@dev.medinaentertainment.com
SUMMARY:CLOSED for Labor Day
DESCRIPTION:
URL:https://dev.medinaentertainment.com/event/closed-for-labor-day-4/
LOCATION:Homepage
END:VEVENT
BEGIN:VEVENT
DTSTART;TZID=America/Chicago:20200906T060000
DTEND;TZID=America/Chicago:20200906T120000
DTSTAMP:20260421T035712
CREATED:20200310T112747Z
LAST-MODIFIED:20200310T112747Z
UID:10003633-1599372000-1599393600@dev.medinaentertainment.com
SUMMARY:Hamel Lions Flea Market
DESCRIPTION:
URL:https://dev.medinaentertainment.com/event/hamel-lions-flea-market-15/2020-09-06/
LOCATION:Homepage
END:VEVENT
BEGIN:VEVENT
DTSTART;TZID=America/Chicago:20200903T183000
DTEND;TZID=America/Chicago:20200903T203000
DTSTAMP:20260421T035712
CREATED:20200227T105434Z
LAST-MODIFIED:20200227T105434Z
UID:10003575-1599157800-1599165000@dev.medinaentertainment.com
SUMMARY:Psychic Ruth Lordan
DESCRIPTION:
URL:https://dev.medinaentertainment.com/event/psychic-ruth-lordan-22/2020-09-03/
LOCATION:Homepage
END:VEVENT
BEGIN:VEVENT
DTSTART;TZID=America/Chicago:20200903T180000
DTEND;TZID=America/Chicago:20200903T210000
DTSTAMP:20260421T035712
CREATED:20200703T132624Z
LAST-MODIFIED:20200703T132624Z
UID:10003661-1599156000-1599166800@dev.medinaentertainment.com
SUMMARY:Music on the Patio with JASON PAULSON DUO
DESCRIPTION:
URL:https://dev.medinaentertainment.com/event/music-on-the-patio-with-jason-paulson-duo-2/
LOCATION:Homepage
END:VEVENT
BEGIN:VEVENT
DTSTART;TZID=America/Chicago:20200902T000000
DTEND;TZID=America/Chicago:20200902T235959
DTSTAMP:20260421T035712
CREATED:20200227T105226Z
LAST-MODIFIED:20200227T105226Z
UID:10003540-1599004800-1599091199@dev.medinaentertainment.com
SUMMARY:CANCELLED: Psychic Ruth Lordan
DESCRIPTION:
URL:https://dev.medinaentertainment.com/event/psychic-ruth-lordan-21-2020-09-02/
LOCATION:Homepage
END:VEVENT
BEGIN:VEVENT
DTSTART;TZID=America/Chicago:20200901T193000
DTEND;TZID=America/Chicago:20200901T210000
DTSTAMP:20260421T035712
CREATED:20191221T154503Z
LAST-MODIFIED:20191221T154503Z
UID:10003390-1598988600-1598994000@dev.medinaentertainment.com
SUMMARY:CANCELLED: S.A.T. Dance Lessons
DESCRIPTION:December thru January 2020 not Dec 24 or 31\nTango\n\n\nFebruary thru March 2020\nNightclub 2 step\n\n\nApril thru May 2020\nWestcoast swing\n\n\nJune thru July 2020\nEastcoast swing\n\n\nAugust thru September 2020\nWaltz\n\n\nOctober thru November 2020\nFoxtrot\n\n\nDecember 2020 thru February 2021\nCountry 2 step\n\n\n\nCost $7 for Members and $10 for Non Members. \nFor More Information Call Carol 952-334-9793 or Larry 612-599-7856. \nSingles and Married Couples are Welcome.
URL:https://dev.medinaentertainment.com/event/s-a-t-dance-lessons-5/2020-09-01/
LOCATION:Homepage
END:VEVENT
BEGIN:VEVENT
DTSTART;TZID=America/Chicago:20200901T000000
DTEND;TZID=America/Chicago:20200901T235959
DTSTAMP:20260421T035712
CREATED:20191221T154503Z
LAST-MODIFIED:20191221T154503Z
UID:10003432-1598918400-1599004799@dev.medinaentertainment.com
SUMMARY:CANCELLED: S.A.T. Dance Lessons
DESCRIPTION:December thru January 2020 not Dec 24 or 31\nTango\n\n\nFebruary thru March 2020\nNightclub 2 step\n\n\nApril thru May 2020\nWestcoast swing\n\n\nJune thru July 2020\nEastcoast swing\n\n\nAugust thru September 2020\nWaltz\n\n\nOctober thru November 2020\nFoxtrot\n\n\nDecember 2020 thru February 2021\nCountry 2 step\n\n\n\nCost $7 for Members and $10 for Non Members. \nFor More Information Call Carol 952-334-9793 or Larry 612-599-7856. \nSingles and Married Couples are Welcome.
URL:https://dev.medinaentertainment.com/event/s-a-t-dance-lessons-5-2020-09-01/
LOCATION:Homepage
END:VEVENT
BEGIN:VEVENT
DTSTART;TZID=America/Chicago:20200830T060000
DTEND;TZID=America/Chicago:20200830T120000
DTSTAMP:20260421T035712
CREATED:20200310T112747Z
LAST-MODIFIED:20200310T112747Z
UID:10003632-1598767200-1598788800@dev.medinaentertainment.com
SUMMARY:Hamel Lions Flea Market
DESCRIPTION:
URL:https://dev.medinaentertainment.com/event/hamel-lions-flea-market-15/2020-08-30/
LOCATION:Homepage
END:VEVENT
BEGIN:VEVENT
DTSTART;TZID=America/Chicago:20200827T183000
DTEND;TZID=America/Chicago:20200827T203000
DTSTAMP:20260421T035712
CREATED:20200227T105434Z
LAST-MODIFIED:20200227T105434Z
UID:10003574-1598553000-1598560200@dev.medinaentertainment.com
SUMMARY:Psychic Ruth Lordan
DESCRIPTION:
URL:https://dev.medinaentertainment.com/event/psychic-ruth-lordan-22/2020-08-27/
LOCATION:Homepage
END:VEVENT
BEGIN:VEVENT
DTSTART;TZID=America/Chicago:20200827T180000
DTEND;TZID=America/Chicago:20200827T210000
DTSTAMP:20260421T035712
CREATED:20200703T132259Z
LAST-MODIFIED:20200703T132259Z
UID:10003660-1598551200-1598562000@dev.medinaentertainment.com
SUMMARY:Music on the Patio with SHANE MARTIN
DESCRIPTION:
URL:https://dev.medinaentertainment.com/event/music-on-the-patio-with-shane-martin-2/
LOCATION:Homepage
END:VEVENT
BEGIN:VEVENT
DTSTART;TZID=America/Chicago:20200826T000000
DTEND;TZID=America/Chicago:20200826T235959
DTSTAMP:20260421T035712
CREATED:20200227T105226Z
LAST-MODIFIED:20200227T105226Z
UID:10003539-1598400000-1598486399@dev.medinaentertainment.com
SUMMARY:CANCELLED on WEDNESDAYS: Psychic Ruth Lordan
DESCRIPTION:
URL:https://dev.medinaentertainment.com/event/psychic-ruth-lordan-21-2020-08-26/
LOCATION:Homepage
END:VEVENT
BEGIN:VEVENT
DTSTART;TZID=America/Chicago:20200825T193000
DTEND;TZID=America/Chicago:20200825T210000
DTSTAMP:20260421T035712
CREATED:20191221T154503Z
LAST-MODIFIED:20191221T154503Z
UID:10003389-1598383800-1598389200@dev.medinaentertainment.com
SUMMARY:CANCELLED: S.A.T. Dance Lessons
DESCRIPTION:December thru January 2020 not Dec 24 or 31\nTango\n\n\nFebruary thru March 2020\nNightclub 2 step\n\n\nApril thru May 2020\nWestcoast swing\n\n\nJune thru July 2020\nEastcoast swing\n\n\nAugust thru September 2020\nWaltz\n\n\nOctober thru November 2020\nFoxtrot\n\n\nDecember 2020 thru February 2021\nCountry 2 step\n\n\n\nCost $7 for Members and $10 for Non Members. \nFor More Information Call Carol 952-334-9793 or Larry 612-599-7856. \nSingles and Married Couples are Welcome.
URL:https://dev.medinaentertainment.com/event/s-a-t-dance-lessons-5/2020-08-25/
LOCATION:Homepage
END:VEVENT
BEGIN:VEVENT
DTSTART;TZID=America/Chicago:20200825T000000
DTEND;TZID=America/Chicago:20200825T235959
DTSTAMP:20260421T035712
CREATED:20191221T154503Z
LAST-MODIFIED:20191221T154503Z
UID:10003431-1598313600-1598399999@dev.medinaentertainment.com
SUMMARY:CANCELLED: S.A.T. Dance Lessons
DESCRIPTION:December thru January 2020 not Dec 24 or 31\nTango\n\n\nFebruary thru March 2020\nNightclub 2 step\n\n\nApril thru May 2020\nWestcoast swing\n\n\nJune thru July 2020\nEastcoast swing\n\n\nAugust thru September 2020\nWaltz\n\n\nOctober thru November 2020\nFoxtrot\n\n\nDecember 2020 thru February 2021\nCountry 2 step\n\n\n\nCost $7 for Members and $10 for Non Members. \nFor More Information Call Carol 952-334-9793 or Larry 612-599-7856. \nSingles and Married Couples are Welcome.
URL:https://dev.medinaentertainment.com/event/s-a-t-dance-lessons-5-2020-08-25/
LOCATION:Homepage
END:VEVENT
BEGIN:VEVENT
DTSTART;TZID=America/Chicago:20200823T060000
DTEND;TZID=America/Chicago:20200823T120000
DTSTAMP:20260421T035712
CREATED:20200310T112747Z
LAST-MODIFIED:20200310T112747Z
UID:10003631-1598162400-1598184000@dev.medinaentertainment.com
SUMMARY:Hamel Lions Flea Market
DESCRIPTION:
URL:https://dev.medinaentertainment.com/event/hamel-lions-flea-market-15/2020-08-23/
LOCATION:Homepage
END:VEVENT
END:VCALENDAR