BEGIN:VCALENDAR
VERSION:2.0
PRODID:-//Default Site Template - ECPv6.0.2//NONSGML v1.0//EN
CALSCALE:GREGORIAN
METHOD:PUBLISH
X-WR-CALNAME:Default Site Template
X-ORIGINAL-URL:https://dev.medinaentertainment.com
X-WR-CALDESC:Events for Default Site Template
REFRESH-INTERVAL;VALUE=DURATION:PT1H
X-Robots-Tag:noindex
X-PUBLISHED-TTL:PT1H
BEGIN:VTIMEZONE
TZID:America/Chicago
BEGIN:DAYLIGHT
TZOFFSETFROM:-0600
TZOFFSETTO:-0500
TZNAME:CDT
DTSTART:20200308T080000
END:DAYLIGHT
BEGIN:STANDARD
TZOFFSETFROM:-0500
TZOFFSETTO:-0600
TZNAME:CST
DTSTART:20201101T070000
END:STANDARD
END:VTIMEZONE
BEGIN:VEVENT
DTSTART;TZID=America/Chicago:20200709T000000
DTEND;TZID=America/Chicago:20200709T235959
DTSTAMP:20260421T234122
CREATED:20200227T105434Z
LAST-MODIFIED:20200227T105434Z
UID:10003603-1594252800-1594339199@dev.medinaentertainment.com
SUMMARY:CANCELLED: Psychic Ruth Lordan
DESCRIPTION:
URL:https://dev.medinaentertainment.com/event/psychic-ruth-lordan-22-2020-07-09/
LOCATION:Homepage
END:VEVENT
BEGIN:VEVENT
DTSTART;TZID=America/Chicago:20200708T000000
DTEND;TZID=America/Chicago:20200708T235959
DTSTAMP:20260421T234122
CREATED:20200227T105226Z
LAST-MODIFIED:20200227T105226Z
UID:10003532-1594166400-1594252799@dev.medinaentertainment.com
SUMMARY:CANCELLED: Psychic Ruth Lordan
DESCRIPTION:
URL:https://dev.medinaentertainment.com/event/psychic-ruth-lordan-21-2020-07-08/
LOCATION:Homepage
END:VEVENT
BEGIN:VEVENT
DTSTART;TZID=America/Chicago:20200707T193000
DTEND;TZID=America/Chicago:20200707T210000
DTSTAMP:20260421T234122
CREATED:20191221T154503Z
LAST-MODIFIED:20191221T154503Z
UID:10003382-1594150200-1594155600@dev.medinaentertainment.com
SUMMARY:CANCELLED: S.A.T. Dance Lessons
DESCRIPTION:December thru January 2020 not Dec 24 or 31\nTango\n\n\nFebruary thru March 2020\nNightclub 2 step\n\n\nApril thru May 2020\nWestcoast swing\n\n\nJune thru July 2020\nEastcoast swing\n\n\nAugust thru September 2020\nWaltz\n\n\nOctober thru November 2020\nFoxtrot\n\n\nDecember 2020 thru February 2021\nCountry 2 step\n\n\n\nCost $7 for Members and $10 for Non Members. \nFor More Information Call Carol 952-334-9793 or Larry 612-599-7856. \nSingles and Married Couples are Welcome.
URL:https://dev.medinaentertainment.com/event/s-a-t-dance-lessons-5/2020-07-07/
LOCATION:Homepage
END:VEVENT
BEGIN:VEVENT
DTSTART;TZID=America/Chicago:20200707T000000
DTEND;TZID=America/Chicago:20200707T235959
DTSTAMP:20260421T234122
CREATED:20191221T154503Z
LAST-MODIFIED:20191221T154503Z
UID:10003424-1594080000-1594166399@dev.medinaentertainment.com
SUMMARY:CANCELLED: S.A.T. Dance Lessons
DESCRIPTION:December thru January 2020 not Dec 24 or 31\nTango\n\n\nFebruary thru March 2020\nNightclub 2 step\n\n\nApril thru May 2020\nWestcoast swing\n\n\nJune thru July 2020\nEastcoast swing\n\n\nAugust thru September 2020\nWaltz\n\n\nOctober thru November 2020\nFoxtrot\n\n\nDecember 2020 thru February 2021\nCountry 2 step\n\n\n\nCost $7 for Members and $10 for Non Members. \nFor More Information Call Carol 952-334-9793 or Larry 612-599-7856. \nSingles and Married Couples are Welcome.
URL:https://dev.medinaentertainment.com/event/s-a-t-dance-lessons-5-2020-07-07/
LOCATION:Homepage
END:VEVENT
BEGIN:VEVENT
DTSTART;TZID=America/Chicago:20200705T000000
DTEND;TZID=America/Chicago:20200705T235959
DTSTAMP:20260421T234122
CREATED:20200310T112505Z
LAST-MODIFIED:20200310T112505Z
UID:10003653-1593907200-1593993599@dev.medinaentertainment.com
SUMMARY:CANCELLED: Hamel Lions Flea Market
DESCRIPTION:
URL:https://dev.medinaentertainment.com/event/hamel-lions-flea-market-13-2020-06-07-2020-07-05/
LOCATION:Homepage
END:VEVENT
BEGIN:VEVENT
DTSTART;TZID=America/Chicago:20200704T000000
DTEND;TZID=America/Chicago:20200704T235959
DTSTAMP:20260421T234122
CREATED:20200207T142653Z
LAST-MODIFIED:20200207T142653Z
UID:10003506-1593820800-1593907199@dev.medinaentertainment.com
SUMMARY:CLOSED for Independence Day
DESCRIPTION:
URL:https://dev.medinaentertainment.com/event/closed-for-independence-day-2/
LOCATION:Homepage
END:VEVENT
BEGIN:VEVENT
DTSTART;TZID=America/Chicago:20200702T183000
DTEND;TZID=America/Chicago:20200702T203000
DTSTAMP:20260421T234122
CREATED:20200227T105434Z
LAST-MODIFIED:20200227T105434Z
UID:10003566-1593714600-1593721800@dev.medinaentertainment.com
SUMMARY:Psychic Ruth Lordan
DESCRIPTION:
URL:https://dev.medinaentertainment.com/event/psychic-ruth-lordan-22/2020-07-02/
LOCATION:Homepage
END:VEVENT
BEGIN:VEVENT
DTSTART;TZID=America/Chicago:20200702T000000
DTEND;TZID=America/Chicago:20200702T235959
DTSTAMP:20260421T234122
CREATED:20200227T105434Z
LAST-MODIFIED:20200227T105434Z
UID:10003602-1593648000-1593734399@dev.medinaentertainment.com
SUMMARY:CANCELLED: Psychic Ruth Lordan
DESCRIPTION:
URL:https://dev.medinaentertainment.com/event/psychic-ruth-lordan-22-2020-07-02/
LOCATION:Homepage
END:VEVENT
BEGIN:VEVENT
DTSTART;TZID=America/Chicago:20200701T000000
DTEND;TZID=America/Chicago:20200701T235959
DTSTAMP:20260421T234122
CREATED:20200227T105226Z
LAST-MODIFIED:20200227T105226Z
UID:10003531-1593561600-1593647999@dev.medinaentertainment.com
SUMMARY:CANCELLED: Psychic Ruth Lordan
DESCRIPTION:
URL:https://dev.medinaentertainment.com/event/psychic-ruth-lordan-21-2020-07-01/
LOCATION:Homepage
END:VEVENT
BEGIN:VEVENT
DTSTART;TZID=America/Chicago:20200630T193000
DTEND;TZID=America/Chicago:20200630T210000
DTSTAMP:20260421T234122
CREATED:20191221T154503Z
LAST-MODIFIED:20191221T154503Z
UID:10003381-1593545400-1593550800@dev.medinaentertainment.com
SUMMARY:CANCELLED: S.A.T. Dance Lessons
DESCRIPTION:December thru January 2020 not Dec 24 or 31\nTango\n\n\nFebruary thru March 2020\nNightclub 2 step\n\n\nApril thru May 2020\nWestcoast swing\n\n\nJune thru July 2020\nEastcoast swing\n\n\nAugust thru September 2020\nWaltz\n\n\nOctober thru November 2020\nFoxtrot\n\n\nDecember 2020 thru February 2021\nCountry 2 step\n\n\n\nCost $7 for Members and $10 for Non Members. \nFor More Information Call Carol 952-334-9793 or Larry 612-599-7856. \nSingles and Married Couples are Welcome.
URL:https://dev.medinaentertainment.com/event/s-a-t-dance-lessons-5/2020-06-30/
LOCATION:Homepage
END:VEVENT
BEGIN:VEVENT
DTSTART;TZID=America/Chicago:20200630T000000
DTEND;TZID=America/Chicago:20200630T235959
DTSTAMP:20260421T234122
CREATED:20191221T154503Z
LAST-MODIFIED:20191221T154503Z
UID:10003423-1593475200-1593561599@dev.medinaentertainment.com
SUMMARY:CANCELLED: S.A.T. Dance Lessons
DESCRIPTION:December thru January 2020 not Dec 24 or 31\nTango\n\n\nFebruary thru March 2020\nNightclub 2 step\n\n\nApril thru May 2020\nWestcoast swing\n\n\nJune thru July 2020\nEastcoast swing\n\n\nAugust thru September 2020\nWaltz\n\n\nOctober thru November 2020\nFoxtrot\n\n\nDecember 2020 thru February 2021\nCountry 2 step\n\n\n\nCost $7 for Members and $10 for Non Members. \nFor More Information Call Carol 952-334-9793 or Larry 612-599-7856. \nSingles and Married Couples are Welcome.
URL:https://dev.medinaentertainment.com/event/s-a-t-dance-lessons-5-2020-06-30/
LOCATION:Homepage
END:VEVENT
BEGIN:VEVENT
DTSTART;TZID=America/Chicago:20200628T000000
DTEND;TZID=America/Chicago:20200628T235959
DTSTAMP:20260421T234122
CREATED:20200310T112505Z
LAST-MODIFIED:20200310T112505Z
UID:10003652-1593302400-1593388799@dev.medinaentertainment.com
SUMMARY:CANCELLED: Hamel Lions Flea Market
DESCRIPTION:
URL:https://dev.medinaentertainment.com/event/hamel-lions-flea-market-13-2020-06-07-2020-06-28/
LOCATION:Homepage
END:VEVENT
BEGIN:VEVENT
DTSTART;TZID=America/Chicago:20200625T183000
DTEND;TZID=America/Chicago:20200625T203000
DTSTAMP:20260421T234122
CREATED:20200227T105434Z
LAST-MODIFIED:20200227T105434Z
UID:10003565-1593109800-1593117000@dev.medinaentertainment.com
SUMMARY:Psychic Ruth Lordan
DESCRIPTION:
URL:https://dev.medinaentertainment.com/event/psychic-ruth-lordan-22/2020-06-25/
LOCATION:Homepage
END:VEVENT
BEGIN:VEVENT
DTSTART;TZID=America/Chicago:20200625T000000
DTEND;TZID=America/Chicago:20200625T235959
DTSTAMP:20260421T234122
CREATED:20200227T105434Z
LAST-MODIFIED:20200227T105434Z
UID:10003601-1593043200-1593129599@dev.medinaentertainment.com
SUMMARY:CANCELLED: Psychic Ruth Lordan
DESCRIPTION:
URL:https://dev.medinaentertainment.com/event/psychic-ruth-lordan-22-2020-06-25/
LOCATION:Homepage
END:VEVENT
BEGIN:VEVENT
DTSTART;TZID=America/Chicago:20200624T000000
DTEND;TZID=America/Chicago:20200624T235959
DTSTAMP:20260421T234122
CREATED:20200227T105226Z
LAST-MODIFIED:20200227T105226Z
UID:10003530-1592956800-1593043199@dev.medinaentertainment.com
SUMMARY:CANCELLED: Psychic Ruth Lordan
DESCRIPTION:
URL:https://dev.medinaentertainment.com/event/psychic-ruth-lordan-21-2020-06-24/
LOCATION:Homepage
END:VEVENT
BEGIN:VEVENT
DTSTART;TZID=America/Chicago:20200623T193000
DTEND;TZID=America/Chicago:20200623T210000
DTSTAMP:20260421T234122
CREATED:20191221T154503Z
LAST-MODIFIED:20191221T154503Z
UID:10003380-1592940600-1592946000@dev.medinaentertainment.com
SUMMARY:CANCELLED: S.A.T. Dance Lessons
DESCRIPTION:December thru January 2020 not Dec 24 or 31\nTango\n\n\nFebruary thru March 2020\nNightclub 2 step\n\n\nApril thru May 2020\nWestcoast swing\n\n\nJune thru July 2020\nEastcoast swing\n\n\nAugust thru September 2020\nWaltz\n\n\nOctober thru November 2020\nFoxtrot\n\n\nDecember 2020 thru February 2021\nCountry 2 step\n\n\n\nCost $7 for Members and $10 for Non Members. \nFor More Information Call Carol 952-334-9793 or Larry 612-599-7856. \nSingles and Married Couples are Welcome.
URL:https://dev.medinaentertainment.com/event/s-a-t-dance-lessons-5/2020-06-23/
LOCATION:Homepage
END:VEVENT
BEGIN:VEVENT
DTSTART;TZID=America/Chicago:20200623T000000
DTEND;TZID=America/Chicago:20200623T235959
DTSTAMP:20260421T234122
CREATED:20191221T154503Z
LAST-MODIFIED:20191221T154503Z
UID:10003422-1592870400-1592956799@dev.medinaentertainment.com
SUMMARY:CANCELLED: S.A.T. Dance Lessons
DESCRIPTION:December thru January 2020 not Dec 24 or 31\nTango\n\n\nFebruary thru March 2020\nNightclub 2 step\n\n\nApril thru May 2020\nWestcoast swing\n\n\nJune thru July 2020\nEastcoast swing\n\n\nAugust thru September 2020\nWaltz\n\n\nOctober thru November 2020\nFoxtrot\n\n\nDecember 2020 thru February 2021\nCountry 2 step\n\n\n\nCost $7 for Members and $10 for Non Members. \nFor More Information Call Carol 952-334-9793 or Larry 612-599-7856. \nSingles and Married Couples are Welcome.
URL:https://dev.medinaentertainment.com/event/s-a-t-dance-lessons-5-2020-06-23/
LOCATION:Homepage
END:VEVENT
BEGIN:VEVENT
DTSTART;TZID=America/Chicago:20200621T000000
DTEND;TZID=America/Chicago:20200621T235959
DTSTAMP:20260421T234122
CREATED:20200310T112505Z
LAST-MODIFIED:20200310T112505Z
UID:10003651-1592697600-1592783999@dev.medinaentertainment.com
SUMMARY:CANCELLED: Hamel Lions Flea Market
DESCRIPTION:
URL:https://dev.medinaentertainment.com/event/hamel-lions-flea-market-13-2020-06-07-2020-06-21/
LOCATION:Homepage
END:VEVENT
BEGIN:VEVENT
DTSTART;TZID=America/Chicago:20200621T000000
DTEND;TZID=America/Chicago:20200621T235959
DTSTAMP:20260421T234122
CREATED:20200207T142545Z
LAST-MODIFIED:20200207T142545Z
UID:10003505-1592697600-1592783999@dev.medinaentertainment.com
SUMMARY:Father's Day
DESCRIPTION:Call 763-478-6661 to Make Reservations
URL:https://dev.medinaentertainment.com/event/fathers-day-brunch-buffet-4/
LOCATION:Homepage
END:VEVENT
BEGIN:VEVENT
DTSTART;TZID=America/Chicago:20200618T183000
DTEND;TZID=America/Chicago:20200618T203000
DTSTAMP:20260421T234122
CREATED:20200227T105434Z
LAST-MODIFIED:20200227T105434Z
UID:10003564-1592505000-1592512200@dev.medinaentertainment.com
SUMMARY:Psychic Ruth Lordan
DESCRIPTION:
URL:https://dev.medinaentertainment.com/event/psychic-ruth-lordan-22/2020-06-18/
LOCATION:Homepage
END:VEVENT
BEGIN:VEVENT
DTSTART;TZID=America/Chicago:20200618T000000
DTEND;TZID=America/Chicago:20200618T235959
DTSTAMP:20260421T234122
CREATED:20200227T105434Z
LAST-MODIFIED:20200227T105434Z
UID:10003600-1592438400-1592524799@dev.medinaentertainment.com
SUMMARY:CANCELLED: Psychic Ruth Lordan
DESCRIPTION:
URL:https://dev.medinaentertainment.com/event/psychic-ruth-lordan-22-2020-06-18/
LOCATION:Homepage
END:VEVENT
BEGIN:VEVENT
DTSTART;TZID=America/Chicago:20200617T000000
DTEND;TZID=America/Chicago:20200617T235959
DTSTAMP:20260421T234122
CREATED:20200227T105226Z
LAST-MODIFIED:20200227T105226Z
UID:10003529-1592352000-1592438399@dev.medinaentertainment.com
SUMMARY:CANCELLED: Psychic Ruth Lordan
DESCRIPTION:
URL:https://dev.medinaentertainment.com/event/psychic-ruth-lordan-21-2020-06-17/
LOCATION:Homepage
END:VEVENT
BEGIN:VEVENT
DTSTART;TZID=America/Chicago:20200616T193000
DTEND;TZID=America/Chicago:20200616T210000
DTSTAMP:20260421T234122
CREATED:20191221T154503Z
LAST-MODIFIED:20191221T154503Z
UID:10003379-1592335800-1592341200@dev.medinaentertainment.com
SUMMARY:CANCELLED: S.A.T. Dance Lessons
DESCRIPTION:December thru January 2020 not Dec 24 or 31\nTango\n\n\nFebruary thru March 2020\nNightclub 2 step\n\n\nApril thru May 2020\nWestcoast swing\n\n\nJune thru July 2020\nEastcoast swing\n\n\nAugust thru September 2020\nWaltz\n\n\nOctober thru November 2020\nFoxtrot\n\n\nDecember 2020 thru February 2021\nCountry 2 step\n\n\n\nCost $7 for Members and $10 for Non Members. \nFor More Information Call Carol 952-334-9793 or Larry 612-599-7856. \nSingles and Married Couples are Welcome.
URL:https://dev.medinaentertainment.com/event/s-a-t-dance-lessons-5/2020-06-16/
LOCATION:Homepage
END:VEVENT
BEGIN:VEVENT
DTSTART;TZID=America/Chicago:20200616T000000
DTEND;TZID=America/Chicago:20200616T235959
DTSTAMP:20260421T234122
CREATED:20191221T154503Z
LAST-MODIFIED:20191221T154503Z
UID:10003421-1592265600-1592351999@dev.medinaentertainment.com
SUMMARY:CANCELLED: S.A.T. Dance Lessons
DESCRIPTION:December thru January 2020 not Dec 24 or 31\nTango\n\n\nFebruary thru March 2020\nNightclub 2 step\n\n\nApril thru May 2020\nWestcoast swing\n\n\nJune thru July 2020\nEastcoast swing\n\n\nAugust thru September 2020\nWaltz\n\n\nOctober thru November 2020\nFoxtrot\n\n\nDecember 2020 thru February 2021\nCountry 2 step\n\n\n\nCost $7 for Members and $10 for Non Members. \nFor More Information Call Carol 952-334-9793 or Larry 612-599-7856. \nSingles and Married Couples are Welcome.
URL:https://dev.medinaentertainment.com/event/s-a-t-dance-lessons-5-2020-06-16/
LOCATION:Homepage
END:VEVENT
BEGIN:VEVENT
DTSTART;TZID=America/Chicago:20200614T000000
DTEND;TZID=America/Chicago:20200614T235959
DTSTAMP:20260421T234122
CREATED:20200310T112505Z
LAST-MODIFIED:20200310T112505Z
UID:10003650-1592092800-1592179199@dev.medinaentertainment.com
SUMMARY:CANCELLED: Hamel Lions Flea Market
DESCRIPTION:
URL:https://dev.medinaentertainment.com/event/hamel-lions-flea-market-13-2020-06-07-2020-06-14/
LOCATION:Homepage
END:VEVENT
BEGIN:VEVENT
DTSTART;TZID=America/Chicago:20200611T183000
DTEND;TZID=America/Chicago:20200611T203000
DTSTAMP:20260421T234122
CREATED:20200227T105434Z
LAST-MODIFIED:20200227T105434Z
UID:10003563-1591900200-1591907400@dev.medinaentertainment.com
SUMMARY:Psychic Ruth Lordan
DESCRIPTION:
URL:https://dev.medinaentertainment.com/event/psychic-ruth-lordan-22/2020-06-11/
LOCATION:Homepage
END:VEVENT
BEGIN:VEVENT
DTSTART;TZID=America/Chicago:20200611T000000
DTEND;TZID=America/Chicago:20200611T235959
DTSTAMP:20260421T234122
CREATED:20200227T105434Z
LAST-MODIFIED:20200227T105434Z
UID:10003599-1591833600-1591919999@dev.medinaentertainment.com
SUMMARY:CANCELLED: Psychic Ruth Lordan
DESCRIPTION:
URL:https://dev.medinaentertainment.com/event/psychic-ruth-lordan-22-2020-06-11/
LOCATION:Homepage
END:VEVENT
BEGIN:VEVENT
DTSTART;TZID=America/Chicago:20200610T000000
DTEND;TZID=America/Chicago:20200610T235959
DTSTAMP:20260421T234122
CREATED:20200227T105226Z
LAST-MODIFIED:20200227T105226Z
UID:10003528-1591747200-1591833599@dev.medinaentertainment.com
SUMMARY:CANCELLED: Psychic Ruth Lordan
DESCRIPTION:
URL:https://dev.medinaentertainment.com/event/psychic-ruth-lordan-21-2020-06-10/
LOCATION:Homepage
END:VEVENT
BEGIN:VEVENT
DTSTART;TZID=America/Chicago:20200609T193000
DTEND;TZID=America/Chicago:20200609T210000
DTSTAMP:20260421T234122
CREATED:20191221T154503Z
LAST-MODIFIED:20191221T154503Z
UID:10003378-1591731000-1591736400@dev.medinaentertainment.com
SUMMARY:CANCELLED: S.A.T. Dance Lessons
DESCRIPTION:December thru January 2020 not Dec 24 or 31\nTango\n\n\nFebruary thru March 2020\nNightclub 2 step\n\n\nApril thru May 2020\nWestcoast swing\n\n\nJune thru July 2020\nEastcoast swing\n\n\nAugust thru September 2020\nWaltz\n\n\nOctober thru November 2020\nFoxtrot\n\n\nDecember 2020 thru February 2021\nCountry 2 step\n\n\n\nCost $7 for Members and $10 for Non Members. \nFor More Information Call Carol 952-334-9793 or Larry 612-599-7856. \nSingles and Married Couples are Welcome.
URL:https://dev.medinaentertainment.com/event/s-a-t-dance-lessons-5/2020-06-09/
LOCATION:Homepage
END:VEVENT
BEGIN:VEVENT
DTSTART;TZID=America/Chicago:20200609T000000
DTEND;TZID=America/Chicago:20200609T235959
DTSTAMP:20260421T234122
CREATED:20191221T154503Z
LAST-MODIFIED:20191221T154503Z
UID:10003420-1591660800-1591747199@dev.medinaentertainment.com
SUMMARY:CANCELLED: S.A.T. Dance Lessons
DESCRIPTION:December thru January 2020 not Dec 24 or 31\nTango\n\n\nFebruary thru March 2020\nNightclub 2 step\n\n\nApril thru May 2020\nWestcoast swing\n\n\nJune thru July 2020\nEastcoast swing\n\n\nAugust thru September 2020\nWaltz\n\n\nOctober thru November 2020\nFoxtrot\n\n\nDecember 2020 thru February 2021\nCountry 2 step\n\n\n\nCost $7 for Members and $10 for Non Members. \nFor More Information Call Carol 952-334-9793 or Larry 612-599-7856. \nSingles and Married Couples are Welcome.
URL:https://dev.medinaentertainment.com/event/s-a-t-dance-lessons-5-2020-06-09/
LOCATION:Homepage
END:VEVENT
END:VCALENDAR