BEGIN:VCALENDAR
VERSION:2.0
PRODID:-//Default Site Template - ECPv6.0.2//NONSGML v1.0//EN
CALSCALE:GREGORIAN
METHOD:PUBLISH
X-WR-CALNAME:Default Site Template
X-ORIGINAL-URL:https://dev.medinaentertainment.com
X-WR-CALDESC:Events for Default Site Template
REFRESH-INTERVAL;VALUE=DURATION:PT1H
X-Robots-Tag:noindex
X-PUBLISHED-TTL:PT1H
BEGIN:VTIMEZONE
TZID:America/Chicago
BEGIN:DAYLIGHT
TZOFFSETFROM:-0600
TZOFFSETTO:-0500
TZNAME:CDT
DTSTART:20200308T080000
END:DAYLIGHT
BEGIN:STANDARD
TZOFFSETFROM:-0500
TZOFFSETTO:-0600
TZNAME:CST
DTSTART:20201101T070000
END:STANDARD
END:VTIMEZONE
BEGIN:VEVENT
DTSTART;TZID=America/Chicago:20200409T183000
DTEND;TZID=America/Chicago:20200409T203000
DTSTAMP:20260422T203052
CREATED:20200227T105434Z
LAST-MODIFIED:20200227T105434Z
UID:10003554-1586457000-1586464200@dev.medinaentertainment.com
SUMMARY:Psychic Ruth Lordan
DESCRIPTION:
URL:https://dev.medinaentertainment.com/event/psychic-ruth-lordan-22/2020-04-09/
LOCATION:Homepage
END:VEVENT
BEGIN:VEVENT
DTSTART;TZID=America/Chicago:20200409T000000
DTEND;TZID=America/Chicago:20200409T235959
DTSTAMP:20260422T203052
CREATED:20200227T105434Z
LAST-MODIFIED:20200227T105434Z
UID:10003590-1586390400-1586476799@dev.medinaentertainment.com
SUMMARY:CANCELLED: Psychic Ruth Lordan
DESCRIPTION:
URL:https://dev.medinaentertainment.com/event/psychic-ruth-lordan-22-2020-04-09/
LOCATION:Homepage
END:VEVENT
BEGIN:VEVENT
DTSTART;TZID=America/Chicago:20200408T000000
DTEND;TZID=America/Chicago:20200408T235959
DTSTAMP:20260422T203052
CREATED:20200227T105226Z
LAST-MODIFIED:20200227T105226Z
UID:10003519-1586304000-1586390399@dev.medinaentertainment.com
SUMMARY:CANCELLED: Psychic Ruth Lordan
DESCRIPTION:
URL:https://dev.medinaentertainment.com/event/psychic-ruth-lordan-21-2020-04-08/
LOCATION:Homepage
END:VEVENT
BEGIN:VEVENT
DTSTART;TZID=America/Chicago:20200407T193000
DTEND;TZID=America/Chicago:20200407T210000
DTSTAMP:20260422T203052
CREATED:20191221T154503Z
LAST-MODIFIED:20191221T154503Z
UID:10003369-1586287800-1586293200@dev.medinaentertainment.com
SUMMARY:CANCELLED: S.A.T. Dance Lessons
DESCRIPTION:December thru January 2020 not Dec 24 or 31\nTango\n\n\nFebruary thru March 2020\nNightclub 2 step\n\n\nApril thru May 2020\nWestcoast swing\n\n\nJune thru July 2020\nEastcoast swing\n\n\nAugust thru September 2020\nWaltz\n\n\nOctober thru November 2020\nFoxtrot\n\n\nDecember 2020 thru February 2021\nCountry 2 step\n\n\n\nCost $7 for Members and $10 for Non Members. \nFor More Information Call Carol 952-334-9793 or Larry 612-599-7856. \nSingles and Married Couples are Welcome.
URL:https://dev.medinaentertainment.com/event/s-a-t-dance-lessons-5/2020-04-07/
LOCATION:Homepage
END:VEVENT
BEGIN:VEVENT
DTSTART;TZID=America/Chicago:20200407T000000
DTEND;TZID=America/Chicago:20200407T235959
DTSTAMP:20260422T203052
CREATED:20191221T154503Z
LAST-MODIFIED:20191221T154503Z
UID:10003411-1586217600-1586303999@dev.medinaentertainment.com
SUMMARY:CANCELLED: S.A.T. Dance Lessons
DESCRIPTION:December thru January 2020 not Dec 24 or 31\nTango\n\n\nFebruary thru March 2020\nNightclub 2 step\n\n\nApril thru May 2020\nWestcoast swing\n\n\nJune thru July 2020\nEastcoast swing\n\n\nAugust thru September 2020\nWaltz\n\n\nOctober thru November 2020\nFoxtrot\n\n\nDecember 2020 thru February 2021\nCountry 2 step\n\n\n\nCost $7 for Members and $10 for Non Members. \nFor More Information Call Carol 952-334-9793 or Larry 612-599-7856. \nSingles and Married Couples are Welcome.
URL:https://dev.medinaentertainment.com/event/s-a-t-dance-lessons-5-2020-04-07/
LOCATION:Homepage
END:VEVENT
BEGIN:VEVENT
DTSTART;TZID=America/Chicago:20200405T000000
DTEND;TZID=America/Chicago:20200405T235959
DTSTAMP:20260422T203052
CREATED:20200130T120035Z
LAST-MODIFIED:20200130T120035Z
UID:10003500-1586044800-1586131199@dev.medinaentertainment.com
SUMMARY:CANCELLED: Minnesota's Largest Sporting Collectible Show
DESCRIPTION:
URL:https://dev.medinaentertainment.com/event/minnesotas-largest-sporting-collectible-show/
LOCATION:Homepage
END:VEVENT
BEGIN:VEVENT
DTSTART;TZID=America/Chicago:20200404T000000
DTEND;TZID=America/Chicago:20200404T235959
DTSTAMP:20260422T203052
CREATED:20200402T152833Z
LAST-MODIFIED:20200402T152833Z
UID:10003646-1585958400-1586044799@dev.medinaentertainment.com
SUMMARY:TRILOGY has been RESCHEDULED for SAT. OCT 31\, 2020
DESCRIPTION:
URL:https://dev.medinaentertainment.com/event/trilogy-has-been-rescheduled-for-sat-oct-31-2020/
LOCATION:Homepage
END:VEVENT
BEGIN:VEVENT
DTSTART;TZID=America/Chicago:20200403T000000
DTEND;TZID=America/Chicago:20200403T235959
DTSTAMP:20260422T203052
CREATED:20200310T114959Z
LAST-MODIFIED:20200310T114959Z
UID:10003640-1585872000-1585958399@dev.medinaentertainment.com
SUMMARY:CANCELLED: ROCKIN' HOLLYWOODS
DESCRIPTION:
URL:https://dev.medinaentertainment.com/event/rockin-hollywoods-17/
LOCATION:Homepage
END:VEVENT
BEGIN:VEVENT
DTSTART;TZID=America/Chicago:20200402T183000
DTEND;TZID=America/Chicago:20200402T203000
DTSTAMP:20260422T203052
CREATED:20200227T105434Z
LAST-MODIFIED:20200227T105434Z
UID:10003553-1585852200-1585859400@dev.medinaentertainment.com
SUMMARY:Psychic Ruth Lordan
DESCRIPTION:
URL:https://dev.medinaentertainment.com/event/psychic-ruth-lordan-22/2020-04-02/
LOCATION:Homepage
END:VEVENT
BEGIN:VEVENT
DTSTART;TZID=America/Chicago:20200402T000000
DTEND;TZID=America/Chicago:20200402T235959
DTSTAMP:20260422T203052
CREATED:20200227T105434Z
LAST-MODIFIED:20200227T105434Z
UID:10003589-1585785600-1585871999@dev.medinaentertainment.com
SUMMARY:CANCELLED: Psychic Ruth Lordan
DESCRIPTION:
URL:https://dev.medinaentertainment.com/event/psychic-ruth-lordan-22-2020-04-02/
LOCATION:Homepage
END:VEVENT
BEGIN:VEVENT
DTSTART;TZID=America/Chicago:20200401T000000
DTEND;TZID=America/Chicago:20200401T235959
DTSTAMP:20260422T203052
CREATED:20200227T105226Z
LAST-MODIFIED:20200227T105226Z
UID:10003518-1585699200-1585785599@dev.medinaentertainment.com
SUMMARY:CANCELLED: Psychic Ruth Lordan
DESCRIPTION:
URL:https://dev.medinaentertainment.com/event/psychic-ruth-lordan-21-2020-04-01/
LOCATION:Homepage
END:VEVENT
BEGIN:VEVENT
DTSTART;TZID=America/Chicago:20200331T193000
DTEND;TZID=America/Chicago:20200331T210000
DTSTAMP:20260422T203052
CREATED:20191221T154503Z
LAST-MODIFIED:20191221T154503Z
UID:10003410-1585683000-1585688400@dev.medinaentertainment.com
SUMMARY:CANCELLED: S.A.T. Dance Lessons
DESCRIPTION:December thru January 2020 not Dec 24 or 31\nTango\n\n\nFebruary thru March 2020\nNightclub 2 step\n\n\nApril thru May 2020\nWestcoast swing\n\n\nJune thru July 2020\nEastcoast swing\n\n\nAugust thru September 2020\nWaltz\n\n\nOctober thru November 2020\nFoxtrot\n\n\nDecember 2020 thru February 2021\nCountry 2 step\n\n\n\nCost $7 for Members and $10 for Non Members. \nFor More Information Call Carol 952-334-9793 or Larry 612-599-7856. \nSingles and Married Couples are Welcome.
URL:https://dev.medinaentertainment.com/event/s-a-t-dance-lessons-5-2020-03-31/
LOCATION:Homepage
END:VEVENT
BEGIN:VEVENT
DTSTART;TZID=America/Chicago:20200331T193000
DTEND;TZID=America/Chicago:20200331T210000
DTSTAMP:20260422T203052
CREATED:20191221T154503Z
LAST-MODIFIED:20191221T154503Z
UID:10003368-1585683000-1585688400@dev.medinaentertainment.com
SUMMARY:CANCELLED: S.A.T. Dance Lessons
DESCRIPTION:December thru January 2020 not Dec 24 or 31\nTango\n\n\nFebruary thru March 2020\nNightclub 2 step\n\n\nApril thru May 2020\nWestcoast swing\n\n\nJune thru July 2020\nEastcoast swing\n\n\nAugust thru September 2020\nWaltz\n\n\nOctober thru November 2020\nFoxtrot\n\n\nDecember 2020 thru February 2021\nCountry 2 step\n\n\n\nCost $7 for Members and $10 for Non Members. \nFor More Information Call Carol 952-334-9793 or Larry 612-599-7856. \nSingles and Married Couples are Welcome.
URL:https://dev.medinaentertainment.com/event/s-a-t-dance-lessons-5/2020-03-31/
LOCATION:Homepage
END:VEVENT
BEGIN:VEVENT
DTSTART;TZID=America/Chicago:20200326T183000
DTEND;TZID=America/Chicago:20200326T203000
DTSTAMP:20260422T203052
CREATED:20200227T105434Z
LAST-MODIFIED:20200227T105434Z
UID:10003552-1585247400-1585254600@dev.medinaentertainment.com
SUMMARY:Psychic Ruth Lordan
DESCRIPTION:
URL:https://dev.medinaentertainment.com/event/psychic-ruth-lordan-22/2020-03-26/
LOCATION:Homepage
END:VEVENT
BEGIN:VEVENT
DTSTART;TZID=America/Chicago:20200326T080000
DTEND;TZID=America/Chicago:20200326T170000
DTSTAMP:20260422T203052
CREATED:20200326T133900Z
LAST-MODIFIED:20200326T133900Z
UID:10003644-1585209600-1585242000@dev.medinaentertainment.com
SUMMARY:RESCHEDULED: BEATLES vs STONES (No Guest) for FRIDAY\, SEPTEMBER 11\, 2020
DESCRIPTION:
URL:https://dev.medinaentertainment.com/event/rescheduled-beatles-vs-stones-no-guest-for-friday-september-11-2020/
LOCATION:Homepage
END:VEVENT
BEGIN:VEVENT
DTSTART;TZID=America/Chicago:20200326T000000
DTEND;TZID=America/Chicago:20200326T235959
DTSTAMP:20260422T203052
CREATED:20200227T105434Z
LAST-MODIFIED:20200227T105434Z
UID:10003588-1585180800-1585267199@dev.medinaentertainment.com
SUMMARY:CANCELLED: Psychic Ruth Lordan
DESCRIPTION:
URL:https://dev.medinaentertainment.com/event/psychic-ruth-lordan-22-2020-03-26/
LOCATION:Homepage
END:VEVENT
BEGIN:VEVENT
DTSTART;TZID=America/Chicago:20200325T000000
DTEND;TZID=America/Chicago:20200325T235959
DTSTAMP:20260422T203052
CREATED:20200227T105226Z
LAST-MODIFIED:20200227T105226Z
UID:10003517-1585094400-1585180799@dev.medinaentertainment.com
SUMMARY:CANCELLED: Psychic Ruth Lordan
DESCRIPTION:
URL:https://dev.medinaentertainment.com/event/psychic-ruth-lordan-21-2020-03-25/
LOCATION:Homepage
END:VEVENT
BEGIN:VEVENT
DTSTART;TZID=America/Chicago:20200324T193000
DTEND;TZID=America/Chicago:20200324T210000
DTSTAMP:20260422T203052
CREATED:20191221T154503Z
LAST-MODIFIED:20191221T154503Z
UID:10003367-1585078200-1585083600@dev.medinaentertainment.com
SUMMARY:CANCELLED: S.A.T. Dance Lessons
DESCRIPTION:December thru January 2020 not Dec 24 or 31\nTango\n\n\nFebruary thru March 2020\nNightclub 2 step\n\n\nApril thru May 2020\nWestcoast swing\n\n\nJune thru July 2020\nEastcoast swing\n\n\nAugust thru September 2020\nWaltz\n\n\nOctober thru November 2020\nFoxtrot\n\n\nDecember 2020 thru February 2021\nCountry 2 step\n\n\n\nCost $7 for Members and $10 for Non Members. \nFor More Information Call Carol 952-334-9793 or Larry 612-599-7856. \nSingles and Married Couples are Welcome.
URL:https://dev.medinaentertainment.com/event/s-a-t-dance-lessons-5/2020-03-24/
LOCATION:Homepage
END:VEVENT
BEGIN:VEVENT
DTSTART;TZID=America/Chicago:20200324T193000
DTEND;TZID=America/Chicago:20200324T210000
DTSTAMP:20260422T203052
CREATED:20191221T154503Z
LAST-MODIFIED:20191221T154503Z
UID:10003409-1585078200-1585083600@dev.medinaentertainment.com
SUMMARY:CANCELLED: S.A.T. Dance Lessons
DESCRIPTION:December thru January 2020 not Dec 24 or 31\nTango\n\n\nFebruary thru March 2020\nNightclub 2 step\n\n\nApril thru May 2020\nWestcoast swing\n\n\nJune thru July 2020\nEastcoast swing\n\n\nAugust thru September 2020\nWaltz\n\n\nOctober thru November 2020\nFoxtrot\n\n\nDecember 2020 thru February 2021\nCountry 2 step\n\n\n\nCost $7 for Members and $10 for Non Members. \nFor More Information Call Carol 952-334-9793 or Larry 612-599-7856. \nSingles and Married Couples are Welcome.
URL:https://dev.medinaentertainment.com/event/s-a-t-dance-lessons-5-2020-03-24/
LOCATION:Homepage
END:VEVENT
BEGIN:VEVENT
DTSTART;TZID=America/Chicago:20200319T183000
DTEND;TZID=America/Chicago:20200319T203000
DTSTAMP:20260422T203052
CREATED:20200227T105434Z
LAST-MODIFIED:20200227T105434Z
UID:10003551-1584642600-1584649800@dev.medinaentertainment.com
SUMMARY:Psychic Ruth Lordan
DESCRIPTION:
URL:https://dev.medinaentertainment.com/event/psychic-ruth-lordan-22/2020-03-19/
LOCATION:Homepage
END:VEVENT
BEGIN:VEVENT
DTSTART;TZID=America/Chicago:20200319T000000
DTEND;TZID=America/Chicago:20200319T235959
DTSTAMP:20260422T203052
CREATED:20200227T105434Z
LAST-MODIFIED:20200227T105434Z
UID:10003587-1584576000-1584662399@dev.medinaentertainment.com
SUMMARY:CANCELLED: Psychic Ruth Lordan
DESCRIPTION:
URL:https://dev.medinaentertainment.com/event/psychic-ruth-lordan-22-2020-03-19/
LOCATION:Homepage
END:VEVENT
BEGIN:VEVENT
DTSTART;TZID=America/Chicago:20200318T000000
DTEND;TZID=America/Chicago:20200318T235959
DTSTAMP:20260422T203052
CREATED:20200227T105226Z
LAST-MODIFIED:20200227T105226Z
UID:10003516-1584489600-1584575999@dev.medinaentertainment.com
SUMMARY:CANCELLED: Psychic Ruth Lordan
DESCRIPTION:
URL:https://dev.medinaentertainment.com/event/psychic-ruth-lordan-21-2020-03-18/
LOCATION:Homepage
END:VEVENT
BEGIN:VEVENT
DTSTART;TZID=America/Chicago:20200317T193000
DTEND;TZID=America/Chicago:20200317T210000
DTSTAMP:20260422T203052
CREATED:20191221T154503Z
LAST-MODIFIED:20191221T154503Z
UID:10003366-1584473400-1584478800@dev.medinaentertainment.com
SUMMARY:CANCELLED: S.A.T. Dance Lessons
DESCRIPTION:December thru January 2020 not Dec 24 or 31\nTango\n\n\nFebruary thru March 2020\nNightclub 2 step\n\n\nApril thru May 2020\nWestcoast swing\n\n\nJune thru July 2020\nEastcoast swing\n\n\nAugust thru September 2020\nWaltz\n\n\nOctober thru November 2020\nFoxtrot\n\n\nDecember 2020 thru February 2021\nCountry 2 step\n\n\n\nCost $7 for Members and $10 for Non Members. \nFor More Information Call Carol 952-334-9793 or Larry 612-599-7856. \nSingles and Married Couples are Welcome.
URL:https://dev.medinaentertainment.com/event/s-a-t-dance-lessons-5/2020-03-17/
LOCATION:Homepage
END:VEVENT
BEGIN:VEVENT
DTSTART;TZID=America/Chicago:20200317T193000
DTEND;TZID=America/Chicago:20200317T210000
DTSTAMP:20260422T203052
CREATED:20191221T154503Z
LAST-MODIFIED:20191221T154503Z
UID:10003408-1584473400-1584478800@dev.medinaentertainment.com
SUMMARY:CANCELLED: S.A.T. Dance Lessons
DESCRIPTION:December thru January 2020 not Dec 24 or 31\nTango\n\n\nFebruary thru March 2020\nNightclub 2 step\n\n\nApril thru May 2020\nWestcoast swing\n\n\nJune thru July 2020\nEastcoast swing\n\n\nAugust thru September 2020\nWaltz\n\n\nOctober thru November 2020\nFoxtrot\n\n\nDecember 2020 thru February 2021\nCountry 2 step\n\n\n\nCost $7 for Members and $10 for Non Members. \nFor More Information Call Carol 952-334-9793 or Larry 612-599-7856. \nSingles and Married Couples are Welcome.
URL:https://dev.medinaentertainment.com/event/s-a-t-dance-lessons-5-2020-03-17/
LOCATION:Homepage
END:VEVENT
BEGIN:VEVENT
DTSTART;TZID=America/Chicago:20200314T000000
DTEND;TZID=America/Chicago:20200314T235959
DTSTAMP:20260422T203052
CREATED:20200313T185313Z
LAST-MODIFIED:20200313T185313Z
UID:10003641-1584144000-1584230399@dev.medinaentertainment.com
SUMMARY:RESCHEDULED for Fri. July 31\, 2020: Coco Montoya and Ronnie Baker Brooks
DESCRIPTION:Coco Montoya and Ronnie Baker Brooks have been RESCHEDULED for FRIDAY\, JULY 31\, 2020.  If you can go on the new date\, please keep your tickets they will be honored that night.  If you are unable to make the new date we can get you a Refund but make sure you call our Box Office at 763-478-6661 by JULY 1\, 2020.\nThank you!
URL:https://dev.medinaentertainment.com/event/rescheduled-coco-montoya-and-ronnie-baker-brooks/
LOCATION:Homepage
END:VEVENT
BEGIN:VEVENT
DTSTART;TZID=America/Chicago:20200312T183000
DTEND;TZID=America/Chicago:20200312T203000
DTSTAMP:20260422T203052
CREATED:20200227T105434Z
LAST-MODIFIED:20200227T105434Z
UID:10003550-1584037800-1584045000@dev.medinaentertainment.com
SUMMARY:Psychic Ruth Lordan
DESCRIPTION:
URL:https://dev.medinaentertainment.com/event/psychic-ruth-lordan-22/2020-03-12/
LOCATION:Homepage
END:VEVENT
BEGIN:VEVENT
DTSTART;TZID=America/Chicago:20200310T193000
DTEND;TZID=America/Chicago:20200310T210000
DTSTAMP:20260422T203052
CREATED:20191221T154503Z
LAST-MODIFIED:20191221T154503Z
UID:10003365-1583868600-1583874000@dev.medinaentertainment.com
SUMMARY:CANCELLED: S.A.T. Dance Lessons
DESCRIPTION:December thru January 2020 not Dec 24 or 31\nTango\n\n\nFebruary thru March 2020\nNightclub 2 step\n\n\nApril thru May 2020\nWestcoast swing\n\n\nJune thru July 2020\nEastcoast swing\n\n\nAugust thru September 2020\nWaltz\n\n\nOctober thru November 2020\nFoxtrot\n\n\nDecember 2020 thru February 2021\nCountry 2 step\n\n\n\nCost $7 for Members and $10 for Non Members. \nFor More Information Call Carol 952-334-9793 or Larry 612-599-7856. \nSingles and Married Couples are Welcome.
URL:https://dev.medinaentertainment.com/event/s-a-t-dance-lessons-5/2020-03-10/
LOCATION:Homepage
END:VEVENT
BEGIN:VEVENT
DTSTART;TZID=America/Chicago:20200307T190000
DTEND;TZID=America/Chicago:20200307T230000
DTSTAMP:20260422T203052
CREATED:20200211T120657Z
LAST-MODIFIED:20200211T120657Z
UID:10003512-1583607600-1583622000@dev.medinaentertainment.com
SUMMARY:Rockin' Hollywoods
DESCRIPTION:
URL:https://dev.medinaentertainment.com/event/rockin-hollywoods-16/
LOCATION:Homepage
END:VEVENT
BEGIN:VEVENT
DTSTART;TZID=America/Chicago:20200306T193000
DTEND;TZID=America/Chicago:20200306T233000
DTSTAMP:20260422T203052
CREATED:20191130T135014Z
LAST-MODIFIED:20191130T135014Z
UID:10003352-1583523000-1583537400@dev.medinaentertainment.com
SUMMARY:NEAL McCOY with Guest Shalo Lee Band
DESCRIPTION:
URL:https://dev.medinaentertainment.com/event/neal-mccoy-with-guest-shalo-lee-band/
LOCATION:Homepage
END:VEVENT
BEGIN:VEVENT
DTSTART;TZID=America/Chicago:20200305T183000
DTEND;TZID=America/Chicago:20200305T203000
DTSTAMP:20260422T203052
CREATED:20200227T105434Z
LAST-MODIFIED:20200227T105434Z
UID:10003549-1583433000-1583440200@dev.medinaentertainment.com
SUMMARY:Psychic Ruth Lordan
DESCRIPTION:
URL:https://dev.medinaentertainment.com/event/psychic-ruth-lordan-22/2020-03-05/
LOCATION:Homepage
END:VEVENT
END:VCALENDAR