BEGIN:VCALENDAR
VERSION:2.0
PRODID:-//Default Site Template - ECPv6.0.2//NONSGML v1.0//EN
CALSCALE:GREGORIAN
METHOD:PUBLISH
X-WR-CALNAME:Default Site Template
X-ORIGINAL-URL:https://dev.medinaentertainment.com
X-WR-CALDESC:Events for Default Site Template
REFRESH-INTERVAL;VALUE=DURATION:PT1H
X-Robots-Tag:noindex
X-PUBLISHED-TTL:PT1H
BEGIN:VTIMEZONE
TZID:America/Chicago
BEGIN:DAYLIGHT
TZOFFSETFROM:-0600
TZOFFSETTO:-0500
TZNAME:CDT
DTSTART:20190310T080000
END:DAYLIGHT
BEGIN:STANDARD
TZOFFSETFROM:-0500
TZOFFSETTO:-0600
TZNAME:CST
DTSTART:20191103T070000
END:STANDARD
BEGIN:DAYLIGHT
TZOFFSETFROM:-0600
TZOFFSETTO:-0500
TZNAME:CDT
DTSTART:20200308T080000
END:DAYLIGHT
BEGIN:STANDARD
TZOFFSETFROM:-0500
TZOFFSETTO:-0600
TZNAME:CST
DTSTART:20201101T070000
END:STANDARD
END:VTIMEZONE
BEGIN:VEVENT
DTSTART;TZID=America/Chicago:20200206T183000
DTEND;TZID=America/Chicago:20200206T203000
DTSTAMP:20260425T160225
CREATED:20191229T174832Z
LAST-MODIFIED:20191229T174832Z
UID:10003492-1581013800-1581021000@dev.medinaentertainment.com
SUMMARY:Psychic Ruth Lordan
DESCRIPTION:
URL:https://dev.medinaentertainment.com/event/psychic-ruth-lordan-20/2020-02-06/
LOCATION:Homepage
END:VEVENT
BEGIN:VEVENT
DTSTART;TZID=America/Chicago:20200205T183000
DTEND;TZID=America/Chicago:20200205T203000
DTSTAMP:20260425T160225
CREATED:20191229T174556Z
LAST-MODIFIED:20191229T174556Z
UID:10003483-1580927400-1580934600@dev.medinaentertainment.com
SUMMARY:Psychic Ruth Lordan
DESCRIPTION:
URL:https://dev.medinaentertainment.com/event/psychic-ruth-lordan-19/2020-02-05/
LOCATION:Homepage
END:VEVENT
BEGIN:VEVENT
DTSTART;TZID=America/Chicago:20200204T193000
DTEND;TZID=America/Chicago:20200204T210000
DTSTAMP:20260425T160225
CREATED:20191221T154503Z
LAST-MODIFIED:20191221T154503Z
UID:10003360-1580844600-1580850000@dev.medinaentertainment.com
SUMMARY:CANCELLED: S.A.T. Dance Lessons
DESCRIPTION:December thru January 2020 not Dec 24 or 31\nTango\n\n\nFebruary thru March 2020\nNightclub 2 step\n\n\nApril thru May 2020\nWestcoast swing\n\n\nJune thru July 2020\nEastcoast swing\n\n\nAugust thru September 2020\nWaltz\n\n\nOctober thru November 2020\nFoxtrot\n\n\nDecember 2020 thru February 2021\nCountry 2 step\n\n\n\nCost $7 for Members and $10 for Non Members. \nFor More Information Call Carol 952-334-9793 or Larry 612-599-7856. \nSingles and Married Couples are Welcome.
URL:https://dev.medinaentertainment.com/event/s-a-t-dance-lessons-5/2020-02-04/
LOCATION:Homepage
END:VEVENT
BEGIN:VEVENT
DTSTART;TZID=America/Chicago:20200131T193000
DTEND;TZID=America/Chicago:20200131T233000
DTSTAMP:20260425T160225
CREATED:20190830T151114Z
LAST-MODIFIED:20190830T151114Z
UID:10003327-1580499000-1580513400@dev.medinaentertainment.com
SUMMARY:WORLD ACCORDING TO GARTH - A TRIBUTE TO GARTH BROOKS w/Guest Farmer's Daughters
DESCRIPTION:
URL:https://dev.medinaentertainment.com/event/world/
LOCATION:Homepage
END:VEVENT
BEGIN:VEVENT
DTSTART;TZID=America/Chicago:20200130T183000
DTEND;TZID=America/Chicago:20200130T203000
DTSTAMP:20260425T160225
CREATED:20191229T174832Z
LAST-MODIFIED:20191229T174832Z
UID:10003491-1580409000-1580416200@dev.medinaentertainment.com
SUMMARY:Psychic Ruth Lordan
DESCRIPTION:
URL:https://dev.medinaentertainment.com/event/psychic-ruth-lordan-20/2020-01-30/
LOCATION:Homepage
END:VEVENT
BEGIN:VEVENT
DTSTART;TZID=America/Chicago:20200130T000000
DTEND;TZID=America/Chicago:20200130T235959
DTSTAMP:20260425T160225
CREATED:20191229T174832Z
LAST-MODIFIED:20191229T174832Z
UID:10003496-1580342400-1580428799@dev.medinaentertainment.com
SUMMARY:CANCELLED: Psychic Ruth Lordan
DESCRIPTION:
URL:https://dev.medinaentertainment.com/event/psychic-ruth-lordan-20-2020-01-30/
LOCATION:Homepage
END:VEVENT
BEGIN:VEVENT
DTSTART;TZID=America/Chicago:20200129T183000
DTEND;TZID=America/Chicago:20200129T203000
DTSTAMP:20260425T160225
CREATED:20191229T174556Z
LAST-MODIFIED:20191229T174556Z
UID:10003482-1580322600-1580329800@dev.medinaentertainment.com
SUMMARY:Psychic Ruth Lordan
DESCRIPTION:
URL:https://dev.medinaentertainment.com/event/psychic-ruth-lordan-19/2020-01-29/
LOCATION:Homepage
END:VEVENT
BEGIN:VEVENT
DTSTART;TZID=America/Chicago:20200128T193000
DTEND;TZID=America/Chicago:20200128T210000
DTSTAMP:20260425T160225
CREATED:20191221T154503Z
LAST-MODIFIED:20191221T154503Z
UID:10003359-1580239800-1580245200@dev.medinaentertainment.com
SUMMARY:CANCELLED: S.A.T. Dance Lessons
DESCRIPTION:December thru January 2020 not Dec 24 or 31\nTango\n\n\nFebruary thru March 2020\nNightclub 2 step\n\n\nApril thru May 2020\nWestcoast swing\n\n\nJune thru July 2020\nEastcoast swing\n\n\nAugust thru September 2020\nWaltz\n\n\nOctober thru November 2020\nFoxtrot\n\n\nDecember 2020 thru February 2021\nCountry 2 step\n\n\n\nCost $7 for Members and $10 for Non Members. \nFor More Information Call Carol 952-334-9793 or Larry 612-599-7856. \nSingles and Married Couples are Welcome.
URL:https://dev.medinaentertainment.com/event/s-a-t-dance-lessons-5/2020-01-28/
LOCATION:Homepage
END:VEVENT
BEGIN:VEVENT
DTSTART;TZID=America/Chicago:20200125T183000
DTEND;TZID=America/Chicago:20200125T233000
DTSTAMP:20260425T160225
CREATED:20191116T204029Z
LAST-MODIFIED:20191116T204029Z
UID:10003344-1579977000-1579995000@dev.medinaentertainment.com
SUMMARY:BOB FM 7th Annual Listener Appreciation Party with Dayna Koehn\, Sailor Jerri & The Plott Hounds
DESCRIPTION:
URL:https://dev.medinaentertainment.com/event/bob-fm/
LOCATION:Homepage
END:VEVENT
BEGIN:VEVENT
DTSTART;TZID=America/Chicago:20200123T183000
DTEND;TZID=America/Chicago:20200123T203000
DTSTAMP:20260425T160225
CREATED:20191229T174832Z
LAST-MODIFIED:20191229T174832Z
UID:10003490-1579804200-1579811400@dev.medinaentertainment.com
SUMMARY:Psychic Ruth Lordan
DESCRIPTION:
URL:https://dev.medinaentertainment.com/event/psychic-ruth-lordan-20/2020-01-23/
LOCATION:Homepage
END:VEVENT
BEGIN:VEVENT
DTSTART;TZID=America/Chicago:20200122T183000
DTEND;TZID=America/Chicago:20200122T203000
DTSTAMP:20260425T160225
CREATED:20191229T174556Z
LAST-MODIFIED:20191229T174556Z
UID:10003481-1579717800-1579725000@dev.medinaentertainment.com
SUMMARY:Psychic Ruth Lordan
DESCRIPTION:
URL:https://dev.medinaentertainment.com/event/psychic-ruth-lordan-19/2020-01-22/
LOCATION:Homepage
END:VEVENT
BEGIN:VEVENT
DTSTART;TZID=America/Chicago:20200121T193000
DTEND;TZID=America/Chicago:20200121T210000
DTSTAMP:20260425T160225
CREATED:20191221T154503Z
LAST-MODIFIED:20191221T154503Z
UID:10003358-1579635000-1579640400@dev.medinaentertainment.com
SUMMARY:CANCELLED: S.A.T. Dance Lessons
DESCRIPTION:December thru January 2020 not Dec 24 or 31\nTango\n\n\nFebruary thru March 2020\nNightclub 2 step\n\n\nApril thru May 2020\nWestcoast swing\n\n\nJune thru July 2020\nEastcoast swing\n\n\nAugust thru September 2020\nWaltz\n\n\nOctober thru November 2020\nFoxtrot\n\n\nDecember 2020 thru February 2021\nCountry 2 step\n\n\n\nCost $7 for Members and $10 for Non Members. \nFor More Information Call Carol 952-334-9793 or Larry 612-599-7856. \nSingles and Married Couples are Welcome.
URL:https://dev.medinaentertainment.com/event/s-a-t-dance-lessons-5/2020-01-21/
LOCATION:Homepage
END:VEVENT
BEGIN:VEVENT
DTSTART;TZID=America/Chicago:20200118T120000
DTEND;TZID=America/Chicago:20200118T150000
DTSTAMP:20260425T160225
CREATED:20191011T130732Z
LAST-MODIFIED:20191011T130732Z
UID:10003334-1579348800-1579359600@dev.medinaentertainment.com
SUMMARY:FUNKY BREW MEDINA - BEER FESTIVAL
DESCRIPTION:
URL:https://dev.medinaentertainment.com/event/funky-brew-medina-beer-festival-2/
LOCATION:Homepage
END:VEVENT
BEGIN:VEVENT
DTSTART;TZID=America/Chicago:20200116T183000
DTEND;TZID=America/Chicago:20200116T203000
DTSTAMP:20260425T160225
CREATED:20191229T174832Z
LAST-MODIFIED:20191229T174832Z
UID:10003489-1579199400-1579206600@dev.medinaentertainment.com
SUMMARY:Psychic Ruth Lordan
DESCRIPTION:
URL:https://dev.medinaentertainment.com/event/psychic-ruth-lordan-20/2020-01-16/
LOCATION:Homepage
END:VEVENT
BEGIN:VEVENT
DTSTART;TZID=America/Chicago:20200115T183000
DTEND;TZID=America/Chicago:20200115T203000
DTSTAMP:20260425T160225
CREATED:20191229T174556Z
LAST-MODIFIED:20191229T174556Z
UID:10003480-1579113000-1579120200@dev.medinaentertainment.com
SUMMARY:Psychic Ruth Lordan
DESCRIPTION:
URL:https://dev.medinaentertainment.com/event/psychic-ruth-lordan-19/2020-01-15/
LOCATION:Homepage
END:VEVENT
BEGIN:VEVENT
DTSTART;TZID=America/Chicago:20200114T193000
DTEND;TZID=America/Chicago:20200114T210000
DTSTAMP:20260425T160225
CREATED:20191221T154503Z
LAST-MODIFIED:20191221T154503Z
UID:10003357-1579030200-1579035600@dev.medinaentertainment.com
SUMMARY:CANCELLED: S.A.T. Dance Lessons
DESCRIPTION:December thru January 2020 not Dec 24 or 31\nTango\n\n\nFebruary thru March 2020\nNightclub 2 step\n\n\nApril thru May 2020\nWestcoast swing\n\n\nJune thru July 2020\nEastcoast swing\n\n\nAugust thru September 2020\nWaltz\n\n\nOctober thru November 2020\nFoxtrot\n\n\nDecember 2020 thru February 2021\nCountry 2 step\n\n\n\nCost $7 for Members and $10 for Non Members. \nFor More Information Call Carol 952-334-9793 or Larry 612-599-7856. \nSingles and Married Couples are Welcome.
URL:https://dev.medinaentertainment.com/event/s-a-t-dance-lessons-5/2020-01-14/
LOCATION:Homepage
END:VEVENT
BEGIN:VEVENT
DTSTART;TZID=America/Chicago:20200111T193000
DTEND;TZID=America/Chicago:20200111T233000
DTSTAMP:20260425T160225
CREATED:20191114T140134Z
LAST-MODIFIED:20191114T140134Z
UID:10003341-1578771000-1578785400@dev.medinaentertainment.com
SUMMARY:TYLER FARR with Guest Shane Martin
DESCRIPTION:
URL:https://dev.medinaentertainment.com/event/tyler-farr-with-guest-shane-martin/
LOCATION:Homepage
END:VEVENT
BEGIN:VEVENT
DTSTART;TZID=America/Chicago:20200109T183000
DTEND;TZID=America/Chicago:20200109T220000
DTSTAMP:20260425T160225
CREATED:20191121T145341Z
LAST-MODIFIED:20191121T145341Z
UID:10003347-1578594600-1578607200@dev.medinaentertainment.com
SUMMARY:RUSSIAN TRIVIA
DESCRIPTION:For More Information Call Viktoriya 952-846-9128\n$20 per Person\nBar Opens 6:30pm\nTrivia Starts 7:00pm – 10:00pm
URL:https://dev.medinaentertainment.com/event/russian-trivia-3/
LOCATION:Homepage
END:VEVENT
BEGIN:VEVENT
DTSTART;TZID=America/Chicago:20200109T183000
DTEND;TZID=America/Chicago:20200109T203000
DTSTAMP:20260425T160225
CREATED:20191229T174832Z
LAST-MODIFIED:20191229T174832Z
UID:10003488-1578594600-1578601800@dev.medinaentertainment.com
SUMMARY:Psychic Ruth Lordan
DESCRIPTION:
URL:https://dev.medinaentertainment.com/event/psychic-ruth-lordan-20/2020-01-09/
LOCATION:Homepage
END:VEVENT
BEGIN:VEVENT
DTSTART;TZID=America/Chicago:20200108T183000
DTEND;TZID=America/Chicago:20200108T203000
DTSTAMP:20260425T160225
CREATED:20191229T174556Z
LAST-MODIFIED:20191229T174556Z
UID:10003479-1578508200-1578515400@dev.medinaentertainment.com
SUMMARY:Psychic Ruth Lordan
DESCRIPTION:
URL:https://dev.medinaentertainment.com/event/psychic-ruth-lordan-19/2020-01-08/
LOCATION:Homepage
END:VEVENT
BEGIN:VEVENT
DTSTART;TZID=America/Chicago:20200107T193000
DTEND;TZID=America/Chicago:20200107T210000
DTSTAMP:20260425T160225
CREATED:20191221T154503Z
LAST-MODIFIED:20191221T154503Z
UID:10003356-1578425400-1578430800@dev.medinaentertainment.com
SUMMARY:CANCELLED: S.A.T. Dance Lessons
DESCRIPTION:December thru January 2020 not Dec 24 or 31\nTango\n\n\nFebruary thru March 2020\nNightclub 2 step\n\n\nApril thru May 2020\nWestcoast swing\n\n\nJune thru July 2020\nEastcoast swing\n\n\nAugust thru September 2020\nWaltz\n\n\nOctober thru November 2020\nFoxtrot\n\n\nDecember 2020 thru February 2021\nCountry 2 step\n\n\n\nCost $7 for Members and $10 for Non Members. \nFor More Information Call Carol 952-334-9793 or Larry 612-599-7856. \nSingles and Married Couples are Welcome.
URL:https://dev.medinaentertainment.com/event/s-a-t-dance-lessons-5/2020-01-07/
LOCATION:Homepage
END:VEVENT
BEGIN:VEVENT
DTSTART;TZID=America/Chicago:20200105T140000
DTEND;TZID=America/Chicago:20200105T160000
DTSTAMP:20260425T160225
CREATED:20191121T145745Z
LAST-MODIFIED:20191121T145745Z
UID:10003348-1578232800-1578240000@dev.medinaentertainment.com
SUMMARY:KIDS TRIVIA
DESCRIPTION:For More Information Call Viktoriya 952-846-9128\n2:00pm – 4:00pm
URL:https://dev.medinaentertainment.com/event/kids-trivia/
LOCATION:Homepage
END:VEVENT
BEGIN:VEVENT
DTSTART;TZID=America/Chicago:20200102T183000
DTEND;TZID=America/Chicago:20200102T203000
DTSTAMP:20260425T160225
CREATED:20191229T174832Z
LAST-MODIFIED:20191229T174832Z
UID:10003487-1577989800-1577997000@dev.medinaentertainment.com
SUMMARY:Psychic Ruth Lordan
DESCRIPTION:
URL:https://dev.medinaentertainment.com/event/psychic-ruth-lordan-20/2020-01-02/
LOCATION:Homepage
END:VEVENT
BEGIN:VEVENT
DTSTART;TZID=America/Chicago:20200101T183000
DTEND;TZID=America/Chicago:20200101T203000
DTSTAMP:20260425T160225
CREATED:20191229T174556Z
LAST-MODIFIED:20191229T174556Z
UID:10003478-1577903400-1577910600@dev.medinaentertainment.com
SUMMARY:Psychic Ruth Lordan
DESCRIPTION:
URL:https://dev.medinaentertainment.com/event/psychic-ruth-lordan-19/2020-01-01/
LOCATION:Homepage
END:VEVENT
BEGIN:VEVENT
DTSTART;TZID=America/Chicago:20191231T190000
DTEND;TZID=America/Chicago:20191231T233000
DTSTAMP:20260425T160225
CREATED:20190808T125546Z
LAST-MODIFIED:20190808T125546Z
UID:10003323-1577818800-1577835000@dev.medinaentertainment.com
SUMMARY:N.Y.E. with HAIRBALL w/Guest Free Fallin: Tribute to Tom Petty
DESCRIPTION:
URL:https://dev.medinaentertainment.com/event/hairball/
LOCATION:Homepage
END:VEVENT
BEGIN:VEVENT
DTSTART;TZID=America/Chicago:20191228T193000
DTEND;TZID=America/Chicago:20191228T233000
DTSTAMP:20260425T160225
CREATED:20190803T145715Z
LAST-MODIFIED:20190803T145715Z
UID:10003322-1577561400-1577575800@dev.medinaentertainment.com
SUMMARY:GEAR DADDIES with Guest Chris Kroeze from The Voice
DESCRIPTION:
URL:https://dev.medinaentertainment.com/event/gear-daddies-with-guest-chris-kroeze/
LOCATION:Homepage
END:VEVENT
BEGIN:VEVENT
DTSTART;TZID=America/Chicago:20191226T183000
DTEND;TZID=America/Chicago:20191226T203000
DTSTAMP:20260425T160225
CREATED:20191221T152629Z
LAST-MODIFIED:20191221T152629Z
UID:10003355-1577385000-1577392200@dev.medinaentertainment.com
SUMMARY:Psychic Ruth Lordan
DESCRIPTION:
URL:https://dev.medinaentertainment.com/event/psychic-ruth-lordan-18/
LOCATION:Homepage
END:VEVENT
BEGIN:VEVENT
DTSTART;TZID=America/Chicago:20191225T000000
DTEND;TZID=America/Chicago:20191225T235959
DTSTAMP:20260425T160225
CREATED:20181103T132626Z
LAST-MODIFIED:20181103T132626Z
UID:10003211-1577232000-1577318399@dev.medinaentertainment.com
SUMMARY:CLOSED for the Holiday
DESCRIPTION:
URL:https://dev.medinaentertainment.com/event/closed-for-the-holiday-15/
LOCATION:Homepage
END:VEVENT
BEGIN:VEVENT
DTSTART;TZID=America/Chicago:20191224T000000
DTEND;TZID=America/Chicago:20191224T235959
DTSTAMP:20260425T160225
CREATED:20181103T132553Z
LAST-MODIFIED:20181103T132553Z
UID:10003210-1577145600-1577231999@dev.medinaentertainment.com
SUMMARY:CLOSED for the Holiday
DESCRIPTION:
URL:https://dev.medinaentertainment.com/event/closed-for-the-holiday-14/
LOCATION:Homepage
END:VEVENT
BEGIN:VEVENT
DTSTART;TZID=America/Chicago:20191221T190000
DTEND;TZID=America/Chicago:20191221T233000
DTSTAMP:20260425T160225
CREATED:20191203T132326Z
LAST-MODIFIED:20191203T132326Z
UID:10003353-1576954800-1576971000@dev.medinaentertainment.com
SUMMARY:ROCKIN' HOLLYWOODS
DESCRIPTION:
URL:https://dev.medinaentertainment.com/event/rockin-hollywoods-15/
LOCATION:Homepage
END:VEVENT
END:VCALENDAR